BEGIN:VCALENDAR
VERSION:2.0
PRODID:-//IG OMa - ECPv6.15.20//NONSGML v1.0//EN
CALSCALE:GREGORIAN
METHOD:PUBLISH
X-WR-CALNAME:IG OMa
X-ORIGINAL-URL:https://www.ig-oma.de
X-WR-CALDESC:Veranstaltungen für IG OMa
REFRESH-INTERVAL;VALUE=DURATION:PT1H
X-Robots-Tag:noindex
X-PUBLISHED-TTL:PT1H
BEGIN:VTIMEZONE
TZID:Europe/Berlin
BEGIN:DAYLIGHT
TZOFFSETFROM:+0100
TZOFFSETTO:+0200
TZNAME:CEST
DTSTART:20250330T010000
END:DAYLIGHT
BEGIN:STANDARD
TZOFFSETFROM:+0200
TZOFFSETTO:+0100
TZNAME:CET
DTSTART:20251026T010000
END:STANDARD
BEGIN:DAYLIGHT
TZOFFSETFROM:+0100
TZOFFSETTO:+0200
TZNAME:CEST
DTSTART:20260329T010000
END:DAYLIGHT
BEGIN:STANDARD
TZOFFSETFROM:+0200
TZOFFSETTO:+0100
TZNAME:CET
DTSTART:20261025T010000
END:STANDARD
BEGIN:DAYLIGHT
TZOFFSETFROM:+0100
TZOFFSETTO:+0200
TZNAME:CEST
DTSTART:20270328T010000
END:DAYLIGHT
BEGIN:STANDARD
TZOFFSETFROM:+0200
TZOFFSETTO:+0100
TZNAME:CET
DTSTART:20271031T010000
END:STANDARD
END:VTIMEZONE
BEGIN:VEVENT
DTSTART;TZID=Europe/Berlin:20260426T143000
DTEND;TZID=Europe/Berlin:20260426T173000
DTSTAMP:20260426T023433
CREATED:20240617T114222Z
LAST-MODIFIED:20260329T121957Z
UID:10002292-1777213800-1777224600@www.ig-oma.de
SUMMARY:Sonntags-Kaffee-Fahrten
DESCRIPTION:Süße Köstlichkeiten aus dem „Bordbistro“.\nDer Sonntags-Treffpunkt für Naschkatzen.\nHausgemachte Kuchen & Torten\, leckere Kaffee-Spezialitäten\,\nverschiedene Tee-Angebote & Kaltgetränke.\nIm Winter und bei Regen Im Bahnhof\, im Sommer und bei Sonnenschein Im Bahnhofsgarten
URL:https://www.ig-oma.de/event/sonntags-kaffee-fahrten-46/2026-04-26/
LOCATION:Im Bahnhof\, Oberdorfer Bahnhofstraße 7\, Waltenhofen-Oberdorf\, Bayern\, 87448\, Deutschland
CATEGORIES:Regelmäßige Fahrten
ATTACH;FMTTYPE=image/jpeg:https://www.ig-oma.de/wordpress/wp-content/uploads/2021/02/20180513_144855-e1656587062333.jpg
END:VEVENT
BEGIN:VEVENT
DTSTART;TZID=Europe/Berlin:20260426T190000
DTEND;TZID=Europe/Berlin:20260426T213000
DTSTAMP:20260426T023433
CREATED:20260323T144245Z
LAST-MODIFIED:20260323T144245Z
UID:10004713-1777230000-1777239000@www.ig-oma.de
SUMMARY:Freude am Augenblick
DESCRIPTION:„Freude am Augenblick“ vermittelt eine Ausstellung mit Fotos von Bernhard Beginn\, die am Sonntag\, 26. April\, um 19 Uhr Im Bahnhof eröffnet wird. Die Bilder sind bis zum 21. Mai zu den üblichen Öffnungszeiten im Bahnhof zu sehen.  \nMit der Ausstellung  „Freude am Augenblick“ zeigt ein stiller und genauer Beobachter Fotografien\, die unmittelbar die Einzigartigkeit des Augenblickes widerspiegeln. \nSeit seiner Jugend der Fotografie verbunden\, folgt Bernhard Beginn in seiner Arbeit stets seiner Intuition und richtet seinen Blick auf kleine Gesten\, flüchtige Begegnungen und das feine Spiel von Licht und Moment. Unabhängig von der Vielfältigkeit der Motive\, ob Schwarzweiß- oder Farbfotografien\, ist das eigene berührt sein immer wieder ausschlaggebend für das Entstehen seiner Bilder. \nDie Aufnahmen laden nicht nur ein innezuhalten und hinzuschauen\, sondern auch zum „Schmunzeln“. \nDie öffentliche Vernissage zur Foto-Ausstellung „Freude am Augenblick“ beginnt am Sonntag\, 26. April\, um 19 Uhr. Eintritt frei. Anmeldung unter https://ig-oma.dein-ticket.shop \n 
URL:https://www.ig-oma.de/event/freude-am-augenblick/
LOCATION:Im Bahnhof\, Oberdorfer Bahnhofstraße 7\, Waltenhofen-Oberdorf\, Bayern\, 87448\, Deutschland
CATEGORIES:Kultur am Gleis
ATTACH;FMTTYPE=image/jpeg:https://www.ig-oma.de/wordpress/wp-content/uploads/2026/03/Bild-Quer.jpg
END:VEVENT
END:VCALENDAR