BEGIN:VCALENDAR
VERSION:2.0
PRODID:-//IG OMa - ECPv6.15.20//NONSGML v1.0//EN
CALSCALE:GREGORIAN
METHOD:PUBLISH
X-ORIGINAL-URL:https://www.ig-oma.de
X-WR-CALDESC:Veranstaltungen für IG OMa
REFRESH-INTERVAL;VALUE=DURATION:PT1H
X-Robots-Tag:noindex
X-PUBLISHED-TTL:PT1H
BEGIN:VTIMEZONE
TZID:Europe/Berlin
BEGIN:DAYLIGHT
TZOFFSETFROM:+0100
TZOFFSETTO:+0200
TZNAME:CEST
DTSTART:20230326T010000
END:DAYLIGHT
BEGIN:STANDARD
TZOFFSETFROM:+0200
TZOFFSETTO:+0100
TZNAME:CET
DTSTART:20231029T010000
END:STANDARD
BEGIN:DAYLIGHT
TZOFFSETFROM:+0100
TZOFFSETTO:+0200
TZNAME:CEST
DTSTART:20240331T010000
END:DAYLIGHT
BEGIN:STANDARD
TZOFFSETFROM:+0200
TZOFFSETTO:+0100
TZNAME:CET
DTSTART:20241027T010000
END:STANDARD
BEGIN:DAYLIGHT
TZOFFSETFROM:+0100
TZOFFSETTO:+0200
TZNAME:CEST
DTSTART:20250330T010000
END:DAYLIGHT
BEGIN:STANDARD
TZOFFSETFROM:+0200
TZOFFSETTO:+0100
TZNAME:CET
DTSTART:20251026T010000
END:STANDARD
END:VTIMEZONE
BEGIN:VEVENT
DTSTART;TZID=Europe/Berlin:20240721T110000
DTEND;TZID=Europe/Berlin:20240721T140000
DTSTAMP:20260424T121457
CREATED:20240617T114144Z
LAST-MODIFIED:20240627T122843Z
UID:10000046-1721559600-1721570400@www.ig-oma.de
SUMMARY:Allgäu Swing Bigband
DESCRIPTION:Weißwurstfrühstück mit Swing & Blues\nDie ALLGÄU SWING BIGBAND spielt live und in voller Besetzung auf der viel zu kleinen Bühne im Bahnhofsgarten. Swing Klassiker\, Blues\, Rock\, Pop und vieles mehr. \nDer musikalische Leiter Wolfgang Böck hat wieder einige interessante Titel ausgesucht\, die sich beim größten Teil des Publikums schon als Ohrwürmer festgesetzt haben. Wer kann auch die Melodie von Hawai-5-O je wieder vergessen\, wenn er sie einmal gehört hat? Oder das markante Saxophon Solo aus Baker Street? \nDie Bigband gibt es seit 2009 und hat ihren Sitz in Wiggensbach. In der Bigband spielen Musiker aus verschiedenen Orten im Ober- und Ostallgäu. Sie spielen aus Freude an der Musik zusammen und  arbeiten an  Swing Klassikern von Glenn Miller\, Duke Ellington\, Don Menza\, an Pop- Rock- Bluessongs bis zu Filmmusik und Gesangsnummern der Pointer Sisters. \nUnd zu einem zünftigen Swingfrühschoppen gehört  das leckere Weißwurstfrühstück natürlich dazu. Einen schöneren Start in den Tag kann es nicht geben. \nDer Eintritt ist frei. Um Spenden für die Musiker wird gebeten.\nReservierung ist erforderlich unter www.dein-ticket.shop  \n 
URL:https://www.ig-oma.de/event/kultur-am-gleis-swingfruehschoppen-mit-der-allgaeu-swing-bigband/
LOCATION:Im Bahnhofsgarten\, Oberdorfer Bahnhofstraße 7\, Waltenhofen-Oberdorf\, 87448\, Deutschland
CATEGORIES:Kultur am Gleis
ATTACH;FMTTYPE=image/jpeg:https://www.ig-oma.de/wordpress/wp-content/uploads/2024/06/Foto-Allgaeu-Swing-Big-Band-Wiggensbach-10_2022-768x513-1.jpg
END:VEVENT
END:VCALENDAR