BEGIN:VCALENDAR
VERSION:2.0
PRODID:-//IG OMa - ECPv6.15.20//NONSGML v1.0//EN
CALSCALE:GREGORIAN
METHOD:PUBLISH
X-WR-CALNAME:IG OMa
X-ORIGINAL-URL:https://www.ig-oma.de
X-WR-CALDESC:Veranstaltungen für IG OMa
REFRESH-INTERVAL;VALUE=DURATION:PT1H
X-Robots-Tag:noindex
X-PUBLISHED-TTL:PT1H
BEGIN:VTIMEZONE
TZID:Europe/Berlin
BEGIN:DAYLIGHT
TZOFFSETFROM:+0100
TZOFFSETTO:+0200
TZNAME:CEST
DTSTART:20250330T010000
END:DAYLIGHT
BEGIN:STANDARD
TZOFFSETFROM:+0200
TZOFFSETTO:+0100
TZNAME:CET
DTSTART:20251026T010000
END:STANDARD
BEGIN:DAYLIGHT
TZOFFSETFROM:+0100
TZOFFSETTO:+0200
TZNAME:CEST
DTSTART:20260329T010000
END:DAYLIGHT
BEGIN:STANDARD
TZOFFSETFROM:+0200
TZOFFSETTO:+0100
TZNAME:CET
DTSTART:20261025T010000
END:STANDARD
BEGIN:DAYLIGHT
TZOFFSETFROM:+0100
TZOFFSETTO:+0200
TZNAME:CEST
DTSTART:20270328T010000
END:DAYLIGHT
BEGIN:STANDARD
TZOFFSETFROM:+0200
TZOFFSETTO:+0100
TZNAME:CET
DTSTART:20271031T010000
END:STANDARD
END:VTIMEZONE
BEGIN:VEVENT
DTSTART;TZID=Europe/Berlin:20260725T160000
DTEND;TZID=Europe/Berlin:20260725T190000
DTSTAMP:20260425T232027
CREATED:20260223T181411Z
LAST-MODIFIED:20260223T181411Z
UID:10004648-1784995200-1785006000@www.ig-oma.de
SUMMARY:Der Breitmaulfrosch & seine Freunde
DESCRIPTION:Ein Fabeltier macht Musik! Am Samstag\, 25. Juli gastiert der „Bluatschink“ im Bahnhofsgarten. Ab 16 Uhr besingen hier Toni und Margit Knittel aus dem Lechtal den Breitmaulfrosch & seine Freunde – und bieten mitreißendes Konzerterlebnis für die ganze Familie. \nDer „Bluatschink“ ist ein Fabeltier aus dem Lech\, das angeblich kleine Kinder frisst. Doch Margit & Toni Knittel haben ihn bereits 1990 vom Kinderschreck zum Umweltanwalt umfunktioniert und seither passt dieser„Wasserwolpertinger“ auf den Wildfluss Lech auf. Und er ist mit seinem Namen auch Pate gestanden für das Musikprojekt\, mit dem die beiden Lechtaler seither landauf\, landab großen und kleinen Kindern Freude bereiten. \nSobald das erste Lied des neuen Programms „Der Breitmaulfrosch und seine Freunde“ erklingt\, sind Jung und Alt voll dabei – Mitsingen\, Mitklatschen\, Mitmachen ist angesagt. Schräge Figuren sind in jedem Bluatschink-Programm ein Muss: Da sind Ritter nicht einfach heldenhafte Kämpfer\, sondern auch mal ein bisschen tollpatschig\, da sind Drachen nicht einfach furchteinflößende Monster\, sondern witzig und sie werden zu besten Freunden – und Frösche sind übermütige Lauser\, die es sogar mit dem König der Tiere – dem Löwen – aufnehmen. \nIn vielen Liedern sind Geschichten verpackt\, die zum Nachdenken anregen – und das wirkliche Geheimrezept des Bluatschink-Erfolges ist die Fähigkeit\, diesen pädagogischen Anspruch immer mit einer Riesen-Portion Humor zu würzen und die Unterhaltung nicht zu kurz kommen zu lassen. \nEinlass zum Konzert am Samstag\, 25. Juli\, Im Bahnhofsgarten ist ab 15 Uhr. Eintritt 9 Euro für Kinder\, 12 Euro für Erwachsene. Karten unter https://ig-oma.dein-ticket.shop \n 
URL:https://www.ig-oma.de/event/der-breitmaulfrosch-seine-freunde/
LOCATION:Im Bahnhofsgarten\, Oberdorfer Bahnhofstraße 7\, Waltenhofen-Oberdorf\, 87448\, Deutschland
CATEGORIES:Kultur am Gleis,PlanetAllgäu
ATTACH;FMTTYPE=image/jpeg:https://www.ig-oma.de/wordpress/wp-content/uploads/2026/02/xBMFFreunde_Fotorechte-Kittel.jpg
END:VEVENT
END:VCALENDAR