BEGIN:VCALENDAR
VERSION:2.0
PRODID:-//IG OMa - ECPv6.15.20//NONSGML v1.0//EN
CALSCALE:GREGORIAN
METHOD:PUBLISH
X-ORIGINAL-URL:https://www.ig-oma.de
X-WR-CALDESC:Veranstaltungen für IG OMa
REFRESH-INTERVAL;VALUE=DURATION:PT1H
X-Robots-Tag:noindex
X-PUBLISHED-TTL:PT1H
BEGIN:VTIMEZONE
TZID:Europe/Berlin
BEGIN:DAYLIGHT
TZOFFSETFROM:+0100
TZOFFSETTO:+0200
TZNAME:CEST
DTSTART:20240331T010000
END:DAYLIGHT
BEGIN:STANDARD
TZOFFSETFROM:+0200
TZOFFSETTO:+0100
TZNAME:CET
DTSTART:20241027T010000
END:STANDARD
BEGIN:DAYLIGHT
TZOFFSETFROM:+0100
TZOFFSETTO:+0200
TZNAME:CEST
DTSTART:20250330T010000
END:DAYLIGHT
BEGIN:STANDARD
TZOFFSETFROM:+0200
TZOFFSETTO:+0100
TZNAME:CET
DTSTART:20251026T010000
END:STANDARD
BEGIN:DAYLIGHT
TZOFFSETFROM:+0100
TZOFFSETTO:+0200
TZNAME:CEST
DTSTART:20260329T010000
END:DAYLIGHT
BEGIN:STANDARD
TZOFFSETFROM:+0200
TZOFFSETTO:+0100
TZNAME:CET
DTSTART:20261025T010000
END:STANDARD
END:VTIMEZONE
BEGIN:VEVENT
DTSTART;TZID=Europe/Berlin:20251114T190000
DTEND;TZID=Europe/Berlin:20251114T210000
DTSTAMP:20260420T001723
CREATED:20250924T155322Z
LAST-MODIFIED:20250925T134848Z
UID:10004262-1763146800-1763154000@www.ig-oma.de
SUMMARY:Geschichten\, die das Leben schrieb
DESCRIPTION:Kindheitserinnerungen und Geschichten aus seiner Heimat erzählt der Rottacher Engelbert Buchenberg am Freitag\, 14. November um 19 Uhr Im Bahnhof der IG OMa. \nMit seiner Autobiografie hat sich der gebürtige Allgäuer\, Jahrgang 1959\, einen langgehegten Traum erfüllt. Zunächst arbeitete Engelbert Buchenberg viele Jahre als technischer Zeichner\, später als Altenpfleger. Erst im Ruhestand hatte er endlich die Zeit für ein eigenes Buch. \n„Bertls Geschichten\, die das Leben schrieb“ vermitteln ein liebevolles Bild vom Leben im Allgäu – und darüber hinaus. Der Autor erzählt außerdem von Begegnungen mit geistlichen Würdenträgern\, verrät\, was Allgäuer und Schotten verbindet\, was sich im Jahr 1884 für ein Skandal abgespielt hat und wie ein Mädchen zu Weihnachten von seinem ganz persönlichen Schutzengel gerettet wird. Erlebtes\, Überlegtes und Erzähltes ergibt so ein Werk voll Glaube\, Heimatliebe und Herz. Dazu macht Sebastian Riescher stimmungsvolle Musik mit Saxophon und Akkordeon. \nDie Lesung beginnt um 19 Uhr. Einlass ab 18 Uhr. Anmeldung unter https://ig-oma.dein-ticket.shop. Eintritt frei. Spenden erbeten. Der Erlös geht zugunsten der Aktion „Sternstunden“.
URL:https://www.ig-oma.de/event/geschichten-die-das-leben-schrieb/
LOCATION:Im Bahnhof\, Oberdorfer Bahnhofstraße 7\, Waltenhofen-Oberdorf\, Bayern\, 87448\, Deutschland
CATEGORIES:Kultur am Gleis
ATTACH;FMTTYPE=image/jpeg:https://www.ig-oma.de/wordpress/wp-content/uploads/2025/09/Bertls-Buch-Querformat.jpg
END:VEVENT
END:VCALENDAR