BEGIN:VCALENDAR
VERSION:2.0
PRODID:-//IG OMa - ECPv6.15.20//NONSGML v1.0//EN
CALSCALE:GREGORIAN
METHOD:PUBLISH
X-ORIGINAL-URL:https://www.ig-oma.de
X-WR-CALDESC:Veranstaltungen für IG OMa
REFRESH-INTERVAL;VALUE=DURATION:PT1H
X-Robots-Tag:noindex
X-PUBLISHED-TTL:PT1H
BEGIN:VTIMEZONE
TZID:Europe/Berlin
BEGIN:DAYLIGHT
TZOFFSETFROM:+0100
TZOFFSETTO:+0200
TZNAME:CEST
DTSTART:20240331T010000
END:DAYLIGHT
BEGIN:STANDARD
TZOFFSETFROM:+0200
TZOFFSETTO:+0100
TZNAME:CET
DTSTART:20241027T010000
END:STANDARD
BEGIN:DAYLIGHT
TZOFFSETFROM:+0100
TZOFFSETTO:+0200
TZNAME:CEST
DTSTART:20250330T010000
END:DAYLIGHT
BEGIN:STANDARD
TZOFFSETFROM:+0200
TZOFFSETTO:+0100
TZNAME:CET
DTSTART:20251026T010000
END:STANDARD
BEGIN:DAYLIGHT
TZOFFSETFROM:+0100
TZOFFSETTO:+0200
TZNAME:CEST
DTSTART:20260329T010000
END:DAYLIGHT
BEGIN:STANDARD
TZOFFSETFROM:+0200
TZOFFSETTO:+0100
TZNAME:CET
DTSTART:20261025T010000
END:STANDARD
END:VTIMEZONE
BEGIN:VEVENT
DTSTART;TZID=Europe/Berlin:20250522T153000
DTEND;TZID=Europe/Berlin:20250522T170000
DTSTAMP:20260425T162731
CREATED:20250227T150010Z
LAST-MODIFIED:20250227T150935Z
UID:10003792-1747927800-1747933200@www.ig-oma.de
SUMMARY:LBV-Forschungstag für Kinder
DESCRIPTION:Der Bahnhofsgarten wird zum Labor. \nKinder und Jugendliche aufgepasst: Der Bahnhofsgarten wird zur Forschungsstation. Am Donnerstag\, 22. Mai wird hier von 15.30 bis 17 Uhr alles ganz genau unter die Lupe genommen. Unter der Leitung von Monika Schirutschke vom Landesbund für Vogel- und Naturschutz werden Federn\, Blüten\, Insekten und alles\, was dem Forscherdrang sonst noch in die Quere kommt\, mikroskopiert.  Sieht man den Stachel der Biene? Wieso brennen Brennnessel? Wie kann die Eule lautlos fliegen? Auch Euren eigenen Fragen rund um den Mikrokosmos in der Natur versuchen wir ein Stück näher zu kommen. Dies gelingt am besten\, indem Ihr selbst am Mikroskop arbeitet\, beobachtet und im Team nach Lösungen sucht.  \nDer LBV-Forschungstag ist empfohlen für Kinder ab der 3. Klasse. Treffpunkt im Bahnhofsgarten der IG OMa (Oberdorfer Bahnhofstraße 7\, 87448 Waltenhofen). Eintritt frei. Teilnahme auf Spendenbasis. Anmeldung erforderlich unter https://ig-oma.dein-ticket.shop . Die Anzahl der Teilnehmenden ist begrenzt.
URL:https://www.ig-oma.de/event/lbv-forschungstag-fuer-kinder/
LOCATION:Im Bahnhofsgarten\, Oberdorfer Bahnhofstraße 7\, Waltenhofen-Oberdorf\, 87448\, Deutschland
CATEGORIES:Sonstiges
ATTACH;FMTTYPE=image/png:https://www.ig-oma.de/wordpress/wp-content/uploads/2025/02/LBV-Veranstaltung-22.5.25-Foto-M.-Schirutschke.png
END:VEVENT
END:VCALENDAR