BEGIN:VCALENDAR
VERSION:2.0
PRODID:-//IG OMa - ECPv6.15.20//NONSGML v1.0//EN
CALSCALE:GREGORIAN
METHOD:PUBLISH
X-WR-CALNAME:IG OMa
X-ORIGINAL-URL:https://www.ig-oma.de
X-WR-CALDESC:Veranstaltungen für IG OMa
REFRESH-INTERVAL;VALUE=DURATION:PT1H
X-Robots-Tag:noindex
X-PUBLISHED-TTL:PT1H
BEGIN:VTIMEZONE
TZID:Europe/Berlin
BEGIN:DAYLIGHT
TZOFFSETFROM:+0100
TZOFFSETTO:+0200
TZNAME:CEST
DTSTART:20250330T010000
END:DAYLIGHT
BEGIN:STANDARD
TZOFFSETFROM:+0200
TZOFFSETTO:+0100
TZNAME:CET
DTSTART:20251026T010000
END:STANDARD
BEGIN:DAYLIGHT
TZOFFSETFROM:+0100
TZOFFSETTO:+0200
TZNAME:CEST
DTSTART:20260329T010000
END:DAYLIGHT
BEGIN:STANDARD
TZOFFSETFROM:+0200
TZOFFSETTO:+0100
TZNAME:CET
DTSTART:20261025T010000
END:STANDARD
BEGIN:DAYLIGHT
TZOFFSETFROM:+0100
TZOFFSETTO:+0200
TZNAME:CEST
DTSTART:20270328T010000
END:DAYLIGHT
BEGIN:STANDARD
TZOFFSETFROM:+0200
TZOFFSETTO:+0100
TZNAME:CET
DTSTART:20271031T010000
END:STANDARD
END:VTIMEZONE
BEGIN:VEVENT
DTSTART;TZID=Europe/Berlin:20260308T190000
DTEND;TZID=Europe/Berlin:20260308T220000
DTSTAMP:20260421T114937
CREATED:20251106T174741Z
LAST-MODIFIED:20251106T174759Z
UID:10004310-1772996400-1773007200@www.ig-oma.de
SUMMARY:"But still" mit Morley
DESCRIPTION:Starke Frauenstimmen erklingen zum Weltfrauentag am Sonntag\, 08. März\, um 19 Uhr Im Bahnhof der IG OMa: Das Trio „Morley“ präsentiert hier sein Programm „But still“. Lydia Schiller\, Melissa Muther und Rosa Kremp sorgen für Momente von Magie und Zeitlosigkeit.  \nDiese unverkennbare Magie\, wenn genau die richtigen Köpfe zusammenkommen und alles auf wunderbare Weise harmoniert\, bleibt das wertvollste Merkmal zeitloser Musik. So auch bei Morley. Die organische Leichtigkeit\, mit der ihr mehrstimmiger Harmoniegesang durch die Atmosphäre schwebt\, ist außergewöhnlich. Zwischendurch klingt es fast so\, als würden ihre Stimmen liebevoll Händchen halten. \nDie drei Musikerinnen Lydia Schiller\, Melissa Muther und Rosa Kremp haben einzigartige Stimmen\, die zusammen etwas geradezu Mystisches ergeben. Total mühelos wirkt diese Kombi gleichzeitig – so wie das sein muss\, bei echter Freundschaft – und ist auch auf der Bühne nicht zu übersehen: Immer wieder lächeln die drei Frauen sich an\, schließlich sind sie aufrichtige Fans voneinander. \nVöllig organisch sind MORLEY irgendwann bei ihrem ebenso intimen wie emotional aufgeladenen Folkpop-Sound gelandet. Akustikgitarre\, Ukulele und E-Bass ergänzen sich darin genauso wie die drei Gesangsstimmen\, während die dazugehörigen Songs oft komplexer sind als typischere Folkpop-Lieder. Vor allem durch diese raffinierten Harmonien wird deutlich\, dass alle drei Sängerinnen ursprünglich aus der Jazz-Welt stammen. Morley ist jedoch poppiger und damit Musik\, die jeden berührt. \nEinlass zum Konzertabend am Sonntag\, 08. März ist um 18 Uhr. Eintritt 18 Euro. Karten unter https://ig-oma.dein-ticket.shop  \n 
URL:https://www.ig-oma.de/event/but-still-mit-morley/
LOCATION:Im Bahnhof\, Oberdorfer Bahnhofstraße 7\, Waltenhofen-Oberdorf\, Bayern\, 87448\, Deutschland
CATEGORIES:Kultur am Gleis
ATTACH;FMTTYPE=image/jpeg:https://www.ig-oma.de/wordpress/wp-content/uploads/2025/11/Morley_by_Killian-Amrehn_Queerformat.jpg
END:VEVENT
END:VCALENDAR