BEGIN:VCALENDAR
VERSION:2.0
PRODID:-//IG OMa - ECPv6.15.20//NONSGML v1.0//EN
CALSCALE:GREGORIAN
METHOD:PUBLISH
X-WR-CALNAME:IG OMa
X-ORIGINAL-URL:https://www.ig-oma.de
X-WR-CALDESC:Veranstaltungen für IG OMa
REFRESH-INTERVAL;VALUE=DURATION:PT1H
X-Robots-Tag:noindex
X-PUBLISHED-TTL:PT1H
BEGIN:VTIMEZONE
TZID:Europe/Berlin
BEGIN:DAYLIGHT
TZOFFSETFROM:+0100
TZOFFSETTO:+0200
TZNAME:CEST
DTSTART:20230326T010000
END:DAYLIGHT
BEGIN:STANDARD
TZOFFSETFROM:+0200
TZOFFSETTO:+0100
TZNAME:CET
DTSTART:20231029T010000
END:STANDARD
BEGIN:DAYLIGHT
TZOFFSETFROM:+0100
TZOFFSETTO:+0200
TZNAME:CEST
DTSTART:20240331T010000
END:DAYLIGHT
BEGIN:STANDARD
TZOFFSETFROM:+0200
TZOFFSETTO:+0100
TZNAME:CET
DTSTART:20241027T010000
END:STANDARD
BEGIN:DAYLIGHT
TZOFFSETFROM:+0100
TZOFFSETTO:+0200
TZNAME:CEST
DTSTART:20250330T010000
END:DAYLIGHT
BEGIN:STANDARD
TZOFFSETFROM:+0200
TZOFFSETTO:+0100
TZNAME:CET
DTSTART:20251026T010000
END:STANDARD
BEGIN:DAYLIGHT
TZOFFSETFROM:+0100
TZOFFSETTO:+0200
TZNAME:CEST
DTSTART:20260329T010000
END:DAYLIGHT
BEGIN:STANDARD
TZOFFSETFROM:+0200
TZOFFSETTO:+0100
TZNAME:CET
DTSTART:20261025T010000
END:STANDARD
END:VTIMEZONE
BEGIN:VEVENT
DTSTART;TZID=Europe/Berlin:20250311T140000
DTEND;TZID=Europe/Berlin:20250311T163000
DTSTAMP:20260419T141532
CREATED:20241230T102013Z
LAST-MODIFIED:20241230T102014Z
UID:10003380-1741701600-1741710600@www.ig-oma.de
SUMMARY:Kino für Senioren
DESCRIPTION:„Honig im Kopf“. \nDer Bahnhof wird zum Kinosaal!\nIn Kooperation mit der Gemeinde Waltenhofen und dem Nachbarschaftshilfeverein „Hilfe von Haus zu Haus e.V.“ findet über die Wintermonate bis einschließlich März  jeden zweiten Dienstag im Monat ein Filmnachmittag für Senioren statt. Beginn ist jeweils um 14 Uhr. Der Eintritt ist kostenlos. Anmeldung unter 0151-44996683. \nZum heutigen Film: Besorgt verfolgt die Familie von Niko mit\, wie sein an Alzheimer erkrankter Papa Amandus mehr und mehr seine Erinnerung verliert. Einzig ein Venedigaufenthalt vor einigen Jahrzehnten\, bei dem er seine Frau kennengelernt hatte\, bleibt dem ehemaligen Tierarzt stets lebendig im Gedächtnis. Weil sie fürchtet\, ihr Großvater könnte ins Pflegeheim abgeschoben werden\, buchst die elfjährige Tilda mit Amandus aus und macht sich mit ihm auf den Weg nach Venedig… Ein emotional berührender Film mit einem beeindruckenden Dieter Hallervorden in der Hauptrolle…. \nFür interessierte Besucher\, die den Bahnhof nicht zu Fuß erreichen können\, wird ein Abhol- und Bringdienst mit dem Bürgerbus angeboten. Bitte bestellen unter Telefon 08379-7714 oder 7713.
URL:https://www.ig-oma.de/event/kino-fuer-senioren-2-5/
LOCATION:Im Bahnhof\, Oberdorfer Bahnhofstraße 7\, Waltenhofen-Oberdorf\, Bayern\, 87448\, Deutschland
CATEGORIES:Kultur am Gleis
ATTACH;FMTTYPE=image/jpeg:https://www.ig-oma.de/wordpress/wp-content/uploads/2024/09/cinema-4153289_1280.jpg
END:VEVENT
BEGIN:VEVENT
DTSTART;TZID=Europe/Berlin:20250211T140000
DTEND;TZID=Europe/Berlin:20250211T163000
DTSTAMP:20260419T141532
CREATED:20241230T101557Z
LAST-MODIFIED:20241230T101559Z
UID:10003379-1739282400-1739291400@www.ig-oma.de
SUMMARY:Kino für Senioren
DESCRIPTION:„Chocolat – Ein kleiner Biss genügt“. \nDer Bahnhof wird zum Kinosaal!\nIn Kooperation mit der Gemeinde Waltenhofen und dem Nachbarschaftshilfeverein „Hilfe von Haus zu Haus e.V.“ findet über die Wintermonate bis einschließlich März  jeden zweiten Dienstag im Monat ein Filmnachmittag für Senioren statt. Beginn ist jeweils um 14 Uhr. Der Eintritt ist kostenlos. Anmeldung unter 0151-44996683. \nZum heutigen Film: In einem verschlafenen Provinzstädtchen im Frankreich des Jahres 1959: Die Alltagsroutine des Ortes wird plötzlich unterbrochen durch den unerwarteten Einzug der schönen\, jungen Vianne Rocher und ihrer Tochter Anouk. Vianne eröffnet eine Chocolaterie – und das auch noch mitten in der Fastenzeit.\nTrotz anfänglicher Skepsis können sich die Dorfbewohner der verführerischen Wirkung der süßen Köstlichkeit nicht entziehen – und bald steht das ganze Dorf Kopf… Eine romantische Komödie mit berührenden und tragikomischen Momenten\, die für Toleranz und die Würde des Menschen ebenso wie für Sinnlichkeit und Lebensfreude plädiert… \nFür interessierte Besucher\, die den Bahnhof nicht zu Fuß erreichen können\, wird ein Abhol- und Bringdienst mit dem Bürgerbus angeboten. Bitte bestellen unter Telefon 08379-7714 oder 7713.
URL:https://www.ig-oma.de/event/kino-fuer-senioren-2-4/
LOCATION:Im Bahnhof\, Oberdorfer Bahnhofstraße 7\, Waltenhofen-Oberdorf\, Bayern\, 87448\, Deutschland
CATEGORIES:Kultur am Gleis
ATTACH;FMTTYPE=image/jpeg:https://www.ig-oma.de/wordpress/wp-content/uploads/2024/09/cinema-4153289_1280.jpg
END:VEVENT
BEGIN:VEVENT
DTSTART;TZID=Europe/Berlin:20250114T140000
DTEND;TZID=Europe/Berlin:20250114T163000
DTSTAMP:20260419T141532
CREATED:20241230T101052Z
LAST-MODIFIED:20241230T101053Z
UID:10003378-1736863200-1736872200@www.ig-oma.de
SUMMARY:Kino für Senioren
DESCRIPTION:„In den Schuhen meiner Schwester“\nDer Bahnhof wird zum Kinosaal!\nIn Kooperation mit der Gemeinde Waltenhofen und dem Nachbarschaftshilfeverein „Hilfe von Haus zu Haus e.V.“ findet über die Wintermonate bis einschließlich März  jeden zweiten Dienstag im Monat ein Filmnachmittag für Senioren statt. Beginn ist jeweils um 14 Uhr. Der Eintritt ist kostenlos. Anmeldung unter 0151-44996683. \nZum heutigen Film: Die Schwestern Maggie und Rose haben außer der Schuhgröße 39 scheinbar keine Gemeinsamkeiten. Während die arbeitslose\, flippige Maggie sich für Styling und Partys interessiert\, lebt die unscheinbare Anwältin Rose nur für ihre Arbeit. Als Maggie Hilfe braucht\, nimmt Rose die Schwester widerwillig bei sich auf. Als diese sich nicht nur an ihren Schuhen\, sondern auch noch an ihrem Freund vergreift\, kommt es zum Bruch – und zu völlig ungeahnten Entwicklungen… Ein Film mit  viel Witz und Tiefgang\, Tempo und Kurzweil\, geschliffenen Dialogen und glänzenden Darstellern… \nFür interessierte Besucher\, die den Bahnhof nicht zu Fuß erreichen können\, wird ein Abhol- und Bringdienst mit dem Bürgerbus angeboten. Bitte bestellen unter Telefon 08379-7714 oder 7713.
URL:https://www.ig-oma.de/event/kino-fuer-senioren-2-3/
LOCATION:Im Bahnhof\, Oberdorfer Bahnhofstraße 7\, Waltenhofen-Oberdorf\, Bayern\, 87448\, Deutschland
CATEGORIES:Kultur am Gleis
ATTACH;FMTTYPE=image/jpeg:https://www.ig-oma.de/wordpress/wp-content/uploads/2024/09/cinema-4153289_1280.jpg
END:VEVENT
BEGIN:VEVENT
DTSTART;TZID=Europe/Berlin:20241210T140000
DTEND;TZID=Europe/Berlin:20241210T163000
DTSTAMP:20260419T141532
CREATED:20241022T080357Z
LAST-MODIFIED:20241022T080732Z
UID:10003377-1733839200-1733848200@www.ig-oma.de
SUMMARY:Kino für Senioren - "Das Weihnachtsekel"
DESCRIPTION:Der Bahnhof wird zum Kinosaal!\nIn Kooperation mit der Gemeinde Waltenhofen und dem Nachbarschaftshilfeverein „Hilfe von Haus zu Haus e.V.“ findet über die Wintermonate bis einschließlich März  jeden zweiten Dienstag im Monat ein Filmnachmittag für Senioren statt. Beginn ist jeweils um 14 Uhr. Der Eintritt ist kostenlos. Anmeldung unter 0151-44996683. \nHeute auf dem Programm: „Das Weihnachtsekel“\nUm dem ungeliebten Weihnachtsfest zu entfliehen will sich Robert Lahnstein\, Fernsehmoderator und Menschenhasser\, wie jedes Jahr auf seine abgelegene Berghütte zurückziehen. Doch unterwegs kommt er von der Straße ab und landet mit seinem Geländewagen im dichten Schneetreiben im Graben. Lahnstein kann sich gerade noch in eine Scheune retten\, in der neben Schafen schon sechs andere\, höchst unterschiedliche Menschen Zuflucht vor dem Unwetter gefunden haben. Hier erlebt Lahnstein schließlich eine ganz besondere Art von Weihnachtsfest… \nFür interessierte Besucher\, die den Bahnhof nicht zu Fuß erreichen können\, wird ein Abhol- und Bringdienst mit dem Bürgerbus angeboten. Bitte bestellen unter Telefon 08379-7714 oder 7713.
URL:https://www.ig-oma.de/event/kino-fuer-senioren-4/
LOCATION:Im Bahnhof\, Oberdorfer Bahnhofstraße 7\, Waltenhofen-Oberdorf\, Bayern\, 87448\, Deutschland
CATEGORIES:Kultur am Gleis
ATTACH;FMTTYPE=image/jpeg:https://www.ig-oma.de/wordpress/wp-content/uploads/2024/09/cinema-4153289_1280.jpg
END:VEVENT
BEGIN:VEVENT
DTSTART;TZID=Europe/Berlin:20241112T140000
DTEND;TZID=Europe/Berlin:20241112T163000
DTSTAMP:20260419T141532
CREATED:20241022T075439Z
LAST-MODIFIED:20241022T080133Z
UID:10003376-1731420000-1731429000@www.ig-oma.de
SUMMARY:Kino für Senioren - "Swimming with men"
DESCRIPTION:Der Bahnhof wird zum Kinosaal!\nIn Kooperation mit der Gemeinde Waltenhofen und dem Nachbarschaftshilfeverein „Hilfe von Haus zu Haus e.V.“ findet über die Wintermonate bis einschließlich März  jeden zweiten Dienstag im Monat ein Filmnachmittag für Senioren statt. Beginn ist jeweils um 14 Uhr. Der Eintritt ist kostenlos. Anmeldung unter 0151-44996683. \nHeute auf dem Programm: „Swimming with men“\nEric ist in der Midlife-Crisis. In seinem Leben läuft nichts mehr rund: Seine Frau macht Karriere in der Lokalpolitik\, der pubertierende Sohn entfremdet sich immer mehr von ihm und sein Job als Buchhalter in der Bank langweilt ihn mehr und mehr… Eines Abends bemerkt er bei seinen täglichen Besuchen im Schwimmbad etwas Merkwürdiges: Eine bunt zusammengewürfelte Gruppe Männer übt Synchronschwimmen – und hat Spaß dabei! Und plötzlich ändert sich alles in Erics Leben… \nFür interessierte Besucher\, die den Bahnhof nicht zu Fuß erreichen können\, wird ein Abhol- und Bringdienst mit dem Bürgerbus angeboten. Bitte bestellen unter Telefon 08379-7714 oder 7713.
URL:https://www.ig-oma.de/event/kino-fuer-senioren-3/
LOCATION:Im Bahnhof\, Oberdorfer Bahnhofstraße 7\, Waltenhofen-Oberdorf\, Bayern\, 87448\, Deutschland
CATEGORIES:Kultur am Gleis
ATTACH;FMTTYPE=image/jpeg:https://www.ig-oma.de/wordpress/wp-content/uploads/2024/09/cinema-4153289_1280.jpg
END:VEVENT
END:VCALENDAR