BEGIN:VCALENDAR
VERSION:2.0
PRODID:-//IG OMa - ECPv6.15.20//NONSGML v1.0//EN
CALSCALE:GREGORIAN
METHOD:PUBLISH
X-ORIGINAL-URL:https://www.ig-oma.de
X-WR-CALDESC:Veranstaltungen für IG OMa
REFRESH-INTERVAL;VALUE=DURATION:PT1H
X-Robots-Tag:noindex
X-PUBLISHED-TTL:PT1H
BEGIN:VTIMEZONE
TZID:Europe/Berlin
BEGIN:DAYLIGHT
TZOFFSETFROM:+0100
TZOFFSETTO:+0200
TZNAME:CEST
DTSTART:20250330T010000
END:DAYLIGHT
BEGIN:STANDARD
TZOFFSETFROM:+0200
TZOFFSETTO:+0100
TZNAME:CET
DTSTART:20251026T010000
END:STANDARD
BEGIN:DAYLIGHT
TZOFFSETFROM:+0100
TZOFFSETTO:+0200
TZNAME:CEST
DTSTART:20260329T010000
END:DAYLIGHT
BEGIN:STANDARD
TZOFFSETFROM:+0200
TZOFFSETTO:+0100
TZNAME:CET
DTSTART:20261025T010000
END:STANDARD
BEGIN:DAYLIGHT
TZOFFSETFROM:+0100
TZOFFSETTO:+0200
TZNAME:CEST
DTSTART:20270328T010000
END:DAYLIGHT
BEGIN:STANDARD
TZOFFSETFROM:+0200
TZOFFSETTO:+0100
TZNAME:CET
DTSTART:20271031T010000
END:STANDARD
END:VTIMEZONE
BEGIN:VEVENT
DTSTART;TZID=Europe/Berlin:20260305T150000
DTEND;TZID=Europe/Berlin:20260305T180000
DTSTAMP:20260425T233652
CREATED:20240927T071516Z
LAST-MODIFIED:20251216T100853Z
UID:10000616-1772722800-1772733600@www.ig-oma.de
SUMMARY:Wochenmarkt „Am Bahnhof“
DESCRIPTION:Obst und Gemüse\, Backwaren\, Fisch\, Fleisch\, Wurst\, Käse und Eier\, Honig und Brotaufstriche — vieles bio\, alles regional! Du hast Ideen oder Vorschläge\, unser Sortiment zu erweitern? Schön! Melde Dich unter wochenmarkt@ig-oma.de
URL:https://www.ig-oma.de/event/wochenmarkt-am-bahnhof-2-2/2026-03-05/
LOCATION:Im Bahnhof\, Oberdorfer Bahnhofstraße 7\, Waltenhofen-Oberdorf\, Bayern\, 87448\, Deutschland
CATEGORIES:Regelmäßige Fahrten
ATTACH;FMTTYPE=image/jpeg:https://www.ig-oma.de/wordpress/wp-content/uploads/2024/09/imbahnhof_wochenmarkt_web-teaser_151005-625x417-1.jpg
END:VEVENT
BEGIN:VEVENT
DTSTART;TZID=Europe/Berlin:20260312T150000
DTEND;TZID=Europe/Berlin:20260312T180000
DTSTAMP:20260425T233652
CREATED:20240927T071516Z
LAST-MODIFIED:20251216T100853Z
UID:10000617-1773327600-1773338400@www.ig-oma.de
SUMMARY:Wochenmarkt „Am Bahnhof“
DESCRIPTION:Obst und Gemüse\, Backwaren\, Fisch\, Fleisch\, Wurst\, Käse und Eier\, Honig und Brotaufstriche — vieles bio\, alles regional! Du hast Ideen oder Vorschläge\, unser Sortiment zu erweitern? Schön! Melde Dich unter wochenmarkt@ig-oma.de
URL:https://www.ig-oma.de/event/wochenmarkt-am-bahnhof-2-2/2026-03-12/
LOCATION:Im Bahnhof\, Oberdorfer Bahnhofstraße 7\, Waltenhofen-Oberdorf\, Bayern\, 87448\, Deutschland
CATEGORIES:Regelmäßige Fahrten
ATTACH;FMTTYPE=image/jpeg:https://www.ig-oma.de/wordpress/wp-content/uploads/2024/09/imbahnhof_wochenmarkt_web-teaser_151005-625x417-1.jpg
END:VEVENT
BEGIN:VEVENT
DTSTART;TZID=Europe/Berlin:20260319T150000
DTEND;TZID=Europe/Berlin:20260319T180000
DTSTAMP:20260425T233652
CREATED:20240927T071516Z
LAST-MODIFIED:20251216T100853Z
UID:10000618-1773932400-1773943200@www.ig-oma.de
SUMMARY:Wochenmarkt „Am Bahnhof“
DESCRIPTION:Obst und Gemüse\, Backwaren\, Fisch\, Fleisch\, Wurst\, Käse und Eier\, Honig und Brotaufstriche — vieles bio\, alles regional! Du hast Ideen oder Vorschläge\, unser Sortiment zu erweitern? Schön! Melde Dich unter wochenmarkt@ig-oma.de
URL:https://www.ig-oma.de/event/wochenmarkt-am-bahnhof-2-2/2026-03-19/
LOCATION:Im Bahnhof\, Oberdorfer Bahnhofstraße 7\, Waltenhofen-Oberdorf\, Bayern\, 87448\, Deutschland
CATEGORIES:Regelmäßige Fahrten
ATTACH;FMTTYPE=image/jpeg:https://www.ig-oma.de/wordpress/wp-content/uploads/2024/09/imbahnhof_wochenmarkt_web-teaser_151005-625x417-1.jpg
END:VEVENT
BEGIN:VEVENT
DTSTART;TZID=Europe/Berlin:20260326T150000
DTEND;TZID=Europe/Berlin:20260326T180000
DTSTAMP:20260425T233652
CREATED:20240927T071516Z
LAST-MODIFIED:20251216T100853Z
UID:10000619-1774537200-1774548000@www.ig-oma.de
SUMMARY:Wochenmarkt „Am Bahnhof“
DESCRIPTION:Obst und Gemüse\, Backwaren\, Fisch\, Fleisch\, Wurst\, Käse und Eier\, Honig und Brotaufstriche — vieles bio\, alles regional! Du hast Ideen oder Vorschläge\, unser Sortiment zu erweitern? Schön! Melde Dich unter wochenmarkt@ig-oma.de
URL:https://www.ig-oma.de/event/wochenmarkt-am-bahnhof-2-2/2026-03-26/
LOCATION:Im Bahnhof\, Oberdorfer Bahnhofstraße 7\, Waltenhofen-Oberdorf\, Bayern\, 87448\, Deutschland
CATEGORIES:Regelmäßige Fahrten
ATTACH;FMTTYPE=image/jpeg:https://www.ig-oma.de/wordpress/wp-content/uploads/2024/09/imbahnhof_wochenmarkt_web-teaser_151005-625x417-1.jpg
END:VEVENT
END:VCALENDAR