BEGIN:VCALENDAR
VERSION:2.0
PRODID:-//IG OMa - ECPv6.15.20//NONSGML v1.0//EN
CALSCALE:GREGORIAN
METHOD:PUBLISH
X-WR-CALNAME:IG OMa
X-ORIGINAL-URL:https://www.ig-oma.de
X-WR-CALDESC:Veranstaltungen für IG OMa
REFRESH-INTERVAL;VALUE=DURATION:PT1H
X-Robots-Tag:noindex
X-PUBLISHED-TTL:PT1H
BEGIN:VTIMEZONE
TZID:Europe/Berlin
BEGIN:DAYLIGHT
TZOFFSETFROM:+0100
TZOFFSETTO:+0200
TZNAME:CEST
DTSTART:20250330T010000
END:DAYLIGHT
BEGIN:STANDARD
TZOFFSETFROM:+0200
TZOFFSETTO:+0100
TZNAME:CET
DTSTART:20251026T010000
END:STANDARD
BEGIN:DAYLIGHT
TZOFFSETFROM:+0100
TZOFFSETTO:+0200
TZNAME:CEST
DTSTART:20260329T010000
END:DAYLIGHT
BEGIN:STANDARD
TZOFFSETFROM:+0200
TZOFFSETTO:+0100
TZNAME:CET
DTSTART:20261025T010000
END:STANDARD
BEGIN:DAYLIGHT
TZOFFSETFROM:+0100
TZOFFSETTO:+0200
TZNAME:CEST
DTSTART:20270328T010000
END:DAYLIGHT
BEGIN:STANDARD
TZOFFSETFROM:+0200
TZOFFSETTO:+0100
TZNAME:CET
DTSTART:20271031T010000
END:STANDARD
END:VTIMEZONE
BEGIN:VEVENT
DTSTART;TZID=Europe/Berlin:20260617T190000
DTEND;TZID=Europe/Berlin:20260617T220000
DTSTAMP:20260425T143332
CREATED:20240617T114222Z
LAST-MODIFIED:20240624T151721Z
UID:10002102-1781722800-1781733600@www.ig-oma.de
SUMMARY:Quiz Im Bahnhof
DESCRIPTION: „Die Nacht der Fragen“\nJeden dritten Mittwoch um 19 Uhr\nEs macht Dir Spaß\, Dein (gesundes Halb)Wissen mit dem anderer Leuten zu vergleichen und Du magst gemeinsame Abende mit Freunden? Dann komm zum Quiz Im Bahnhof.\nJeden 3. Mittwoch im Monat laden wir dazu ein. Ihr seid eine Gruppe von maximal 6 Leuten\, gebt Euch einen möglichst originellen Teamnamen\, zahlt pro Person 1 € und schon geht`s los.\nBitte meldet Euch rechtzeitig unter veranstaltungen@ig-oma.de an und reserviert Euren Tisch.
URL:https://www.ig-oma.de/event/quiz-im-bahnhof-die-nacht-der-fragen-11/2026-06-17/
LOCATION:Im Bahnhof\, Oberdorfer Bahnhofstraße 7\, Waltenhofen-Oberdorf\, Bayern\, 87448\, Deutschland
CATEGORIES:Regelmäßige Fahrten
ATTACH;FMTTYPE=image/jpeg:https://www.ig-oma.de/wordpress/wp-content/uploads/2021/10/Einstein-e1725272829169.jpg
END:VEVENT
END:VCALENDAR