BEGIN:VCALENDAR
VERSION:2.0
PRODID:-//IG OMa - ECPv6.15.20//NONSGML v1.0//EN
CALSCALE:GREGORIAN
METHOD:PUBLISH
X-WR-CALNAME:IG OMa
X-ORIGINAL-URL:https://www.ig-oma.de
X-WR-CALDESC:Veranstaltungen für IG OMa
REFRESH-INTERVAL;VALUE=DURATION:PT1H
X-Robots-Tag:noindex
X-PUBLISHED-TTL:PT1H
BEGIN:VTIMEZONE
TZID:Europe/Berlin
BEGIN:DAYLIGHT
TZOFFSETFROM:+0100
TZOFFSETTO:+0200
TZNAME:CEST
DTSTART:20250330T010000
END:DAYLIGHT
BEGIN:STANDARD
TZOFFSETFROM:+0200
TZOFFSETTO:+0100
TZNAME:CET
DTSTART:20251026T010000
END:STANDARD
BEGIN:DAYLIGHT
TZOFFSETFROM:+0100
TZOFFSETTO:+0200
TZNAME:CEST
DTSTART:20260329T010000
END:DAYLIGHT
BEGIN:STANDARD
TZOFFSETFROM:+0200
TZOFFSETTO:+0100
TZNAME:CET
DTSTART:20261025T010000
END:STANDARD
BEGIN:DAYLIGHT
TZOFFSETFROM:+0100
TZOFFSETTO:+0200
TZNAME:CEST
DTSTART:20270328T010000
END:DAYLIGHT
BEGIN:STANDARD
TZOFFSETFROM:+0200
TZOFFSETTO:+0100
TZNAME:CET
DTSTART:20271031T010000
END:STANDARD
END:VTIMEZONE
BEGIN:VEVENT
DTSTART;TZID=Europe/Berlin:20260707T193000
DTEND;TZID=Europe/Berlin:20260707T210000
DTSTAMP:20260419T180024
CREATED:20260217T105757Z
LAST-MODIFIED:20260217T105757Z
UID:10004646-1783452600-1783458000@www.ig-oma.de
SUMMARY:Sommernachts-Serenade
DESCRIPTION:Zu einer Sommernachts-Serenade unter freiem Himmel spielt die Musikkapelle Martinszell am Dienstag\, 7. Juli auf dem Bahnhofsvorplatz auf. Ab 19.30 Uhr präsentieren hier Dirigent Stefan Rietzler und seine Musiker/innen wieder beschwingte und fröhliche Weisen. \nDie IG OMa sorgt für Getränkeausschank und hinreichend Sitzplätze. \nBei schlechtem Wetter wird die Veranstaltung  auf Dienstag\, 14.Juli\, 19.30 Uhr verschoben. \nEintritt frei. Keine Anmeldung erforderlich.  \n 
URL:https://www.ig-oma.de/event/sommernachts-serenade/
LOCATION:Im Bahnhof\, Oberdorfer Bahnhofstraße 7\, Waltenhofen-Oberdorf\, Bayern\, 87448\, Deutschland
CATEGORIES:Sonstiges
ATTACH;FMTTYPE=image/jpeg:https://www.ig-oma.de/wordpress/wp-content/uploads/2026/02/Gemeinschaftsfoto_Musikverein-Martinszell.jpg
END:VEVENT
END:VCALENDAR