BEGIN:VCALENDAR
VERSION:2.0
PRODID:-//IG OMa - ECPv6.15.20//NONSGML v1.0//EN
CALSCALE:GREGORIAN
METHOD:PUBLISH
X-WR-CALNAME:IG OMa
X-ORIGINAL-URL:https://www.ig-oma.de
X-WR-CALDESC:Veranstaltungen für IG OMa
REFRESH-INTERVAL;VALUE=DURATION:PT1H
X-Robots-Tag:noindex
X-PUBLISHED-TTL:PT1H
BEGIN:VTIMEZONE
TZID:Europe/Berlin
BEGIN:DAYLIGHT
TZOFFSETFROM:+0100
TZOFFSETTO:+0200
TZNAME:CEST
DTSTART:20230326T010000
END:DAYLIGHT
BEGIN:STANDARD
TZOFFSETFROM:+0200
TZOFFSETTO:+0100
TZNAME:CET
DTSTART:20231029T010000
END:STANDARD
BEGIN:DAYLIGHT
TZOFFSETFROM:+0100
TZOFFSETTO:+0200
TZNAME:CEST
DTSTART:20240331T010000
END:DAYLIGHT
BEGIN:STANDARD
TZOFFSETFROM:+0200
TZOFFSETTO:+0100
TZNAME:CET
DTSTART:20241027T010000
END:STANDARD
BEGIN:DAYLIGHT
TZOFFSETFROM:+0100
TZOFFSETTO:+0200
TZNAME:CEST
DTSTART:20250330T010000
END:DAYLIGHT
BEGIN:STANDARD
TZOFFSETFROM:+0200
TZOFFSETTO:+0100
TZNAME:CET
DTSTART:20251026T010000
END:STANDARD
END:VTIMEZONE
BEGIN:VEVENT
DTSTART;TZID=Europe/Berlin:20240626T150000
DTEND;TZID=Europe/Berlin:20240626T170000
DTSTAMP:20260424T120747
CREATED:20240617T114222Z
LAST-MODIFIED:20250515T074910Z
UID:10002717-1719414000-1719421200@www.ig-oma.de
SUMMARY:Offene Hand-Werkstatt
DESCRIPTION:Jeden Mittwoch Nachmittag von 15.00 bis 17.00 Uhr.\nTreffpunkt zum gemeinsamen Handarbeiten. \nMit Nähgarn\, Stricknadeln & Häkelwolle entstehen gemeinsam Sachen für den Eigenbedarf oder benötigte Materialien für den Bahnhof.\nEinfach vorbeischauen\, keine Anmeldung nötig.
URL:https://www.ig-oma.de/event/offene-hand-werkstatt-45/
LOCATION:Im Bahnhof\, Oberdorfer Bahnhofstraße 7\, Waltenhofen-Oberdorf\, Bayern\, 87448\, Deutschland
CATEGORIES:Regelmäßige Fahrten
ATTACH;FMTTYPE=image/jpeg:https://www.ig-oma.de/wordpress/wp-content/uploads/2024/06/WhatsApp-Image-2024-06-26-at-16.05.20.jpeg
END:VEVENT
END:VCALENDAR