BEGIN:VCALENDAR
VERSION:2.0
PRODID:-//IG OMa - ECPv6.15.20//NONSGML v1.0//EN
CALSCALE:GREGORIAN
METHOD:PUBLISH
X-WR-CALNAME:IG OMa
X-ORIGINAL-URL:https://www.ig-oma.de
X-WR-CALDESC:Veranstaltungen für IG OMa
REFRESH-INTERVAL;VALUE=DURATION:PT1H
X-Robots-Tag:noindex
X-PUBLISHED-TTL:PT1H
BEGIN:VTIMEZONE
TZID:Europe/Berlin
BEGIN:DAYLIGHT
TZOFFSETFROM:+0100
TZOFFSETTO:+0200
TZNAME:CEST
DTSTART:20260329T010000
END:DAYLIGHT
BEGIN:STANDARD
TZOFFSETFROM:+0200
TZOFFSETTO:+0100
TZNAME:CET
DTSTART:20261025T010000
END:STANDARD
BEGIN:DAYLIGHT
TZOFFSETFROM:+0100
TZOFFSETTO:+0200
TZNAME:CEST
DTSTART:20270328T010000
END:DAYLIGHT
BEGIN:STANDARD
TZOFFSETFROM:+0200
TZOFFSETTO:+0100
TZNAME:CET
DTSTART:20271031T010000
END:STANDARD
BEGIN:DAYLIGHT
TZOFFSETFROM:+0100
TZOFFSETTO:+0200
TZNAME:CEST
DTSTART:20280326T010000
END:DAYLIGHT
BEGIN:STANDARD
TZOFFSETFROM:+0200
TZOFFSETTO:+0100
TZNAME:CET
DTSTART:20281029T010000
END:STANDARD
END:VTIMEZONE
BEGIN:VEVENT
DTSTART;TZID=Europe/Berlin:20270128T150000
DTEND;TZID=Europe/Berlin:20270128T180000
DTSTAMP:20260419T163107
CREATED:20240927T071516Z
LAST-MODIFIED:20251216T100853Z
UID:10000663-1801148400-1801159200@www.ig-oma.de
SUMMARY:Wochenmarkt „Am Bahnhof“
DESCRIPTION:Obst und Gemüse\, Backwaren\, Fisch\, Fleisch\, Wurst\, Käse und Eier\, Honig und Brotaufstriche — vieles bio\, alles regional! Du hast Ideen oder Vorschläge\, unser Sortiment zu erweitern? Schön! Melde Dich unter wochenmarkt@ig-oma.de
URL:https://www.ig-oma.de/event/wochenmarkt-am-bahnhof-2-2/2027-01-28/
LOCATION:Im Bahnhof\, Oberdorfer Bahnhofstraße 7\, Waltenhofen-Oberdorf\, Bayern\, 87448\, Deutschland
CATEGORIES:Regelmäßige Fahrten
ATTACH;FMTTYPE=image/jpeg:https://www.ig-oma.de/wordpress/wp-content/uploads/2024/09/imbahnhof_wochenmarkt_web-teaser_151005-625x417-1.jpg
END:VEVENT
BEGIN:VEVENT
DTSTART;TZID=Europe/Berlin:20270204T150000
DTEND;TZID=Europe/Berlin:20270204T180000
DTSTAMP:20260419T163107
CREATED:20240927T071516Z
LAST-MODIFIED:20251216T100853Z
UID:10000664-1801753200-1801764000@www.ig-oma.de
SUMMARY:Wochenmarkt „Am Bahnhof“
DESCRIPTION:Obst und Gemüse\, Backwaren\, Fisch\, Fleisch\, Wurst\, Käse und Eier\, Honig und Brotaufstriche — vieles bio\, alles regional! Du hast Ideen oder Vorschläge\, unser Sortiment zu erweitern? Schön! Melde Dich unter wochenmarkt@ig-oma.de
URL:https://www.ig-oma.de/event/wochenmarkt-am-bahnhof-2-2/2027-02-04/
LOCATION:Im Bahnhof\, Oberdorfer Bahnhofstraße 7\, Waltenhofen-Oberdorf\, Bayern\, 87448\, Deutschland
CATEGORIES:Regelmäßige Fahrten
ATTACH;FMTTYPE=image/jpeg:https://www.ig-oma.de/wordpress/wp-content/uploads/2024/09/imbahnhof_wochenmarkt_web-teaser_151005-625x417-1.jpg
END:VEVENT
BEGIN:VEVENT
DTSTART;TZID=Europe/Berlin:20270211T150000
DTEND;TZID=Europe/Berlin:20270211T180000
DTSTAMP:20260419T163107
CREATED:20240927T071516Z
LAST-MODIFIED:20251216T100853Z
UID:10000665-1802358000-1802368800@www.ig-oma.de
SUMMARY:Wochenmarkt „Am Bahnhof“
DESCRIPTION:Obst und Gemüse\, Backwaren\, Fisch\, Fleisch\, Wurst\, Käse und Eier\, Honig und Brotaufstriche — vieles bio\, alles regional! Du hast Ideen oder Vorschläge\, unser Sortiment zu erweitern? Schön! Melde Dich unter wochenmarkt@ig-oma.de
URL:https://www.ig-oma.de/event/wochenmarkt-am-bahnhof-2-2/2027-02-11/
LOCATION:Im Bahnhof\, Oberdorfer Bahnhofstraße 7\, Waltenhofen-Oberdorf\, Bayern\, 87448\, Deutschland
CATEGORIES:Regelmäßige Fahrten
ATTACH;FMTTYPE=image/jpeg:https://www.ig-oma.de/wordpress/wp-content/uploads/2024/09/imbahnhof_wochenmarkt_web-teaser_151005-625x417-1.jpg
END:VEVENT
BEGIN:VEVENT
DTSTART;TZID=Europe/Berlin:20270218T150000
DTEND;TZID=Europe/Berlin:20270218T180000
DTSTAMP:20260419T163107
CREATED:20240927T071516Z
LAST-MODIFIED:20251216T100853Z
UID:10000666-1802962800-1802973600@www.ig-oma.de
SUMMARY:Wochenmarkt „Am Bahnhof“
DESCRIPTION:Obst und Gemüse\, Backwaren\, Fisch\, Fleisch\, Wurst\, Käse und Eier\, Honig und Brotaufstriche — vieles bio\, alles regional! Du hast Ideen oder Vorschläge\, unser Sortiment zu erweitern? Schön! Melde Dich unter wochenmarkt@ig-oma.de
URL:https://www.ig-oma.de/event/wochenmarkt-am-bahnhof-2-2/2027-02-18/
LOCATION:Im Bahnhof\, Oberdorfer Bahnhofstraße 7\, Waltenhofen-Oberdorf\, Bayern\, 87448\, Deutschland
CATEGORIES:Regelmäßige Fahrten
ATTACH;FMTTYPE=image/jpeg:https://www.ig-oma.de/wordpress/wp-content/uploads/2024/09/imbahnhof_wochenmarkt_web-teaser_151005-625x417-1.jpg
END:VEVENT
BEGIN:VEVENT
DTSTART;TZID=Europe/Berlin:20270225T150000
DTEND;TZID=Europe/Berlin:20270225T180000
DTSTAMP:20260419T163107
CREATED:20240927T071516Z
LAST-MODIFIED:20251216T100853Z
UID:10000667-1803567600-1803578400@www.ig-oma.de
SUMMARY:Wochenmarkt „Am Bahnhof“
DESCRIPTION:Obst und Gemüse\, Backwaren\, Fisch\, Fleisch\, Wurst\, Käse und Eier\, Honig und Brotaufstriche — vieles bio\, alles regional! Du hast Ideen oder Vorschläge\, unser Sortiment zu erweitern? Schön! Melde Dich unter wochenmarkt@ig-oma.de
URL:https://www.ig-oma.de/event/wochenmarkt-am-bahnhof-2-2/2027-02-25/
LOCATION:Im Bahnhof\, Oberdorfer Bahnhofstraße 7\, Waltenhofen-Oberdorf\, Bayern\, 87448\, Deutschland
CATEGORIES:Regelmäßige Fahrten
ATTACH;FMTTYPE=image/jpeg:https://www.ig-oma.de/wordpress/wp-content/uploads/2024/09/imbahnhof_wochenmarkt_web-teaser_151005-625x417-1.jpg
END:VEVENT
BEGIN:VEVENT
DTSTART;TZID=Europe/Berlin:20270304T150000
DTEND;TZID=Europe/Berlin:20270304T180000
DTSTAMP:20260419T163107
CREATED:20240927T071516Z
LAST-MODIFIED:20251216T100853Z
UID:10000668-1804172400-1804183200@www.ig-oma.de
SUMMARY:Wochenmarkt „Am Bahnhof“
DESCRIPTION:Obst und Gemüse\, Backwaren\, Fisch\, Fleisch\, Wurst\, Käse und Eier\, Honig und Brotaufstriche — vieles bio\, alles regional! Du hast Ideen oder Vorschläge\, unser Sortiment zu erweitern? Schön! Melde Dich unter wochenmarkt@ig-oma.de
URL:https://www.ig-oma.de/event/wochenmarkt-am-bahnhof-2-2/2027-03-04/
LOCATION:Im Bahnhof\, Oberdorfer Bahnhofstraße 7\, Waltenhofen-Oberdorf\, Bayern\, 87448\, Deutschland
CATEGORIES:Regelmäßige Fahrten
ATTACH;FMTTYPE=image/jpeg:https://www.ig-oma.de/wordpress/wp-content/uploads/2024/09/imbahnhof_wochenmarkt_web-teaser_151005-625x417-1.jpg
END:VEVENT
BEGIN:VEVENT
DTSTART;TZID=Europe/Berlin:20270311T150000
DTEND;TZID=Europe/Berlin:20270311T180000
DTSTAMP:20260419T163107
CREATED:20240927T071516Z
LAST-MODIFIED:20251216T100853Z
UID:10000669-1804777200-1804788000@www.ig-oma.de
SUMMARY:Wochenmarkt „Am Bahnhof“
DESCRIPTION:Obst und Gemüse\, Backwaren\, Fisch\, Fleisch\, Wurst\, Käse und Eier\, Honig und Brotaufstriche — vieles bio\, alles regional! Du hast Ideen oder Vorschläge\, unser Sortiment zu erweitern? Schön! Melde Dich unter wochenmarkt@ig-oma.de
URL:https://www.ig-oma.de/event/wochenmarkt-am-bahnhof-2-2/2027-03-11/
LOCATION:Im Bahnhof\, Oberdorfer Bahnhofstraße 7\, Waltenhofen-Oberdorf\, Bayern\, 87448\, Deutschland
CATEGORIES:Regelmäßige Fahrten
ATTACH;FMTTYPE=image/jpeg:https://www.ig-oma.de/wordpress/wp-content/uploads/2024/09/imbahnhof_wochenmarkt_web-teaser_151005-625x417-1.jpg
END:VEVENT
BEGIN:VEVENT
DTSTART;TZID=Europe/Berlin:20270318T150000
DTEND;TZID=Europe/Berlin:20270318T180000
DTSTAMP:20260419T163107
CREATED:20240927T071516Z
LAST-MODIFIED:20251216T100853Z
UID:10000670-1805382000-1805392800@www.ig-oma.de
SUMMARY:Wochenmarkt „Am Bahnhof“
DESCRIPTION:Obst und Gemüse\, Backwaren\, Fisch\, Fleisch\, Wurst\, Käse und Eier\, Honig und Brotaufstriche — vieles bio\, alles regional! Du hast Ideen oder Vorschläge\, unser Sortiment zu erweitern? Schön! Melde Dich unter wochenmarkt@ig-oma.de
URL:https://www.ig-oma.de/event/wochenmarkt-am-bahnhof-2-2/2027-03-18/
LOCATION:Im Bahnhof\, Oberdorfer Bahnhofstraße 7\, Waltenhofen-Oberdorf\, Bayern\, 87448\, Deutschland
CATEGORIES:Regelmäßige Fahrten
ATTACH;FMTTYPE=image/jpeg:https://www.ig-oma.de/wordpress/wp-content/uploads/2024/09/imbahnhof_wochenmarkt_web-teaser_151005-625x417-1.jpg
END:VEVENT
BEGIN:VEVENT
DTSTART;TZID=Europe/Berlin:20270325T150000
DTEND;TZID=Europe/Berlin:20270325T180000
DTSTAMP:20260419T163107
CREATED:20240927T071516Z
LAST-MODIFIED:20251216T100853Z
UID:10000671-1805986800-1805997600@www.ig-oma.de
SUMMARY:Wochenmarkt „Am Bahnhof“
DESCRIPTION:Obst und Gemüse\, Backwaren\, Fisch\, Fleisch\, Wurst\, Käse und Eier\, Honig und Brotaufstriche — vieles bio\, alles regional! Du hast Ideen oder Vorschläge\, unser Sortiment zu erweitern? Schön! Melde Dich unter wochenmarkt@ig-oma.de
URL:https://www.ig-oma.de/event/wochenmarkt-am-bahnhof-2-2/2027-03-25/
LOCATION:Im Bahnhof\, Oberdorfer Bahnhofstraße 7\, Waltenhofen-Oberdorf\, Bayern\, 87448\, Deutschland
CATEGORIES:Regelmäßige Fahrten
ATTACH;FMTTYPE=image/jpeg:https://www.ig-oma.de/wordpress/wp-content/uploads/2024/09/imbahnhof_wochenmarkt_web-teaser_151005-625x417-1.jpg
END:VEVENT
BEGIN:VEVENT
DTSTART;TZID=Europe/Berlin:20270401T150000
DTEND;TZID=Europe/Berlin:20270401T180000
DTSTAMP:20260419T163107
CREATED:20240927T071516Z
LAST-MODIFIED:20251216T100853Z
UID:10000672-1806591600-1806602400@www.ig-oma.de
SUMMARY:Wochenmarkt „Am Bahnhof“
DESCRIPTION:Obst und Gemüse\, Backwaren\, Fisch\, Fleisch\, Wurst\, Käse und Eier\, Honig und Brotaufstriche — vieles bio\, alles regional! Du hast Ideen oder Vorschläge\, unser Sortiment zu erweitern? Schön! Melde Dich unter wochenmarkt@ig-oma.de
URL:https://www.ig-oma.de/event/wochenmarkt-am-bahnhof-2-2/2027-04-01/
LOCATION:Im Bahnhof\, Oberdorfer Bahnhofstraße 7\, Waltenhofen-Oberdorf\, Bayern\, 87448\, Deutschland
CATEGORIES:Regelmäßige Fahrten
ATTACH;FMTTYPE=image/jpeg:https://www.ig-oma.de/wordpress/wp-content/uploads/2024/09/imbahnhof_wochenmarkt_web-teaser_151005-625x417-1.jpg
END:VEVENT
BEGIN:VEVENT
DTSTART;TZID=Europe/Berlin:20270408T150000
DTEND;TZID=Europe/Berlin:20270408T180000
DTSTAMP:20260419T163107
CREATED:20240927T071516Z
LAST-MODIFIED:20251216T100853Z
UID:10000673-1807196400-1807207200@www.ig-oma.de
SUMMARY:Wochenmarkt „Am Bahnhof“
DESCRIPTION:Obst und Gemüse\, Backwaren\, Fisch\, Fleisch\, Wurst\, Käse und Eier\, Honig und Brotaufstriche — vieles bio\, alles regional! Du hast Ideen oder Vorschläge\, unser Sortiment zu erweitern? Schön! Melde Dich unter wochenmarkt@ig-oma.de
URL:https://www.ig-oma.de/event/wochenmarkt-am-bahnhof-2-2/2027-04-08/
LOCATION:Im Bahnhof\, Oberdorfer Bahnhofstraße 7\, Waltenhofen-Oberdorf\, Bayern\, 87448\, Deutschland
CATEGORIES:Regelmäßige Fahrten
ATTACH;FMTTYPE=image/jpeg:https://www.ig-oma.de/wordpress/wp-content/uploads/2024/09/imbahnhof_wochenmarkt_web-teaser_151005-625x417-1.jpg
END:VEVENT
BEGIN:VEVENT
DTSTART;TZID=Europe/Berlin:20270415T150000
DTEND;TZID=Europe/Berlin:20270415T180000
DTSTAMP:20260419T163107
CREATED:20240927T071516Z
LAST-MODIFIED:20251216T100853Z
UID:10000674-1807801200-1807812000@www.ig-oma.de
SUMMARY:Wochenmarkt „Am Bahnhof“
DESCRIPTION:Obst und Gemüse\, Backwaren\, Fisch\, Fleisch\, Wurst\, Käse und Eier\, Honig und Brotaufstriche — vieles bio\, alles regional! Du hast Ideen oder Vorschläge\, unser Sortiment zu erweitern? Schön! Melde Dich unter wochenmarkt@ig-oma.de
URL:https://www.ig-oma.de/event/wochenmarkt-am-bahnhof-2-2/2027-04-15/
LOCATION:Im Bahnhof\, Oberdorfer Bahnhofstraße 7\, Waltenhofen-Oberdorf\, Bayern\, 87448\, Deutschland
CATEGORIES:Regelmäßige Fahrten
ATTACH;FMTTYPE=image/jpeg:https://www.ig-oma.de/wordpress/wp-content/uploads/2024/09/imbahnhof_wochenmarkt_web-teaser_151005-625x417-1.jpg
END:VEVENT
BEGIN:VEVENT
DTSTART;TZID=Europe/Berlin:20270422T150000
DTEND;TZID=Europe/Berlin:20270422T180000
DTSTAMP:20260419T163107
CREATED:20240927T071516Z
LAST-MODIFIED:20251216T100853Z
UID:10000675-1808406000-1808416800@www.ig-oma.de
SUMMARY:Wochenmarkt „Am Bahnhof“
DESCRIPTION:Obst und Gemüse\, Backwaren\, Fisch\, Fleisch\, Wurst\, Käse und Eier\, Honig und Brotaufstriche — vieles bio\, alles regional! Du hast Ideen oder Vorschläge\, unser Sortiment zu erweitern? Schön! Melde Dich unter wochenmarkt@ig-oma.de
URL:https://www.ig-oma.de/event/wochenmarkt-am-bahnhof-2-2/2027-04-22/
LOCATION:Im Bahnhof\, Oberdorfer Bahnhofstraße 7\, Waltenhofen-Oberdorf\, Bayern\, 87448\, Deutschland
CATEGORIES:Regelmäßige Fahrten
ATTACH;FMTTYPE=image/jpeg:https://www.ig-oma.de/wordpress/wp-content/uploads/2024/09/imbahnhof_wochenmarkt_web-teaser_151005-625x417-1.jpg
END:VEVENT
BEGIN:VEVENT
DTSTART;TZID=Europe/Berlin:20270429T150000
DTEND;TZID=Europe/Berlin:20270429T180000
DTSTAMP:20260419T163107
CREATED:20240927T071516Z
LAST-MODIFIED:20251216T100853Z
UID:10000676-1809010800-1809021600@www.ig-oma.de
SUMMARY:Wochenmarkt „Am Bahnhof“
DESCRIPTION:Obst und Gemüse\, Backwaren\, Fisch\, Fleisch\, Wurst\, Käse und Eier\, Honig und Brotaufstriche — vieles bio\, alles regional! Du hast Ideen oder Vorschläge\, unser Sortiment zu erweitern? Schön! Melde Dich unter wochenmarkt@ig-oma.de
URL:https://www.ig-oma.de/event/wochenmarkt-am-bahnhof-2-2/2027-04-29/
LOCATION:Im Bahnhof\, Oberdorfer Bahnhofstraße 7\, Waltenhofen-Oberdorf\, Bayern\, 87448\, Deutschland
CATEGORIES:Regelmäßige Fahrten
ATTACH;FMTTYPE=image/jpeg:https://www.ig-oma.de/wordpress/wp-content/uploads/2024/09/imbahnhof_wochenmarkt_web-teaser_151005-625x417-1.jpg
END:VEVENT
BEGIN:VEVENT
DTSTART;TZID=Europe/Berlin:20270506T150000
DTEND;TZID=Europe/Berlin:20270506T180000
DTSTAMP:20260419T163107
CREATED:20240927T071516Z
LAST-MODIFIED:20251216T100853Z
UID:10000677-1809615600-1809626400@www.ig-oma.de
SUMMARY:Wochenmarkt „Am Bahnhof“
DESCRIPTION:Obst und Gemüse\, Backwaren\, Fisch\, Fleisch\, Wurst\, Käse und Eier\, Honig und Brotaufstriche — vieles bio\, alles regional! Du hast Ideen oder Vorschläge\, unser Sortiment zu erweitern? Schön! Melde Dich unter wochenmarkt@ig-oma.de
URL:https://www.ig-oma.de/event/wochenmarkt-am-bahnhof-2-2/2027-05-06/
LOCATION:Im Bahnhof\, Oberdorfer Bahnhofstraße 7\, Waltenhofen-Oberdorf\, Bayern\, 87448\, Deutschland
CATEGORIES:Regelmäßige Fahrten
ATTACH;FMTTYPE=image/jpeg:https://www.ig-oma.de/wordpress/wp-content/uploads/2024/09/imbahnhof_wochenmarkt_web-teaser_151005-625x417-1.jpg
END:VEVENT
BEGIN:VEVENT
DTSTART;TZID=Europe/Berlin:20270513T150000
DTEND;TZID=Europe/Berlin:20270513T180000
DTSTAMP:20260419T163107
CREATED:20240927T071516Z
LAST-MODIFIED:20251216T100853Z
UID:10000678-1810220400-1810231200@www.ig-oma.de
SUMMARY:Wochenmarkt „Am Bahnhof“
DESCRIPTION:Obst und Gemüse\, Backwaren\, Fisch\, Fleisch\, Wurst\, Käse und Eier\, Honig und Brotaufstriche — vieles bio\, alles regional! Du hast Ideen oder Vorschläge\, unser Sortiment zu erweitern? Schön! Melde Dich unter wochenmarkt@ig-oma.de
URL:https://www.ig-oma.de/event/wochenmarkt-am-bahnhof-2-2/2027-05-13/
LOCATION:Im Bahnhof\, Oberdorfer Bahnhofstraße 7\, Waltenhofen-Oberdorf\, Bayern\, 87448\, Deutschland
CATEGORIES:Regelmäßige Fahrten
ATTACH;FMTTYPE=image/jpeg:https://www.ig-oma.de/wordpress/wp-content/uploads/2024/09/imbahnhof_wochenmarkt_web-teaser_151005-625x417-1.jpg
END:VEVENT
BEGIN:VEVENT
DTSTART;TZID=Europe/Berlin:20270520T150000
DTEND;TZID=Europe/Berlin:20270520T180000
DTSTAMP:20260419T163107
CREATED:20240927T071516Z
LAST-MODIFIED:20251216T100853Z
UID:10000679-1810825200-1810836000@www.ig-oma.de
SUMMARY:Wochenmarkt „Am Bahnhof“
DESCRIPTION:Obst und Gemüse\, Backwaren\, Fisch\, Fleisch\, Wurst\, Käse und Eier\, Honig und Brotaufstriche — vieles bio\, alles regional! Du hast Ideen oder Vorschläge\, unser Sortiment zu erweitern? Schön! Melde Dich unter wochenmarkt@ig-oma.de
URL:https://www.ig-oma.de/event/wochenmarkt-am-bahnhof-2-2/2027-05-20/
LOCATION:Im Bahnhof\, Oberdorfer Bahnhofstraße 7\, Waltenhofen-Oberdorf\, Bayern\, 87448\, Deutschland
CATEGORIES:Regelmäßige Fahrten
ATTACH;FMTTYPE=image/jpeg:https://www.ig-oma.de/wordpress/wp-content/uploads/2024/09/imbahnhof_wochenmarkt_web-teaser_151005-625x417-1.jpg
END:VEVENT
BEGIN:VEVENT
DTSTART;TZID=Europe/Berlin:20270527T150000
DTEND;TZID=Europe/Berlin:20270527T180000
DTSTAMP:20260419T163107
CREATED:20240927T071516Z
LAST-MODIFIED:20251216T100853Z
UID:10000680-1811430000-1811440800@www.ig-oma.de
SUMMARY:Wochenmarkt „Am Bahnhof“
DESCRIPTION:Obst und Gemüse\, Backwaren\, Fisch\, Fleisch\, Wurst\, Käse und Eier\, Honig und Brotaufstriche — vieles bio\, alles regional! Du hast Ideen oder Vorschläge\, unser Sortiment zu erweitern? Schön! Melde Dich unter wochenmarkt@ig-oma.de
URL:https://www.ig-oma.de/event/wochenmarkt-am-bahnhof-2-2/2027-05-27/
LOCATION:Im Bahnhof\, Oberdorfer Bahnhofstraße 7\, Waltenhofen-Oberdorf\, Bayern\, 87448\, Deutschland
CATEGORIES:Regelmäßige Fahrten
ATTACH;FMTTYPE=image/jpeg:https://www.ig-oma.de/wordpress/wp-content/uploads/2024/09/imbahnhof_wochenmarkt_web-teaser_151005-625x417-1.jpg
END:VEVENT
BEGIN:VEVENT
DTSTART;TZID=Europe/Berlin:20270603T150000
DTEND;TZID=Europe/Berlin:20270603T180000
DTSTAMP:20260419T163107
CREATED:20240927T071516Z
LAST-MODIFIED:20251216T100853Z
UID:10000681-1812034800-1812045600@www.ig-oma.de
SUMMARY:Wochenmarkt „Am Bahnhof“
DESCRIPTION:Obst und Gemüse\, Backwaren\, Fisch\, Fleisch\, Wurst\, Käse und Eier\, Honig und Brotaufstriche — vieles bio\, alles regional! Du hast Ideen oder Vorschläge\, unser Sortiment zu erweitern? Schön! Melde Dich unter wochenmarkt@ig-oma.de
URL:https://www.ig-oma.de/event/wochenmarkt-am-bahnhof-2-2/2027-06-03/
LOCATION:Im Bahnhof\, Oberdorfer Bahnhofstraße 7\, Waltenhofen-Oberdorf\, Bayern\, 87448\, Deutschland
CATEGORIES:Regelmäßige Fahrten
ATTACH;FMTTYPE=image/jpeg:https://www.ig-oma.de/wordpress/wp-content/uploads/2024/09/imbahnhof_wochenmarkt_web-teaser_151005-625x417-1.jpg
END:VEVENT
BEGIN:VEVENT
DTSTART;TZID=Europe/Berlin:20270610T150000
DTEND;TZID=Europe/Berlin:20270610T180000
DTSTAMP:20260419T163108
CREATED:20240927T071516Z
LAST-MODIFIED:20251216T100853Z
UID:10000682-1812639600-1812650400@www.ig-oma.de
SUMMARY:Wochenmarkt „Am Bahnhof“
DESCRIPTION:Obst und Gemüse\, Backwaren\, Fisch\, Fleisch\, Wurst\, Käse und Eier\, Honig und Brotaufstriche — vieles bio\, alles regional! Du hast Ideen oder Vorschläge\, unser Sortiment zu erweitern? Schön! Melde Dich unter wochenmarkt@ig-oma.de
URL:https://www.ig-oma.de/event/wochenmarkt-am-bahnhof-2-2/2027-06-10/
LOCATION:Im Bahnhof\, Oberdorfer Bahnhofstraße 7\, Waltenhofen-Oberdorf\, Bayern\, 87448\, Deutschland
CATEGORIES:Regelmäßige Fahrten
ATTACH;FMTTYPE=image/jpeg:https://www.ig-oma.de/wordpress/wp-content/uploads/2024/09/imbahnhof_wochenmarkt_web-teaser_151005-625x417-1.jpg
END:VEVENT
BEGIN:VEVENT
DTSTART;TZID=Europe/Berlin:20270617T150000
DTEND;TZID=Europe/Berlin:20270617T180000
DTSTAMP:20260419T163108
CREATED:20240927T071516Z
LAST-MODIFIED:20251216T100853Z
UID:10000683-1813244400-1813255200@www.ig-oma.de
SUMMARY:Wochenmarkt „Am Bahnhof“
DESCRIPTION:Obst und Gemüse\, Backwaren\, Fisch\, Fleisch\, Wurst\, Käse und Eier\, Honig und Brotaufstriche — vieles bio\, alles regional! Du hast Ideen oder Vorschläge\, unser Sortiment zu erweitern? Schön! Melde Dich unter wochenmarkt@ig-oma.de
URL:https://www.ig-oma.de/event/wochenmarkt-am-bahnhof-2-2/2027-06-17/
LOCATION:Im Bahnhof\, Oberdorfer Bahnhofstraße 7\, Waltenhofen-Oberdorf\, Bayern\, 87448\, Deutschland
CATEGORIES:Regelmäßige Fahrten
ATTACH;FMTTYPE=image/jpeg:https://www.ig-oma.de/wordpress/wp-content/uploads/2024/09/imbahnhof_wochenmarkt_web-teaser_151005-625x417-1.jpg
END:VEVENT
BEGIN:VEVENT
DTSTART;TZID=Europe/Berlin:20270624T150000
DTEND;TZID=Europe/Berlin:20270624T180000
DTSTAMP:20260419T163108
CREATED:20240927T071516Z
LAST-MODIFIED:20251216T100853Z
UID:10000684-1813849200-1813860000@www.ig-oma.de
SUMMARY:Wochenmarkt „Am Bahnhof“
DESCRIPTION:Obst und Gemüse\, Backwaren\, Fisch\, Fleisch\, Wurst\, Käse und Eier\, Honig und Brotaufstriche — vieles bio\, alles regional! Du hast Ideen oder Vorschläge\, unser Sortiment zu erweitern? Schön! Melde Dich unter wochenmarkt@ig-oma.de
URL:https://www.ig-oma.de/event/wochenmarkt-am-bahnhof-2-2/2027-06-24/
LOCATION:Im Bahnhof\, Oberdorfer Bahnhofstraße 7\, Waltenhofen-Oberdorf\, Bayern\, 87448\, Deutschland
CATEGORIES:Regelmäßige Fahrten
ATTACH;FMTTYPE=image/jpeg:https://www.ig-oma.de/wordpress/wp-content/uploads/2024/09/imbahnhof_wochenmarkt_web-teaser_151005-625x417-1.jpg
END:VEVENT
BEGIN:VEVENT
DTSTART;TZID=Europe/Berlin:20270701T150000
DTEND;TZID=Europe/Berlin:20270701T180000
DTSTAMP:20260419T163108
CREATED:20240927T071516Z
LAST-MODIFIED:20251216T100853Z
UID:10000685-1814454000-1814464800@www.ig-oma.de
SUMMARY:Wochenmarkt „Am Bahnhof“
DESCRIPTION:Obst und Gemüse\, Backwaren\, Fisch\, Fleisch\, Wurst\, Käse und Eier\, Honig und Brotaufstriche — vieles bio\, alles regional! Du hast Ideen oder Vorschläge\, unser Sortiment zu erweitern? Schön! Melde Dich unter wochenmarkt@ig-oma.de
URL:https://www.ig-oma.de/event/wochenmarkt-am-bahnhof-2-2/2027-07-01/
LOCATION:Im Bahnhof\, Oberdorfer Bahnhofstraße 7\, Waltenhofen-Oberdorf\, Bayern\, 87448\, Deutschland
CATEGORIES:Regelmäßige Fahrten
ATTACH;FMTTYPE=image/jpeg:https://www.ig-oma.de/wordpress/wp-content/uploads/2024/09/imbahnhof_wochenmarkt_web-teaser_151005-625x417-1.jpg
END:VEVENT
BEGIN:VEVENT
DTSTART;TZID=Europe/Berlin:20270708T150000
DTEND;TZID=Europe/Berlin:20270708T180000
DTSTAMP:20260419T163108
CREATED:20240927T071516Z
LAST-MODIFIED:20251216T100853Z
UID:10000686-1815058800-1815069600@www.ig-oma.de
SUMMARY:Wochenmarkt „Am Bahnhof“
DESCRIPTION:Obst und Gemüse\, Backwaren\, Fisch\, Fleisch\, Wurst\, Käse und Eier\, Honig und Brotaufstriche — vieles bio\, alles regional! Du hast Ideen oder Vorschläge\, unser Sortiment zu erweitern? Schön! Melde Dich unter wochenmarkt@ig-oma.de
URL:https://www.ig-oma.de/event/wochenmarkt-am-bahnhof-2-2/2027-07-08/
LOCATION:Im Bahnhof\, Oberdorfer Bahnhofstraße 7\, Waltenhofen-Oberdorf\, Bayern\, 87448\, Deutschland
CATEGORIES:Regelmäßige Fahrten
ATTACH;FMTTYPE=image/jpeg:https://www.ig-oma.de/wordpress/wp-content/uploads/2024/09/imbahnhof_wochenmarkt_web-teaser_151005-625x417-1.jpg
END:VEVENT
BEGIN:VEVENT
DTSTART;TZID=Europe/Berlin:20270715T150000
DTEND;TZID=Europe/Berlin:20270715T180000
DTSTAMP:20260419T163108
CREATED:20240927T071516Z
LAST-MODIFIED:20251216T100853Z
UID:10000687-1815663600-1815674400@www.ig-oma.de
SUMMARY:Wochenmarkt „Am Bahnhof“
DESCRIPTION:Obst und Gemüse\, Backwaren\, Fisch\, Fleisch\, Wurst\, Käse und Eier\, Honig und Brotaufstriche — vieles bio\, alles regional! Du hast Ideen oder Vorschläge\, unser Sortiment zu erweitern? Schön! Melde Dich unter wochenmarkt@ig-oma.de
URL:https://www.ig-oma.de/event/wochenmarkt-am-bahnhof-2-2/2027-07-15/
LOCATION:Im Bahnhof\, Oberdorfer Bahnhofstraße 7\, Waltenhofen-Oberdorf\, Bayern\, 87448\, Deutschland
CATEGORIES:Regelmäßige Fahrten
ATTACH;FMTTYPE=image/jpeg:https://www.ig-oma.de/wordpress/wp-content/uploads/2024/09/imbahnhof_wochenmarkt_web-teaser_151005-625x417-1.jpg
END:VEVENT
BEGIN:VEVENT
DTSTART;TZID=Europe/Berlin:20270722T150000
DTEND;TZID=Europe/Berlin:20270722T180000
DTSTAMP:20260419T163108
CREATED:20240927T071516Z
LAST-MODIFIED:20251216T100853Z
UID:10000688-1816268400-1816279200@www.ig-oma.de
SUMMARY:Wochenmarkt „Am Bahnhof“
DESCRIPTION:Obst und Gemüse\, Backwaren\, Fisch\, Fleisch\, Wurst\, Käse und Eier\, Honig und Brotaufstriche — vieles bio\, alles regional! Du hast Ideen oder Vorschläge\, unser Sortiment zu erweitern? Schön! Melde Dich unter wochenmarkt@ig-oma.de
URL:https://www.ig-oma.de/event/wochenmarkt-am-bahnhof-2-2/2027-07-22/
LOCATION:Im Bahnhof\, Oberdorfer Bahnhofstraße 7\, Waltenhofen-Oberdorf\, Bayern\, 87448\, Deutschland
CATEGORIES:Regelmäßige Fahrten
ATTACH;FMTTYPE=image/jpeg:https://www.ig-oma.de/wordpress/wp-content/uploads/2024/09/imbahnhof_wochenmarkt_web-teaser_151005-625x417-1.jpg
END:VEVENT
BEGIN:VEVENT
DTSTART;TZID=Europe/Berlin:20270729T150000
DTEND;TZID=Europe/Berlin:20270729T180000
DTSTAMP:20260419T163108
CREATED:20240927T071516Z
LAST-MODIFIED:20251216T100853Z
UID:10000689-1816873200-1816884000@www.ig-oma.de
SUMMARY:Wochenmarkt „Am Bahnhof“
DESCRIPTION:Obst und Gemüse\, Backwaren\, Fisch\, Fleisch\, Wurst\, Käse und Eier\, Honig und Brotaufstriche — vieles bio\, alles regional! Du hast Ideen oder Vorschläge\, unser Sortiment zu erweitern? Schön! Melde Dich unter wochenmarkt@ig-oma.de
URL:https://www.ig-oma.de/event/wochenmarkt-am-bahnhof-2-2/2027-07-29/
LOCATION:Im Bahnhof\, Oberdorfer Bahnhofstraße 7\, Waltenhofen-Oberdorf\, Bayern\, 87448\, Deutschland
CATEGORIES:Regelmäßige Fahrten
ATTACH;FMTTYPE=image/jpeg:https://www.ig-oma.de/wordpress/wp-content/uploads/2024/09/imbahnhof_wochenmarkt_web-teaser_151005-625x417-1.jpg
END:VEVENT
BEGIN:VEVENT
DTSTART;TZID=Europe/Berlin:20270805T150000
DTEND;TZID=Europe/Berlin:20270805T180000
DTSTAMP:20260419T163108
CREATED:20240927T071516Z
LAST-MODIFIED:20251216T100853Z
UID:10000690-1817478000-1817488800@www.ig-oma.de
SUMMARY:Wochenmarkt „Am Bahnhof“
DESCRIPTION:Obst und Gemüse\, Backwaren\, Fisch\, Fleisch\, Wurst\, Käse und Eier\, Honig und Brotaufstriche — vieles bio\, alles regional! Du hast Ideen oder Vorschläge\, unser Sortiment zu erweitern? Schön! Melde Dich unter wochenmarkt@ig-oma.de
URL:https://www.ig-oma.de/event/wochenmarkt-am-bahnhof-2-2/2027-08-05/
LOCATION:Im Bahnhof\, Oberdorfer Bahnhofstraße 7\, Waltenhofen-Oberdorf\, Bayern\, 87448\, Deutschland
CATEGORIES:Regelmäßige Fahrten
ATTACH;FMTTYPE=image/jpeg:https://www.ig-oma.de/wordpress/wp-content/uploads/2024/09/imbahnhof_wochenmarkt_web-teaser_151005-625x417-1.jpg
END:VEVENT
BEGIN:VEVENT
DTSTART;TZID=Europe/Berlin:20270812T150000
DTEND;TZID=Europe/Berlin:20270812T180000
DTSTAMP:20260419T163108
CREATED:20240927T071516Z
LAST-MODIFIED:20251216T100853Z
UID:10000691-1818082800-1818093600@www.ig-oma.de
SUMMARY:Wochenmarkt „Am Bahnhof“
DESCRIPTION:Obst und Gemüse\, Backwaren\, Fisch\, Fleisch\, Wurst\, Käse und Eier\, Honig und Brotaufstriche — vieles bio\, alles regional! Du hast Ideen oder Vorschläge\, unser Sortiment zu erweitern? Schön! Melde Dich unter wochenmarkt@ig-oma.de
URL:https://www.ig-oma.de/event/wochenmarkt-am-bahnhof-2-2/2027-08-12/
LOCATION:Im Bahnhof\, Oberdorfer Bahnhofstraße 7\, Waltenhofen-Oberdorf\, Bayern\, 87448\, Deutschland
CATEGORIES:Regelmäßige Fahrten
ATTACH;FMTTYPE=image/jpeg:https://www.ig-oma.de/wordpress/wp-content/uploads/2024/09/imbahnhof_wochenmarkt_web-teaser_151005-625x417-1.jpg
END:VEVENT
BEGIN:VEVENT
DTSTART;TZID=Europe/Berlin:20270819T150000
DTEND;TZID=Europe/Berlin:20270819T180000
DTSTAMP:20260419T163108
CREATED:20240927T071516Z
LAST-MODIFIED:20251216T100853Z
UID:10000692-1818687600-1818698400@www.ig-oma.de
SUMMARY:Wochenmarkt „Am Bahnhof“
DESCRIPTION:Obst und Gemüse\, Backwaren\, Fisch\, Fleisch\, Wurst\, Käse und Eier\, Honig und Brotaufstriche — vieles bio\, alles regional! Du hast Ideen oder Vorschläge\, unser Sortiment zu erweitern? Schön! Melde Dich unter wochenmarkt@ig-oma.de
URL:https://www.ig-oma.de/event/wochenmarkt-am-bahnhof-2-2/2027-08-19/
LOCATION:Im Bahnhof\, Oberdorfer Bahnhofstraße 7\, Waltenhofen-Oberdorf\, Bayern\, 87448\, Deutschland
CATEGORIES:Regelmäßige Fahrten
ATTACH;FMTTYPE=image/jpeg:https://www.ig-oma.de/wordpress/wp-content/uploads/2024/09/imbahnhof_wochenmarkt_web-teaser_151005-625x417-1.jpg
END:VEVENT
END:VCALENDAR