BEGIN:VCALENDAR
VERSION:2.0
PRODID:-//IG OMa - ECPv6.15.20//NONSGML v1.0//EN
CALSCALE:GREGORIAN
METHOD:PUBLISH
X-WR-CALNAME:IG OMa
X-ORIGINAL-URL:https://www.ig-oma.de
X-WR-CALDESC:Veranstaltungen für IG OMa
REFRESH-INTERVAL;VALUE=DURATION:PT1H
X-Robots-Tag:noindex
X-PUBLISHED-TTL:PT1H
BEGIN:VTIMEZONE
TZID:Europe/Berlin
BEGIN:DAYLIGHT
TZOFFSETFROM:+0100
TZOFFSETTO:+0200
TZNAME:CEST
DTSTART:20260329T010000
END:DAYLIGHT
BEGIN:STANDARD
TZOFFSETFROM:+0200
TZOFFSETTO:+0100
TZNAME:CET
DTSTART:20261025T010000
END:STANDARD
BEGIN:DAYLIGHT
TZOFFSETFROM:+0100
TZOFFSETTO:+0200
TZNAME:CEST
DTSTART:20270328T010000
END:DAYLIGHT
BEGIN:STANDARD
TZOFFSETFROM:+0200
TZOFFSETTO:+0100
TZNAME:CET
DTSTART:20271031T010000
END:STANDARD
BEGIN:DAYLIGHT
TZOFFSETFROM:+0100
TZOFFSETTO:+0200
TZNAME:CEST
DTSTART:20280326T010000
END:DAYLIGHT
BEGIN:STANDARD
TZOFFSETFROM:+0200
TZOFFSETTO:+0100
TZNAME:CET
DTSTART:20281029T010000
END:STANDARD
BEGIN:DAYLIGHT
TZOFFSETFROM:+0100
TZOFFSETTO:+0200
TZNAME:CEST
DTSTART:20290325T010000
END:DAYLIGHT
BEGIN:STANDARD
TZOFFSETFROM:+0200
TZOFFSETTO:+0100
TZNAME:CET
DTSTART:20291028T010000
END:STANDARD
END:VTIMEZONE
BEGIN:VEVENT
DTSTART;TZID=Europe/Berlin:20271104T150000
DTEND;TZID=Europe/Berlin:20271104T180000
DTSTAMP:20260419T174845
CREATED:20240927T071516Z
LAST-MODIFIED:20251216T100853Z
UID:10000703-1825340400-1825351200@www.ig-oma.de
SUMMARY:Wochenmarkt „Am Bahnhof“
DESCRIPTION:Obst und Gemüse\, Backwaren\, Fisch\, Fleisch\, Wurst\, Käse und Eier\, Honig und Brotaufstriche — vieles bio\, alles regional! Du hast Ideen oder Vorschläge\, unser Sortiment zu erweitern? Schön! Melde Dich unter wochenmarkt@ig-oma.de
URL:https://www.ig-oma.de/event/wochenmarkt-am-bahnhof-2-2/2027-11-04/
LOCATION:Im Bahnhof\, Oberdorfer Bahnhofstraße 7\, Waltenhofen-Oberdorf\, Bayern\, 87448\, Deutschland
CATEGORIES:Regelmäßige Fahrten
ATTACH;FMTTYPE=image/jpeg:https://www.ig-oma.de/wordpress/wp-content/uploads/2024/09/imbahnhof_wochenmarkt_web-teaser_151005-625x417-1.jpg
END:VEVENT
BEGIN:VEVENT
DTSTART;TZID=Europe/Berlin:20271111T150000
DTEND;TZID=Europe/Berlin:20271111T180000
DTSTAMP:20260419T174845
CREATED:20240927T071516Z
LAST-MODIFIED:20251216T100853Z
UID:10000704-1825945200-1825956000@www.ig-oma.de
SUMMARY:Wochenmarkt „Am Bahnhof“
DESCRIPTION:Obst und Gemüse\, Backwaren\, Fisch\, Fleisch\, Wurst\, Käse und Eier\, Honig und Brotaufstriche — vieles bio\, alles regional! Du hast Ideen oder Vorschläge\, unser Sortiment zu erweitern? Schön! Melde Dich unter wochenmarkt@ig-oma.de
URL:https://www.ig-oma.de/event/wochenmarkt-am-bahnhof-2-2/2027-11-11/
LOCATION:Im Bahnhof\, Oberdorfer Bahnhofstraße 7\, Waltenhofen-Oberdorf\, Bayern\, 87448\, Deutschland
CATEGORIES:Regelmäßige Fahrten
ATTACH;FMTTYPE=image/jpeg:https://www.ig-oma.de/wordpress/wp-content/uploads/2024/09/imbahnhof_wochenmarkt_web-teaser_151005-625x417-1.jpg
END:VEVENT
BEGIN:VEVENT
DTSTART;TZID=Europe/Berlin:20271118T150000
DTEND;TZID=Europe/Berlin:20271118T180000
DTSTAMP:20260419T174845
CREATED:20240927T071516Z
LAST-MODIFIED:20251216T100853Z
UID:10000705-1826550000-1826560800@www.ig-oma.de
SUMMARY:Wochenmarkt „Am Bahnhof“
DESCRIPTION:Obst und Gemüse\, Backwaren\, Fisch\, Fleisch\, Wurst\, Käse und Eier\, Honig und Brotaufstriche — vieles bio\, alles regional! Du hast Ideen oder Vorschläge\, unser Sortiment zu erweitern? Schön! Melde Dich unter wochenmarkt@ig-oma.de
URL:https://www.ig-oma.de/event/wochenmarkt-am-bahnhof-2-2/2027-11-18/
LOCATION:Im Bahnhof\, Oberdorfer Bahnhofstraße 7\, Waltenhofen-Oberdorf\, Bayern\, 87448\, Deutschland
CATEGORIES:Regelmäßige Fahrten
ATTACH;FMTTYPE=image/jpeg:https://www.ig-oma.de/wordpress/wp-content/uploads/2024/09/imbahnhof_wochenmarkt_web-teaser_151005-625x417-1.jpg
END:VEVENT
BEGIN:VEVENT
DTSTART;TZID=Europe/Berlin:20271125T150000
DTEND;TZID=Europe/Berlin:20271125T180000
DTSTAMP:20260419T174845
CREATED:20240927T071516Z
LAST-MODIFIED:20251216T100853Z
UID:10000706-1827154800-1827165600@www.ig-oma.de
SUMMARY:Wochenmarkt „Am Bahnhof“
DESCRIPTION:Obst und Gemüse\, Backwaren\, Fisch\, Fleisch\, Wurst\, Käse und Eier\, Honig und Brotaufstriche — vieles bio\, alles regional! Du hast Ideen oder Vorschläge\, unser Sortiment zu erweitern? Schön! Melde Dich unter wochenmarkt@ig-oma.de
URL:https://www.ig-oma.de/event/wochenmarkt-am-bahnhof-2-2/2027-11-25/
LOCATION:Im Bahnhof\, Oberdorfer Bahnhofstraße 7\, Waltenhofen-Oberdorf\, Bayern\, 87448\, Deutschland
CATEGORIES:Regelmäßige Fahrten
ATTACH;FMTTYPE=image/jpeg:https://www.ig-oma.de/wordpress/wp-content/uploads/2024/09/imbahnhof_wochenmarkt_web-teaser_151005-625x417-1.jpg
END:VEVENT
BEGIN:VEVENT
DTSTART;TZID=Europe/Berlin:20271202T150000
DTEND;TZID=Europe/Berlin:20271202T180000
DTSTAMP:20260419T174845
CREATED:20240927T071516Z
LAST-MODIFIED:20251216T100853Z
UID:10000707-1827759600-1827770400@www.ig-oma.de
SUMMARY:Wochenmarkt „Am Bahnhof“
DESCRIPTION:Obst und Gemüse\, Backwaren\, Fisch\, Fleisch\, Wurst\, Käse und Eier\, Honig und Brotaufstriche — vieles bio\, alles regional! Du hast Ideen oder Vorschläge\, unser Sortiment zu erweitern? Schön! Melde Dich unter wochenmarkt@ig-oma.de
URL:https://www.ig-oma.de/event/wochenmarkt-am-bahnhof-2-2/2027-12-02/
LOCATION:Im Bahnhof\, Oberdorfer Bahnhofstraße 7\, Waltenhofen-Oberdorf\, Bayern\, 87448\, Deutschland
CATEGORIES:Regelmäßige Fahrten
ATTACH;FMTTYPE=image/jpeg:https://www.ig-oma.de/wordpress/wp-content/uploads/2024/09/imbahnhof_wochenmarkt_web-teaser_151005-625x417-1.jpg
END:VEVENT
BEGIN:VEVENT
DTSTART;TZID=Europe/Berlin:20271209T150000
DTEND;TZID=Europe/Berlin:20271209T180000
DTSTAMP:20260419T174845
CREATED:20240927T071516Z
LAST-MODIFIED:20251216T100853Z
UID:10000708-1828364400-1828375200@www.ig-oma.de
SUMMARY:Wochenmarkt „Am Bahnhof“
DESCRIPTION:Obst und Gemüse\, Backwaren\, Fisch\, Fleisch\, Wurst\, Käse und Eier\, Honig und Brotaufstriche — vieles bio\, alles regional! Du hast Ideen oder Vorschläge\, unser Sortiment zu erweitern? Schön! Melde Dich unter wochenmarkt@ig-oma.de
URL:https://www.ig-oma.de/event/wochenmarkt-am-bahnhof-2-2/2027-12-09/
LOCATION:Im Bahnhof\, Oberdorfer Bahnhofstraße 7\, Waltenhofen-Oberdorf\, Bayern\, 87448\, Deutschland
CATEGORIES:Regelmäßige Fahrten
ATTACH;FMTTYPE=image/jpeg:https://www.ig-oma.de/wordpress/wp-content/uploads/2024/09/imbahnhof_wochenmarkt_web-teaser_151005-625x417-1.jpg
END:VEVENT
BEGIN:VEVENT
DTSTART;TZID=Europe/Berlin:20271216T150000
DTEND;TZID=Europe/Berlin:20271216T180000
DTSTAMP:20260419T174845
CREATED:20240927T071516Z
LAST-MODIFIED:20251216T100853Z
UID:10000709-1828969200-1828980000@www.ig-oma.de
SUMMARY:Wochenmarkt „Am Bahnhof“
DESCRIPTION:Obst und Gemüse\, Backwaren\, Fisch\, Fleisch\, Wurst\, Käse und Eier\, Honig und Brotaufstriche — vieles bio\, alles regional! Du hast Ideen oder Vorschläge\, unser Sortiment zu erweitern? Schön! Melde Dich unter wochenmarkt@ig-oma.de
URL:https://www.ig-oma.de/event/wochenmarkt-am-bahnhof-2-2/2027-12-16/
LOCATION:Im Bahnhof\, Oberdorfer Bahnhofstraße 7\, Waltenhofen-Oberdorf\, Bayern\, 87448\, Deutschland
CATEGORIES:Regelmäßige Fahrten
ATTACH;FMTTYPE=image/jpeg:https://www.ig-oma.de/wordpress/wp-content/uploads/2024/09/imbahnhof_wochenmarkt_web-teaser_151005-625x417-1.jpg
END:VEVENT
BEGIN:VEVENT
DTSTART;TZID=Europe/Berlin:20271223T150000
DTEND;TZID=Europe/Berlin:20271223T180000
DTSTAMP:20260419T174845
CREATED:20240927T071516Z
LAST-MODIFIED:20251216T100853Z
UID:10000710-1829574000-1829584800@www.ig-oma.de
SUMMARY:Wochenmarkt „Am Bahnhof“
DESCRIPTION:Obst und Gemüse\, Backwaren\, Fisch\, Fleisch\, Wurst\, Käse und Eier\, Honig und Brotaufstriche — vieles bio\, alles regional! Du hast Ideen oder Vorschläge\, unser Sortiment zu erweitern? Schön! Melde Dich unter wochenmarkt@ig-oma.de
URL:https://www.ig-oma.de/event/wochenmarkt-am-bahnhof-2-2/2027-12-23/
LOCATION:Im Bahnhof\, Oberdorfer Bahnhofstraße 7\, Waltenhofen-Oberdorf\, Bayern\, 87448\, Deutschland
CATEGORIES:Regelmäßige Fahrten
ATTACH;FMTTYPE=image/jpeg:https://www.ig-oma.de/wordpress/wp-content/uploads/2024/09/imbahnhof_wochenmarkt_web-teaser_151005-625x417-1.jpg
END:VEVENT
BEGIN:VEVENT
DTSTART;TZID=Europe/Berlin:20271230T150000
DTEND;TZID=Europe/Berlin:20271230T180000
DTSTAMP:20260419T174845
CREATED:20240927T071516Z
LAST-MODIFIED:20251216T100853Z
UID:10000711-1830178800-1830189600@www.ig-oma.de
SUMMARY:Wochenmarkt „Am Bahnhof“
DESCRIPTION:Obst und Gemüse\, Backwaren\, Fisch\, Fleisch\, Wurst\, Käse und Eier\, Honig und Brotaufstriche — vieles bio\, alles regional! Du hast Ideen oder Vorschläge\, unser Sortiment zu erweitern? Schön! Melde Dich unter wochenmarkt@ig-oma.de
URL:https://www.ig-oma.de/event/wochenmarkt-am-bahnhof-2-2/2027-12-30/
LOCATION:Im Bahnhof\, Oberdorfer Bahnhofstraße 7\, Waltenhofen-Oberdorf\, Bayern\, 87448\, Deutschland
CATEGORIES:Regelmäßige Fahrten
ATTACH;FMTTYPE=image/jpeg:https://www.ig-oma.de/wordpress/wp-content/uploads/2024/09/imbahnhof_wochenmarkt_web-teaser_151005-625x417-1.jpg
END:VEVENT
BEGIN:VEVENT
DTSTART;TZID=Europe/Berlin:20280106T150000
DTEND;TZID=Europe/Berlin:20280106T180000
DTSTAMP:20260419T174845
CREATED:20240927T071516Z
LAST-MODIFIED:20251216T100853Z
UID:10000712-1830783600-1830794400@www.ig-oma.de
SUMMARY:Wochenmarkt „Am Bahnhof“
DESCRIPTION:Obst und Gemüse\, Backwaren\, Fisch\, Fleisch\, Wurst\, Käse und Eier\, Honig und Brotaufstriche — vieles bio\, alles regional! Du hast Ideen oder Vorschläge\, unser Sortiment zu erweitern? Schön! Melde Dich unter wochenmarkt@ig-oma.de
URL:https://www.ig-oma.de/event/wochenmarkt-am-bahnhof-2-2/2028-01-06/
LOCATION:Im Bahnhof\, Oberdorfer Bahnhofstraße 7\, Waltenhofen-Oberdorf\, Bayern\, 87448\, Deutschland
CATEGORIES:Regelmäßige Fahrten
ATTACH;FMTTYPE=image/jpeg:https://www.ig-oma.de/wordpress/wp-content/uploads/2024/09/imbahnhof_wochenmarkt_web-teaser_151005-625x417-1.jpg
END:VEVENT
BEGIN:VEVENT
DTSTART;TZID=Europe/Berlin:20280113T150000
DTEND;TZID=Europe/Berlin:20280113T180000
DTSTAMP:20260419T174845
CREATED:20240927T071516Z
LAST-MODIFIED:20251216T100853Z
UID:10000713-1831388400-1831399200@www.ig-oma.de
SUMMARY:Wochenmarkt „Am Bahnhof“
DESCRIPTION:Obst und Gemüse\, Backwaren\, Fisch\, Fleisch\, Wurst\, Käse und Eier\, Honig und Brotaufstriche — vieles bio\, alles regional! Du hast Ideen oder Vorschläge\, unser Sortiment zu erweitern? Schön! Melde Dich unter wochenmarkt@ig-oma.de
URL:https://www.ig-oma.de/event/wochenmarkt-am-bahnhof-2-2/2028-01-13/
LOCATION:Im Bahnhof\, Oberdorfer Bahnhofstraße 7\, Waltenhofen-Oberdorf\, Bayern\, 87448\, Deutschland
CATEGORIES:Regelmäßige Fahrten
ATTACH;FMTTYPE=image/jpeg:https://www.ig-oma.de/wordpress/wp-content/uploads/2024/09/imbahnhof_wochenmarkt_web-teaser_151005-625x417-1.jpg
END:VEVENT
BEGIN:VEVENT
DTSTART;TZID=Europe/Berlin:20280120T150000
DTEND;TZID=Europe/Berlin:20280120T180000
DTSTAMP:20260419T174845
CREATED:20240927T071516Z
LAST-MODIFIED:20251216T100853Z
UID:10000714-1831993200-1832004000@www.ig-oma.de
SUMMARY:Wochenmarkt „Am Bahnhof“
DESCRIPTION:Obst und Gemüse\, Backwaren\, Fisch\, Fleisch\, Wurst\, Käse und Eier\, Honig und Brotaufstriche — vieles bio\, alles regional! Du hast Ideen oder Vorschläge\, unser Sortiment zu erweitern? Schön! Melde Dich unter wochenmarkt@ig-oma.de
URL:https://www.ig-oma.de/event/wochenmarkt-am-bahnhof-2-2/2028-01-20/
LOCATION:Im Bahnhof\, Oberdorfer Bahnhofstraße 7\, Waltenhofen-Oberdorf\, Bayern\, 87448\, Deutschland
CATEGORIES:Regelmäßige Fahrten
ATTACH;FMTTYPE=image/jpeg:https://www.ig-oma.de/wordpress/wp-content/uploads/2024/09/imbahnhof_wochenmarkt_web-teaser_151005-625x417-1.jpg
END:VEVENT
BEGIN:VEVENT
DTSTART;TZID=Europe/Berlin:20280127T150000
DTEND;TZID=Europe/Berlin:20280127T180000
DTSTAMP:20260419T174845
CREATED:20240927T071516Z
LAST-MODIFIED:20251216T100853Z
UID:10000715-1832598000-1832608800@www.ig-oma.de
SUMMARY:Wochenmarkt „Am Bahnhof“
DESCRIPTION:Obst und Gemüse\, Backwaren\, Fisch\, Fleisch\, Wurst\, Käse und Eier\, Honig und Brotaufstriche — vieles bio\, alles regional! Du hast Ideen oder Vorschläge\, unser Sortiment zu erweitern? Schön! Melde Dich unter wochenmarkt@ig-oma.de
URL:https://www.ig-oma.de/event/wochenmarkt-am-bahnhof-2-2/2028-01-27/
LOCATION:Im Bahnhof\, Oberdorfer Bahnhofstraße 7\, Waltenhofen-Oberdorf\, Bayern\, 87448\, Deutschland
CATEGORIES:Regelmäßige Fahrten
ATTACH;FMTTYPE=image/jpeg:https://www.ig-oma.de/wordpress/wp-content/uploads/2024/09/imbahnhof_wochenmarkt_web-teaser_151005-625x417-1.jpg
END:VEVENT
BEGIN:VEVENT
DTSTART;TZID=Europe/Berlin:20280203T150000
DTEND;TZID=Europe/Berlin:20280203T180000
DTSTAMP:20260419T174845
CREATED:20240927T071516Z
LAST-MODIFIED:20251216T100853Z
UID:10000716-1833202800-1833213600@www.ig-oma.de
SUMMARY:Wochenmarkt „Am Bahnhof“
DESCRIPTION:Obst und Gemüse\, Backwaren\, Fisch\, Fleisch\, Wurst\, Käse und Eier\, Honig und Brotaufstriche — vieles bio\, alles regional! Du hast Ideen oder Vorschläge\, unser Sortiment zu erweitern? Schön! Melde Dich unter wochenmarkt@ig-oma.de
URL:https://www.ig-oma.de/event/wochenmarkt-am-bahnhof-2-2/2028-02-03/
LOCATION:Im Bahnhof\, Oberdorfer Bahnhofstraße 7\, Waltenhofen-Oberdorf\, Bayern\, 87448\, Deutschland
CATEGORIES:Regelmäßige Fahrten
ATTACH;FMTTYPE=image/jpeg:https://www.ig-oma.de/wordpress/wp-content/uploads/2024/09/imbahnhof_wochenmarkt_web-teaser_151005-625x417-1.jpg
END:VEVENT
BEGIN:VEVENT
DTSTART;TZID=Europe/Berlin:20280210T150000
DTEND;TZID=Europe/Berlin:20280210T180000
DTSTAMP:20260419T174845
CREATED:20240927T071516Z
LAST-MODIFIED:20251216T100853Z
UID:10000717-1833807600-1833818400@www.ig-oma.de
SUMMARY:Wochenmarkt „Am Bahnhof“
DESCRIPTION:Obst und Gemüse\, Backwaren\, Fisch\, Fleisch\, Wurst\, Käse und Eier\, Honig und Brotaufstriche — vieles bio\, alles regional! Du hast Ideen oder Vorschläge\, unser Sortiment zu erweitern? Schön! Melde Dich unter wochenmarkt@ig-oma.de
URL:https://www.ig-oma.de/event/wochenmarkt-am-bahnhof-2-2/2028-02-10/
LOCATION:Im Bahnhof\, Oberdorfer Bahnhofstraße 7\, Waltenhofen-Oberdorf\, Bayern\, 87448\, Deutschland
CATEGORIES:Regelmäßige Fahrten
ATTACH;FMTTYPE=image/jpeg:https://www.ig-oma.de/wordpress/wp-content/uploads/2024/09/imbahnhof_wochenmarkt_web-teaser_151005-625x417-1.jpg
END:VEVENT
BEGIN:VEVENT
DTSTART;TZID=Europe/Berlin:20280217T150000
DTEND;TZID=Europe/Berlin:20280217T180000
DTSTAMP:20260419T174845
CREATED:20240927T071516Z
LAST-MODIFIED:20251216T100853Z
UID:10000718-1834412400-1834423200@www.ig-oma.de
SUMMARY:Wochenmarkt „Am Bahnhof“
DESCRIPTION:Obst und Gemüse\, Backwaren\, Fisch\, Fleisch\, Wurst\, Käse und Eier\, Honig und Brotaufstriche — vieles bio\, alles regional! Du hast Ideen oder Vorschläge\, unser Sortiment zu erweitern? Schön! Melde Dich unter wochenmarkt@ig-oma.de
URL:https://www.ig-oma.de/event/wochenmarkt-am-bahnhof-2-2/2028-02-17/
LOCATION:Im Bahnhof\, Oberdorfer Bahnhofstraße 7\, Waltenhofen-Oberdorf\, Bayern\, 87448\, Deutschland
CATEGORIES:Regelmäßige Fahrten
ATTACH;FMTTYPE=image/jpeg:https://www.ig-oma.de/wordpress/wp-content/uploads/2024/09/imbahnhof_wochenmarkt_web-teaser_151005-625x417-1.jpg
END:VEVENT
BEGIN:VEVENT
DTSTART;TZID=Europe/Berlin:20280224T150000
DTEND;TZID=Europe/Berlin:20280224T180000
DTSTAMP:20260419T174845
CREATED:20240927T071516Z
LAST-MODIFIED:20251216T100853Z
UID:10000719-1835017200-1835028000@www.ig-oma.de
SUMMARY:Wochenmarkt „Am Bahnhof“
DESCRIPTION:Obst und Gemüse\, Backwaren\, Fisch\, Fleisch\, Wurst\, Käse und Eier\, Honig und Brotaufstriche — vieles bio\, alles regional! Du hast Ideen oder Vorschläge\, unser Sortiment zu erweitern? Schön! Melde Dich unter wochenmarkt@ig-oma.de
URL:https://www.ig-oma.de/event/wochenmarkt-am-bahnhof-2-2/2028-02-24/
LOCATION:Im Bahnhof\, Oberdorfer Bahnhofstraße 7\, Waltenhofen-Oberdorf\, Bayern\, 87448\, Deutschland
CATEGORIES:Regelmäßige Fahrten
ATTACH;FMTTYPE=image/jpeg:https://www.ig-oma.de/wordpress/wp-content/uploads/2024/09/imbahnhof_wochenmarkt_web-teaser_151005-625x417-1.jpg
END:VEVENT
BEGIN:VEVENT
DTSTART;TZID=Europe/Berlin:20280302T150000
DTEND;TZID=Europe/Berlin:20280302T180000
DTSTAMP:20260419T174845
CREATED:20240927T071516Z
LAST-MODIFIED:20251216T100853Z
UID:10000720-1835622000-1835632800@www.ig-oma.de
SUMMARY:Wochenmarkt „Am Bahnhof“
DESCRIPTION:Obst und Gemüse\, Backwaren\, Fisch\, Fleisch\, Wurst\, Käse und Eier\, Honig und Brotaufstriche — vieles bio\, alles regional! Du hast Ideen oder Vorschläge\, unser Sortiment zu erweitern? Schön! Melde Dich unter wochenmarkt@ig-oma.de
URL:https://www.ig-oma.de/event/wochenmarkt-am-bahnhof-2-2/2028-03-02/
LOCATION:Im Bahnhof\, Oberdorfer Bahnhofstraße 7\, Waltenhofen-Oberdorf\, Bayern\, 87448\, Deutschland
CATEGORIES:Regelmäßige Fahrten
ATTACH;FMTTYPE=image/jpeg:https://www.ig-oma.de/wordpress/wp-content/uploads/2024/09/imbahnhof_wochenmarkt_web-teaser_151005-625x417-1.jpg
END:VEVENT
BEGIN:VEVENT
DTSTART;TZID=Europe/Berlin:20280309T150000
DTEND;TZID=Europe/Berlin:20280309T180000
DTSTAMP:20260419T174845
CREATED:20240927T071516Z
LAST-MODIFIED:20251216T100853Z
UID:10000721-1836226800-1836237600@www.ig-oma.de
SUMMARY:Wochenmarkt „Am Bahnhof“
DESCRIPTION:Obst und Gemüse\, Backwaren\, Fisch\, Fleisch\, Wurst\, Käse und Eier\, Honig und Brotaufstriche — vieles bio\, alles regional! Du hast Ideen oder Vorschläge\, unser Sortiment zu erweitern? Schön! Melde Dich unter wochenmarkt@ig-oma.de
URL:https://www.ig-oma.de/event/wochenmarkt-am-bahnhof-2-2/2028-03-09/
LOCATION:Im Bahnhof\, Oberdorfer Bahnhofstraße 7\, Waltenhofen-Oberdorf\, Bayern\, 87448\, Deutschland
CATEGORIES:Regelmäßige Fahrten
ATTACH;FMTTYPE=image/jpeg:https://www.ig-oma.de/wordpress/wp-content/uploads/2024/09/imbahnhof_wochenmarkt_web-teaser_151005-625x417-1.jpg
END:VEVENT
BEGIN:VEVENT
DTSTART;TZID=Europe/Berlin:20280316T150000
DTEND;TZID=Europe/Berlin:20280316T180000
DTSTAMP:20260419T174845
CREATED:20240927T071516Z
LAST-MODIFIED:20251216T100853Z
UID:10000722-1836831600-1836842400@www.ig-oma.de
SUMMARY:Wochenmarkt „Am Bahnhof“
DESCRIPTION:Obst und Gemüse\, Backwaren\, Fisch\, Fleisch\, Wurst\, Käse und Eier\, Honig und Brotaufstriche — vieles bio\, alles regional! Du hast Ideen oder Vorschläge\, unser Sortiment zu erweitern? Schön! Melde Dich unter wochenmarkt@ig-oma.de
URL:https://www.ig-oma.de/event/wochenmarkt-am-bahnhof-2-2/2028-03-16/
LOCATION:Im Bahnhof\, Oberdorfer Bahnhofstraße 7\, Waltenhofen-Oberdorf\, Bayern\, 87448\, Deutschland
CATEGORIES:Regelmäßige Fahrten
ATTACH;FMTTYPE=image/jpeg:https://www.ig-oma.de/wordpress/wp-content/uploads/2024/09/imbahnhof_wochenmarkt_web-teaser_151005-625x417-1.jpg
END:VEVENT
BEGIN:VEVENT
DTSTART;TZID=Europe/Berlin:20280323T150000
DTEND;TZID=Europe/Berlin:20280323T180000
DTSTAMP:20260419T174845
CREATED:20240927T071516Z
LAST-MODIFIED:20251216T100853Z
UID:10000723-1837436400-1837447200@www.ig-oma.de
SUMMARY:Wochenmarkt „Am Bahnhof“
DESCRIPTION:Obst und Gemüse\, Backwaren\, Fisch\, Fleisch\, Wurst\, Käse und Eier\, Honig und Brotaufstriche — vieles bio\, alles regional! Du hast Ideen oder Vorschläge\, unser Sortiment zu erweitern? Schön! Melde Dich unter wochenmarkt@ig-oma.de
URL:https://www.ig-oma.de/event/wochenmarkt-am-bahnhof-2-2/2028-03-23/
LOCATION:Im Bahnhof\, Oberdorfer Bahnhofstraße 7\, Waltenhofen-Oberdorf\, Bayern\, 87448\, Deutschland
CATEGORIES:Regelmäßige Fahrten
ATTACH;FMTTYPE=image/jpeg:https://www.ig-oma.de/wordpress/wp-content/uploads/2024/09/imbahnhof_wochenmarkt_web-teaser_151005-625x417-1.jpg
END:VEVENT
BEGIN:VEVENT
DTSTART;TZID=Europe/Berlin:20280330T150000
DTEND;TZID=Europe/Berlin:20280330T180000
DTSTAMP:20260419T174845
CREATED:20240927T071516Z
LAST-MODIFIED:20251216T100853Z
UID:10000724-1838041200-1838052000@www.ig-oma.de
SUMMARY:Wochenmarkt „Am Bahnhof“
DESCRIPTION:Obst und Gemüse\, Backwaren\, Fisch\, Fleisch\, Wurst\, Käse und Eier\, Honig und Brotaufstriche — vieles bio\, alles regional! Du hast Ideen oder Vorschläge\, unser Sortiment zu erweitern? Schön! Melde Dich unter wochenmarkt@ig-oma.de
URL:https://www.ig-oma.de/event/wochenmarkt-am-bahnhof-2-2/2028-03-30/
LOCATION:Im Bahnhof\, Oberdorfer Bahnhofstraße 7\, Waltenhofen-Oberdorf\, Bayern\, 87448\, Deutschland
CATEGORIES:Regelmäßige Fahrten
ATTACH;FMTTYPE=image/jpeg:https://www.ig-oma.de/wordpress/wp-content/uploads/2024/09/imbahnhof_wochenmarkt_web-teaser_151005-625x417-1.jpg
END:VEVENT
BEGIN:VEVENT
DTSTART;TZID=Europe/Berlin:20280406T150000
DTEND;TZID=Europe/Berlin:20280406T180000
DTSTAMP:20260419T174845
CREATED:20240927T071516Z
LAST-MODIFIED:20251216T100853Z
UID:10000725-1838646000-1838656800@www.ig-oma.de
SUMMARY:Wochenmarkt „Am Bahnhof“
DESCRIPTION:Obst und Gemüse\, Backwaren\, Fisch\, Fleisch\, Wurst\, Käse und Eier\, Honig und Brotaufstriche — vieles bio\, alles regional! Du hast Ideen oder Vorschläge\, unser Sortiment zu erweitern? Schön! Melde Dich unter wochenmarkt@ig-oma.de
URL:https://www.ig-oma.de/event/wochenmarkt-am-bahnhof-2-2/2028-04-06/
LOCATION:Im Bahnhof\, Oberdorfer Bahnhofstraße 7\, Waltenhofen-Oberdorf\, Bayern\, 87448\, Deutschland
CATEGORIES:Regelmäßige Fahrten
ATTACH;FMTTYPE=image/jpeg:https://www.ig-oma.de/wordpress/wp-content/uploads/2024/09/imbahnhof_wochenmarkt_web-teaser_151005-625x417-1.jpg
END:VEVENT
BEGIN:VEVENT
DTSTART;TZID=Europe/Berlin:20280413T150000
DTEND;TZID=Europe/Berlin:20280413T180000
DTSTAMP:20260419T174845
CREATED:20240927T071516Z
LAST-MODIFIED:20251216T100853Z
UID:10000726-1839250800-1839261600@www.ig-oma.de
SUMMARY:Wochenmarkt „Am Bahnhof“
DESCRIPTION:Obst und Gemüse\, Backwaren\, Fisch\, Fleisch\, Wurst\, Käse und Eier\, Honig und Brotaufstriche — vieles bio\, alles regional! Du hast Ideen oder Vorschläge\, unser Sortiment zu erweitern? Schön! Melde Dich unter wochenmarkt@ig-oma.de
URL:https://www.ig-oma.de/event/wochenmarkt-am-bahnhof-2-2/2028-04-13/
LOCATION:Im Bahnhof\, Oberdorfer Bahnhofstraße 7\, Waltenhofen-Oberdorf\, Bayern\, 87448\, Deutschland
CATEGORIES:Regelmäßige Fahrten
ATTACH;FMTTYPE=image/jpeg:https://www.ig-oma.de/wordpress/wp-content/uploads/2024/09/imbahnhof_wochenmarkt_web-teaser_151005-625x417-1.jpg
END:VEVENT
BEGIN:VEVENT
DTSTART;TZID=Europe/Berlin:20280420T150000
DTEND;TZID=Europe/Berlin:20280420T180000
DTSTAMP:20260419T174845
CREATED:20240927T071516Z
LAST-MODIFIED:20251216T100853Z
UID:10000727-1839855600-1839866400@www.ig-oma.de
SUMMARY:Wochenmarkt „Am Bahnhof“
DESCRIPTION:Obst und Gemüse\, Backwaren\, Fisch\, Fleisch\, Wurst\, Käse und Eier\, Honig und Brotaufstriche — vieles bio\, alles regional! Du hast Ideen oder Vorschläge\, unser Sortiment zu erweitern? Schön! Melde Dich unter wochenmarkt@ig-oma.de
URL:https://www.ig-oma.de/event/wochenmarkt-am-bahnhof-2-2/2028-04-20/
LOCATION:Im Bahnhof\, Oberdorfer Bahnhofstraße 7\, Waltenhofen-Oberdorf\, Bayern\, 87448\, Deutschland
CATEGORIES:Regelmäßige Fahrten
ATTACH;FMTTYPE=image/jpeg:https://www.ig-oma.de/wordpress/wp-content/uploads/2024/09/imbahnhof_wochenmarkt_web-teaser_151005-625x417-1.jpg
END:VEVENT
BEGIN:VEVENT
DTSTART;TZID=Europe/Berlin:20280427T150000
DTEND;TZID=Europe/Berlin:20280427T180000
DTSTAMP:20260419T174845
CREATED:20240927T071516Z
LAST-MODIFIED:20251216T100853Z
UID:10000728-1840460400-1840471200@www.ig-oma.de
SUMMARY:Wochenmarkt „Am Bahnhof“
DESCRIPTION:Obst und Gemüse\, Backwaren\, Fisch\, Fleisch\, Wurst\, Käse und Eier\, Honig und Brotaufstriche — vieles bio\, alles regional! Du hast Ideen oder Vorschläge\, unser Sortiment zu erweitern? Schön! Melde Dich unter wochenmarkt@ig-oma.de
URL:https://www.ig-oma.de/event/wochenmarkt-am-bahnhof-2-2/2028-04-27/
LOCATION:Im Bahnhof\, Oberdorfer Bahnhofstraße 7\, Waltenhofen-Oberdorf\, Bayern\, 87448\, Deutschland
CATEGORIES:Regelmäßige Fahrten
ATTACH;FMTTYPE=image/jpeg:https://www.ig-oma.de/wordpress/wp-content/uploads/2024/09/imbahnhof_wochenmarkt_web-teaser_151005-625x417-1.jpg
END:VEVENT
BEGIN:VEVENT
DTSTART;TZID=Europe/Berlin:20280504T150000
DTEND;TZID=Europe/Berlin:20280504T180000
DTSTAMP:20260419T174845
CREATED:20240927T071516Z
LAST-MODIFIED:20251216T100853Z
UID:10000729-1841065200-1841076000@www.ig-oma.de
SUMMARY:Wochenmarkt „Am Bahnhof“
DESCRIPTION:Obst und Gemüse\, Backwaren\, Fisch\, Fleisch\, Wurst\, Käse und Eier\, Honig und Brotaufstriche — vieles bio\, alles regional! Du hast Ideen oder Vorschläge\, unser Sortiment zu erweitern? Schön! Melde Dich unter wochenmarkt@ig-oma.de
URL:https://www.ig-oma.de/event/wochenmarkt-am-bahnhof-2-2/2028-05-04/
LOCATION:Im Bahnhof\, Oberdorfer Bahnhofstraße 7\, Waltenhofen-Oberdorf\, Bayern\, 87448\, Deutschland
CATEGORIES:Regelmäßige Fahrten
ATTACH;FMTTYPE=image/jpeg:https://www.ig-oma.de/wordpress/wp-content/uploads/2024/09/imbahnhof_wochenmarkt_web-teaser_151005-625x417-1.jpg
END:VEVENT
BEGIN:VEVENT
DTSTART;TZID=Europe/Berlin:20280511T150000
DTEND;TZID=Europe/Berlin:20280511T180000
DTSTAMP:20260419T174845
CREATED:20240927T071516Z
LAST-MODIFIED:20251216T100853Z
UID:10000730-1841670000-1841680800@www.ig-oma.de
SUMMARY:Wochenmarkt „Am Bahnhof“
DESCRIPTION:Obst und Gemüse\, Backwaren\, Fisch\, Fleisch\, Wurst\, Käse und Eier\, Honig und Brotaufstriche — vieles bio\, alles regional! Du hast Ideen oder Vorschläge\, unser Sortiment zu erweitern? Schön! Melde Dich unter wochenmarkt@ig-oma.de
URL:https://www.ig-oma.de/event/wochenmarkt-am-bahnhof-2-2/2028-05-11/
LOCATION:Im Bahnhof\, Oberdorfer Bahnhofstraße 7\, Waltenhofen-Oberdorf\, Bayern\, 87448\, Deutschland
CATEGORIES:Regelmäßige Fahrten
ATTACH;FMTTYPE=image/jpeg:https://www.ig-oma.de/wordpress/wp-content/uploads/2024/09/imbahnhof_wochenmarkt_web-teaser_151005-625x417-1.jpg
END:VEVENT
BEGIN:VEVENT
DTSTART;TZID=Europe/Berlin:20280518T150000
DTEND;TZID=Europe/Berlin:20280518T180000
DTSTAMP:20260419T174845
CREATED:20240927T071516Z
LAST-MODIFIED:20251216T100853Z
UID:10000731-1842274800-1842285600@www.ig-oma.de
SUMMARY:Wochenmarkt „Am Bahnhof“
DESCRIPTION:Obst und Gemüse\, Backwaren\, Fisch\, Fleisch\, Wurst\, Käse und Eier\, Honig und Brotaufstriche — vieles bio\, alles regional! Du hast Ideen oder Vorschläge\, unser Sortiment zu erweitern? Schön! Melde Dich unter wochenmarkt@ig-oma.de
URL:https://www.ig-oma.de/event/wochenmarkt-am-bahnhof-2-2/2028-05-18/
LOCATION:Im Bahnhof\, Oberdorfer Bahnhofstraße 7\, Waltenhofen-Oberdorf\, Bayern\, 87448\, Deutschland
CATEGORIES:Regelmäßige Fahrten
ATTACH;FMTTYPE=image/jpeg:https://www.ig-oma.de/wordpress/wp-content/uploads/2024/09/imbahnhof_wochenmarkt_web-teaser_151005-625x417-1.jpg
END:VEVENT
BEGIN:VEVENT
DTSTART;TZID=Europe/Berlin:20280525T150000
DTEND;TZID=Europe/Berlin:20280525T180000
DTSTAMP:20260419T174845
CREATED:20240927T071516Z
LAST-MODIFIED:20251216T100853Z
UID:10000732-1842879600-1842890400@www.ig-oma.de
SUMMARY:Wochenmarkt „Am Bahnhof“
DESCRIPTION:Obst und Gemüse\, Backwaren\, Fisch\, Fleisch\, Wurst\, Käse und Eier\, Honig und Brotaufstriche — vieles bio\, alles regional! Du hast Ideen oder Vorschläge\, unser Sortiment zu erweitern? Schön! Melde Dich unter wochenmarkt@ig-oma.de
URL:https://www.ig-oma.de/event/wochenmarkt-am-bahnhof-2-2/2028-05-25/
LOCATION:Im Bahnhof\, Oberdorfer Bahnhofstraße 7\, Waltenhofen-Oberdorf\, Bayern\, 87448\, Deutschland
CATEGORIES:Regelmäßige Fahrten
ATTACH;FMTTYPE=image/jpeg:https://www.ig-oma.de/wordpress/wp-content/uploads/2024/09/imbahnhof_wochenmarkt_web-teaser_151005-625x417-1.jpg
END:VEVENT
END:VCALENDAR