BEGIN:VCALENDAR
VERSION:2.0
PRODID:-//IG OMa - ECPv6.15.20//NONSGML v1.0//EN
CALSCALE:GREGORIAN
METHOD:PUBLISH
X-ORIGINAL-URL:https://www.ig-oma.de
X-WR-CALDESC:Veranstaltungen für IG OMa
REFRESH-INTERVAL;VALUE=DURATION:PT1H
X-Robots-Tag:noindex
X-PUBLISHED-TTL:PT1H
BEGIN:VTIMEZONE
TZID:Europe/Berlin
BEGIN:DAYLIGHT
TZOFFSETFROM:+0100
TZOFFSETTO:+0200
TZNAME:CEST
DTSTART:20270328T010000
END:DAYLIGHT
BEGIN:STANDARD
TZOFFSETFROM:+0200
TZOFFSETTO:+0100
TZNAME:CET
DTSTART:20271031T010000
END:STANDARD
BEGIN:DAYLIGHT
TZOFFSETFROM:+0100
TZOFFSETTO:+0200
TZNAME:CEST
DTSTART:20280326T010000
END:DAYLIGHT
BEGIN:STANDARD
TZOFFSETFROM:+0200
TZOFFSETTO:+0100
TZNAME:CET
DTSTART:20281029T010000
END:STANDARD
BEGIN:DAYLIGHT
TZOFFSETFROM:+0100
TZOFFSETTO:+0200
TZNAME:CEST
DTSTART:20290325T010000
END:DAYLIGHT
BEGIN:STANDARD
TZOFFSETFROM:+0200
TZOFFSETTO:+0100
TZNAME:CET
DTSTART:20291028T010000
END:STANDARD
END:VTIMEZONE
BEGIN:VEVENT
DTSTART;TZID=Europe/Berlin:20280323T150000
DTEND;TZID=Europe/Berlin:20280323T180000
DTSTAMP:20260421T120731
CREATED:20240927T071516Z
LAST-MODIFIED:20251216T100853Z
UID:10000723-1837436400-1837447200@www.ig-oma.de
SUMMARY:Wochenmarkt „Am Bahnhof“
DESCRIPTION:Obst und Gemüse\, Backwaren\, Fisch\, Fleisch\, Wurst\, Käse und Eier\, Honig und Brotaufstriche — vieles bio\, alles regional! Du hast Ideen oder Vorschläge\, unser Sortiment zu erweitern? Schön! Melde Dich unter wochenmarkt@ig-oma.de
URL:https://www.ig-oma.de/event/wochenmarkt-am-bahnhof-2-2/2028-03-23/
LOCATION:Im Bahnhof\, Oberdorfer Bahnhofstraße 7\, Waltenhofen-Oberdorf\, Bayern\, 87448\, Deutschland
CATEGORIES:Regelmäßige Fahrten
ATTACH;FMTTYPE=image/jpeg:https://www.ig-oma.de/wordpress/wp-content/uploads/2024/09/imbahnhof_wochenmarkt_web-teaser_151005-625x417-1.jpg
END:VEVENT
BEGIN:VEVENT
DTSTART;TZID=Europe/Berlin:20280330T150000
DTEND;TZID=Europe/Berlin:20280330T180000
DTSTAMP:20260421T120731
CREATED:20240927T071516Z
LAST-MODIFIED:20251216T100853Z
UID:10000724-1838041200-1838052000@www.ig-oma.de
SUMMARY:Wochenmarkt „Am Bahnhof“
DESCRIPTION:Obst und Gemüse\, Backwaren\, Fisch\, Fleisch\, Wurst\, Käse und Eier\, Honig und Brotaufstriche — vieles bio\, alles regional! Du hast Ideen oder Vorschläge\, unser Sortiment zu erweitern? Schön! Melde Dich unter wochenmarkt@ig-oma.de
URL:https://www.ig-oma.de/event/wochenmarkt-am-bahnhof-2-2/2028-03-30/
LOCATION:Im Bahnhof\, Oberdorfer Bahnhofstraße 7\, Waltenhofen-Oberdorf\, Bayern\, 87448\, Deutschland
CATEGORIES:Regelmäßige Fahrten
ATTACH;FMTTYPE=image/jpeg:https://www.ig-oma.de/wordpress/wp-content/uploads/2024/09/imbahnhof_wochenmarkt_web-teaser_151005-625x417-1.jpg
END:VEVENT
BEGIN:VEVENT
DTSTART;TZID=Europe/Berlin:20280406T150000
DTEND;TZID=Europe/Berlin:20280406T180000
DTSTAMP:20260421T120731
CREATED:20240927T071516Z
LAST-MODIFIED:20251216T100853Z
UID:10000725-1838646000-1838656800@www.ig-oma.de
SUMMARY:Wochenmarkt „Am Bahnhof“
DESCRIPTION:Obst und Gemüse\, Backwaren\, Fisch\, Fleisch\, Wurst\, Käse und Eier\, Honig und Brotaufstriche — vieles bio\, alles regional! Du hast Ideen oder Vorschläge\, unser Sortiment zu erweitern? Schön! Melde Dich unter wochenmarkt@ig-oma.de
URL:https://www.ig-oma.de/event/wochenmarkt-am-bahnhof-2-2/2028-04-06/
LOCATION:Im Bahnhof\, Oberdorfer Bahnhofstraße 7\, Waltenhofen-Oberdorf\, Bayern\, 87448\, Deutschland
CATEGORIES:Regelmäßige Fahrten
ATTACH;FMTTYPE=image/jpeg:https://www.ig-oma.de/wordpress/wp-content/uploads/2024/09/imbahnhof_wochenmarkt_web-teaser_151005-625x417-1.jpg
END:VEVENT
BEGIN:VEVENT
DTSTART;TZID=Europe/Berlin:20280413T150000
DTEND;TZID=Europe/Berlin:20280413T180000
DTSTAMP:20260421T120731
CREATED:20240927T071516Z
LAST-MODIFIED:20251216T100853Z
UID:10000726-1839250800-1839261600@www.ig-oma.de
SUMMARY:Wochenmarkt „Am Bahnhof“
DESCRIPTION:Obst und Gemüse\, Backwaren\, Fisch\, Fleisch\, Wurst\, Käse und Eier\, Honig und Brotaufstriche — vieles bio\, alles regional! Du hast Ideen oder Vorschläge\, unser Sortiment zu erweitern? Schön! Melde Dich unter wochenmarkt@ig-oma.de
URL:https://www.ig-oma.de/event/wochenmarkt-am-bahnhof-2-2/2028-04-13/
LOCATION:Im Bahnhof\, Oberdorfer Bahnhofstraße 7\, Waltenhofen-Oberdorf\, Bayern\, 87448\, Deutschland
CATEGORIES:Regelmäßige Fahrten
ATTACH;FMTTYPE=image/jpeg:https://www.ig-oma.de/wordpress/wp-content/uploads/2024/09/imbahnhof_wochenmarkt_web-teaser_151005-625x417-1.jpg
END:VEVENT
BEGIN:VEVENT
DTSTART;TZID=Europe/Berlin:20280420T150000
DTEND;TZID=Europe/Berlin:20280420T180000
DTSTAMP:20260421T120731
CREATED:20240927T071516Z
LAST-MODIFIED:20251216T100853Z
UID:10000727-1839855600-1839866400@www.ig-oma.de
SUMMARY:Wochenmarkt „Am Bahnhof“
DESCRIPTION:Obst und Gemüse\, Backwaren\, Fisch\, Fleisch\, Wurst\, Käse und Eier\, Honig und Brotaufstriche — vieles bio\, alles regional! Du hast Ideen oder Vorschläge\, unser Sortiment zu erweitern? Schön! Melde Dich unter wochenmarkt@ig-oma.de
URL:https://www.ig-oma.de/event/wochenmarkt-am-bahnhof-2-2/2028-04-20/
LOCATION:Im Bahnhof\, Oberdorfer Bahnhofstraße 7\, Waltenhofen-Oberdorf\, Bayern\, 87448\, Deutschland
CATEGORIES:Regelmäßige Fahrten
ATTACH;FMTTYPE=image/jpeg:https://www.ig-oma.de/wordpress/wp-content/uploads/2024/09/imbahnhof_wochenmarkt_web-teaser_151005-625x417-1.jpg
END:VEVENT
BEGIN:VEVENT
DTSTART;TZID=Europe/Berlin:20280427T150000
DTEND;TZID=Europe/Berlin:20280427T180000
DTSTAMP:20260421T120731
CREATED:20240927T071516Z
LAST-MODIFIED:20251216T100853Z
UID:10000728-1840460400-1840471200@www.ig-oma.de
SUMMARY:Wochenmarkt „Am Bahnhof“
DESCRIPTION:Obst und Gemüse\, Backwaren\, Fisch\, Fleisch\, Wurst\, Käse und Eier\, Honig und Brotaufstriche — vieles bio\, alles regional! Du hast Ideen oder Vorschläge\, unser Sortiment zu erweitern? Schön! Melde Dich unter wochenmarkt@ig-oma.de
URL:https://www.ig-oma.de/event/wochenmarkt-am-bahnhof-2-2/2028-04-27/
LOCATION:Im Bahnhof\, Oberdorfer Bahnhofstraße 7\, Waltenhofen-Oberdorf\, Bayern\, 87448\, Deutschland
CATEGORIES:Regelmäßige Fahrten
ATTACH;FMTTYPE=image/jpeg:https://www.ig-oma.de/wordpress/wp-content/uploads/2024/09/imbahnhof_wochenmarkt_web-teaser_151005-625x417-1.jpg
END:VEVENT
BEGIN:VEVENT
DTSTART;TZID=Europe/Berlin:20280504T150000
DTEND;TZID=Europe/Berlin:20280504T180000
DTSTAMP:20260421T120731
CREATED:20240927T071516Z
LAST-MODIFIED:20251216T100853Z
UID:10000729-1841065200-1841076000@www.ig-oma.de
SUMMARY:Wochenmarkt „Am Bahnhof“
DESCRIPTION:Obst und Gemüse\, Backwaren\, Fisch\, Fleisch\, Wurst\, Käse und Eier\, Honig und Brotaufstriche — vieles bio\, alles regional! Du hast Ideen oder Vorschläge\, unser Sortiment zu erweitern? Schön! Melde Dich unter wochenmarkt@ig-oma.de
URL:https://www.ig-oma.de/event/wochenmarkt-am-bahnhof-2-2/2028-05-04/
LOCATION:Im Bahnhof\, Oberdorfer Bahnhofstraße 7\, Waltenhofen-Oberdorf\, Bayern\, 87448\, Deutschland
CATEGORIES:Regelmäßige Fahrten
ATTACH;FMTTYPE=image/jpeg:https://www.ig-oma.de/wordpress/wp-content/uploads/2024/09/imbahnhof_wochenmarkt_web-teaser_151005-625x417-1.jpg
END:VEVENT
BEGIN:VEVENT
DTSTART;TZID=Europe/Berlin:20280511T150000
DTEND;TZID=Europe/Berlin:20280511T180000
DTSTAMP:20260421T120731
CREATED:20240927T071516Z
LAST-MODIFIED:20251216T100853Z
UID:10000730-1841670000-1841680800@www.ig-oma.de
SUMMARY:Wochenmarkt „Am Bahnhof“
DESCRIPTION:Obst und Gemüse\, Backwaren\, Fisch\, Fleisch\, Wurst\, Käse und Eier\, Honig und Brotaufstriche — vieles bio\, alles regional! Du hast Ideen oder Vorschläge\, unser Sortiment zu erweitern? Schön! Melde Dich unter wochenmarkt@ig-oma.de
URL:https://www.ig-oma.de/event/wochenmarkt-am-bahnhof-2-2/2028-05-11/
LOCATION:Im Bahnhof\, Oberdorfer Bahnhofstraße 7\, Waltenhofen-Oberdorf\, Bayern\, 87448\, Deutschland
CATEGORIES:Regelmäßige Fahrten
ATTACH;FMTTYPE=image/jpeg:https://www.ig-oma.de/wordpress/wp-content/uploads/2024/09/imbahnhof_wochenmarkt_web-teaser_151005-625x417-1.jpg
END:VEVENT
BEGIN:VEVENT
DTSTART;TZID=Europe/Berlin:20280518T150000
DTEND;TZID=Europe/Berlin:20280518T180000
DTSTAMP:20260421T120731
CREATED:20240927T071516Z
LAST-MODIFIED:20251216T100853Z
UID:10000731-1842274800-1842285600@www.ig-oma.de
SUMMARY:Wochenmarkt „Am Bahnhof“
DESCRIPTION:Obst und Gemüse\, Backwaren\, Fisch\, Fleisch\, Wurst\, Käse und Eier\, Honig und Brotaufstriche — vieles bio\, alles regional! Du hast Ideen oder Vorschläge\, unser Sortiment zu erweitern? Schön! Melde Dich unter wochenmarkt@ig-oma.de
URL:https://www.ig-oma.de/event/wochenmarkt-am-bahnhof-2-2/2028-05-18/
LOCATION:Im Bahnhof\, Oberdorfer Bahnhofstraße 7\, Waltenhofen-Oberdorf\, Bayern\, 87448\, Deutschland
CATEGORIES:Regelmäßige Fahrten
ATTACH;FMTTYPE=image/jpeg:https://www.ig-oma.de/wordpress/wp-content/uploads/2024/09/imbahnhof_wochenmarkt_web-teaser_151005-625x417-1.jpg
END:VEVENT
BEGIN:VEVENT
DTSTART;TZID=Europe/Berlin:20280525T150000
DTEND;TZID=Europe/Berlin:20280525T180000
DTSTAMP:20260421T120731
CREATED:20240927T071516Z
LAST-MODIFIED:20251216T100853Z
UID:10000732-1842879600-1842890400@www.ig-oma.de
SUMMARY:Wochenmarkt „Am Bahnhof“
DESCRIPTION:Obst und Gemüse\, Backwaren\, Fisch\, Fleisch\, Wurst\, Käse und Eier\, Honig und Brotaufstriche — vieles bio\, alles regional! Du hast Ideen oder Vorschläge\, unser Sortiment zu erweitern? Schön! Melde Dich unter wochenmarkt@ig-oma.de
URL:https://www.ig-oma.de/event/wochenmarkt-am-bahnhof-2-2/2028-05-25/
LOCATION:Im Bahnhof\, Oberdorfer Bahnhofstraße 7\, Waltenhofen-Oberdorf\, Bayern\, 87448\, Deutschland
CATEGORIES:Regelmäßige Fahrten
ATTACH;FMTTYPE=image/jpeg:https://www.ig-oma.de/wordpress/wp-content/uploads/2024/09/imbahnhof_wochenmarkt_web-teaser_151005-625x417-1.jpg
END:VEVENT
BEGIN:VEVENT
DTSTART;TZID=Europe/Berlin:20280601T150000
DTEND;TZID=Europe/Berlin:20280601T180000
DTSTAMP:20260421T120731
CREATED:20240927T071516Z
LAST-MODIFIED:20251216T100853Z
UID:10000733-1843484400-1843495200@www.ig-oma.de
SUMMARY:Wochenmarkt „Am Bahnhof“
DESCRIPTION:Obst und Gemüse\, Backwaren\, Fisch\, Fleisch\, Wurst\, Käse und Eier\, Honig und Brotaufstriche — vieles bio\, alles regional! Du hast Ideen oder Vorschläge\, unser Sortiment zu erweitern? Schön! Melde Dich unter wochenmarkt@ig-oma.de
URL:https://www.ig-oma.de/event/wochenmarkt-am-bahnhof-2-2/2028-06-01/
LOCATION:Im Bahnhof\, Oberdorfer Bahnhofstraße 7\, Waltenhofen-Oberdorf\, Bayern\, 87448\, Deutschland
CATEGORIES:Regelmäßige Fahrten
ATTACH;FMTTYPE=image/jpeg:https://www.ig-oma.de/wordpress/wp-content/uploads/2024/09/imbahnhof_wochenmarkt_web-teaser_151005-625x417-1.jpg
END:VEVENT
BEGIN:VEVENT
DTSTART;TZID=Europe/Berlin:20280608T150000
DTEND;TZID=Europe/Berlin:20280608T180000
DTSTAMP:20260421T120731
CREATED:20240927T071516Z
LAST-MODIFIED:20251216T100853Z
UID:10000734-1844089200-1844100000@www.ig-oma.de
SUMMARY:Wochenmarkt „Am Bahnhof“
DESCRIPTION:Obst und Gemüse\, Backwaren\, Fisch\, Fleisch\, Wurst\, Käse und Eier\, Honig und Brotaufstriche — vieles bio\, alles regional! Du hast Ideen oder Vorschläge\, unser Sortiment zu erweitern? Schön! Melde Dich unter wochenmarkt@ig-oma.de
URL:https://www.ig-oma.de/event/wochenmarkt-am-bahnhof-2-2/2028-06-08/
LOCATION:Im Bahnhof\, Oberdorfer Bahnhofstraße 7\, Waltenhofen-Oberdorf\, Bayern\, 87448\, Deutschland
CATEGORIES:Regelmäßige Fahrten
ATTACH;FMTTYPE=image/jpeg:https://www.ig-oma.de/wordpress/wp-content/uploads/2024/09/imbahnhof_wochenmarkt_web-teaser_151005-625x417-1.jpg
END:VEVENT
BEGIN:VEVENT
DTSTART;TZID=Europe/Berlin:20280615T150000
DTEND;TZID=Europe/Berlin:20280615T180000
DTSTAMP:20260421T120731
CREATED:20240927T071516Z
LAST-MODIFIED:20251216T100853Z
UID:10000735-1844694000-1844704800@www.ig-oma.de
SUMMARY:Wochenmarkt „Am Bahnhof“
DESCRIPTION:Obst und Gemüse\, Backwaren\, Fisch\, Fleisch\, Wurst\, Käse und Eier\, Honig und Brotaufstriche — vieles bio\, alles regional! Du hast Ideen oder Vorschläge\, unser Sortiment zu erweitern? Schön! Melde Dich unter wochenmarkt@ig-oma.de
URL:https://www.ig-oma.de/event/wochenmarkt-am-bahnhof-2-2/2028-06-15/
LOCATION:Im Bahnhof\, Oberdorfer Bahnhofstraße 7\, Waltenhofen-Oberdorf\, Bayern\, 87448\, Deutschland
CATEGORIES:Regelmäßige Fahrten
ATTACH;FMTTYPE=image/jpeg:https://www.ig-oma.de/wordpress/wp-content/uploads/2024/09/imbahnhof_wochenmarkt_web-teaser_151005-625x417-1.jpg
END:VEVENT
BEGIN:VEVENT
DTSTART;TZID=Europe/Berlin:20280622T150000
DTEND;TZID=Europe/Berlin:20280622T180000
DTSTAMP:20260421T120731
CREATED:20240927T071516Z
LAST-MODIFIED:20251216T100853Z
UID:10000736-1845298800-1845309600@www.ig-oma.de
SUMMARY:Wochenmarkt „Am Bahnhof“
DESCRIPTION:Obst und Gemüse\, Backwaren\, Fisch\, Fleisch\, Wurst\, Käse und Eier\, Honig und Brotaufstriche — vieles bio\, alles regional! Du hast Ideen oder Vorschläge\, unser Sortiment zu erweitern? Schön! Melde Dich unter wochenmarkt@ig-oma.de
URL:https://www.ig-oma.de/event/wochenmarkt-am-bahnhof-2-2/2028-06-22/
LOCATION:Im Bahnhof\, Oberdorfer Bahnhofstraße 7\, Waltenhofen-Oberdorf\, Bayern\, 87448\, Deutschland
CATEGORIES:Regelmäßige Fahrten
ATTACH;FMTTYPE=image/jpeg:https://www.ig-oma.de/wordpress/wp-content/uploads/2024/09/imbahnhof_wochenmarkt_web-teaser_151005-625x417-1.jpg
END:VEVENT
BEGIN:VEVENT
DTSTART;TZID=Europe/Berlin:20280629T150000
DTEND;TZID=Europe/Berlin:20280629T180000
DTSTAMP:20260421T120731
CREATED:20240927T071516Z
LAST-MODIFIED:20251216T100853Z
UID:10000737-1845903600-1845914400@www.ig-oma.de
SUMMARY:Wochenmarkt „Am Bahnhof“
DESCRIPTION:Obst und Gemüse\, Backwaren\, Fisch\, Fleisch\, Wurst\, Käse und Eier\, Honig und Brotaufstriche — vieles bio\, alles regional! Du hast Ideen oder Vorschläge\, unser Sortiment zu erweitern? Schön! Melde Dich unter wochenmarkt@ig-oma.de
URL:https://www.ig-oma.de/event/wochenmarkt-am-bahnhof-2-2/2028-06-29/
LOCATION:Im Bahnhof\, Oberdorfer Bahnhofstraße 7\, Waltenhofen-Oberdorf\, Bayern\, 87448\, Deutschland
CATEGORIES:Regelmäßige Fahrten
ATTACH;FMTTYPE=image/jpeg:https://www.ig-oma.de/wordpress/wp-content/uploads/2024/09/imbahnhof_wochenmarkt_web-teaser_151005-625x417-1.jpg
END:VEVENT
BEGIN:VEVENT
DTSTART;TZID=Europe/Berlin:20280706T150000
DTEND;TZID=Europe/Berlin:20280706T180000
DTSTAMP:20260421T120731
CREATED:20240927T071516Z
LAST-MODIFIED:20251216T100853Z
UID:10000738-1846508400-1846519200@www.ig-oma.de
SUMMARY:Wochenmarkt „Am Bahnhof“
DESCRIPTION:Obst und Gemüse\, Backwaren\, Fisch\, Fleisch\, Wurst\, Käse und Eier\, Honig und Brotaufstriche — vieles bio\, alles regional! Du hast Ideen oder Vorschläge\, unser Sortiment zu erweitern? Schön! Melde Dich unter wochenmarkt@ig-oma.de
URL:https://www.ig-oma.de/event/wochenmarkt-am-bahnhof-2-2/2028-07-06/
LOCATION:Im Bahnhof\, Oberdorfer Bahnhofstraße 7\, Waltenhofen-Oberdorf\, Bayern\, 87448\, Deutschland
CATEGORIES:Regelmäßige Fahrten
ATTACH;FMTTYPE=image/jpeg:https://www.ig-oma.de/wordpress/wp-content/uploads/2024/09/imbahnhof_wochenmarkt_web-teaser_151005-625x417-1.jpg
END:VEVENT
BEGIN:VEVENT
DTSTART;TZID=Europe/Berlin:20280713T150000
DTEND;TZID=Europe/Berlin:20280713T180000
DTSTAMP:20260421T120731
CREATED:20240927T071516Z
LAST-MODIFIED:20251216T100853Z
UID:10000739-1847113200-1847124000@www.ig-oma.de
SUMMARY:Wochenmarkt „Am Bahnhof“
DESCRIPTION:Obst und Gemüse\, Backwaren\, Fisch\, Fleisch\, Wurst\, Käse und Eier\, Honig und Brotaufstriche — vieles bio\, alles regional! Du hast Ideen oder Vorschläge\, unser Sortiment zu erweitern? Schön! Melde Dich unter wochenmarkt@ig-oma.de
URL:https://www.ig-oma.de/event/wochenmarkt-am-bahnhof-2-2/2028-07-13/
LOCATION:Im Bahnhof\, Oberdorfer Bahnhofstraße 7\, Waltenhofen-Oberdorf\, Bayern\, 87448\, Deutschland
CATEGORIES:Regelmäßige Fahrten
ATTACH;FMTTYPE=image/jpeg:https://www.ig-oma.de/wordpress/wp-content/uploads/2024/09/imbahnhof_wochenmarkt_web-teaser_151005-625x417-1.jpg
END:VEVENT
BEGIN:VEVENT
DTSTART;TZID=Europe/Berlin:20280720T150000
DTEND;TZID=Europe/Berlin:20280720T180000
DTSTAMP:20260421T120731
CREATED:20240927T071516Z
LAST-MODIFIED:20251216T100853Z
UID:10000740-1847718000-1847728800@www.ig-oma.de
SUMMARY:Wochenmarkt „Am Bahnhof“
DESCRIPTION:Obst und Gemüse\, Backwaren\, Fisch\, Fleisch\, Wurst\, Käse und Eier\, Honig und Brotaufstriche — vieles bio\, alles regional! Du hast Ideen oder Vorschläge\, unser Sortiment zu erweitern? Schön! Melde Dich unter wochenmarkt@ig-oma.de
URL:https://www.ig-oma.de/event/wochenmarkt-am-bahnhof-2-2/2028-07-20/
LOCATION:Im Bahnhof\, Oberdorfer Bahnhofstraße 7\, Waltenhofen-Oberdorf\, Bayern\, 87448\, Deutschland
CATEGORIES:Regelmäßige Fahrten
ATTACH;FMTTYPE=image/jpeg:https://www.ig-oma.de/wordpress/wp-content/uploads/2024/09/imbahnhof_wochenmarkt_web-teaser_151005-625x417-1.jpg
END:VEVENT
BEGIN:VEVENT
DTSTART;TZID=Europe/Berlin:20280727T150000
DTEND;TZID=Europe/Berlin:20280727T180000
DTSTAMP:20260421T120731
CREATED:20240927T071516Z
LAST-MODIFIED:20251216T100853Z
UID:10000741-1848322800-1848333600@www.ig-oma.de
SUMMARY:Wochenmarkt „Am Bahnhof“
DESCRIPTION:Obst und Gemüse\, Backwaren\, Fisch\, Fleisch\, Wurst\, Käse und Eier\, Honig und Brotaufstriche — vieles bio\, alles regional! Du hast Ideen oder Vorschläge\, unser Sortiment zu erweitern? Schön! Melde Dich unter wochenmarkt@ig-oma.de
URL:https://www.ig-oma.de/event/wochenmarkt-am-bahnhof-2-2/2028-07-27/
LOCATION:Im Bahnhof\, Oberdorfer Bahnhofstraße 7\, Waltenhofen-Oberdorf\, Bayern\, 87448\, Deutschland
CATEGORIES:Regelmäßige Fahrten
ATTACH;FMTTYPE=image/jpeg:https://www.ig-oma.de/wordpress/wp-content/uploads/2024/09/imbahnhof_wochenmarkt_web-teaser_151005-625x417-1.jpg
END:VEVENT
BEGIN:VEVENT
DTSTART;TZID=Europe/Berlin:20280803T150000
DTEND;TZID=Europe/Berlin:20280803T180000
DTSTAMP:20260421T120731
CREATED:20240927T071516Z
LAST-MODIFIED:20251216T100853Z
UID:10000742-1848927600-1848938400@www.ig-oma.de
SUMMARY:Wochenmarkt „Am Bahnhof“
DESCRIPTION:Obst und Gemüse\, Backwaren\, Fisch\, Fleisch\, Wurst\, Käse und Eier\, Honig und Brotaufstriche — vieles bio\, alles regional! Du hast Ideen oder Vorschläge\, unser Sortiment zu erweitern? Schön! Melde Dich unter wochenmarkt@ig-oma.de
URL:https://www.ig-oma.de/event/wochenmarkt-am-bahnhof-2-2/2028-08-03/
LOCATION:Im Bahnhof\, Oberdorfer Bahnhofstraße 7\, Waltenhofen-Oberdorf\, Bayern\, 87448\, Deutschland
CATEGORIES:Regelmäßige Fahrten
ATTACH;FMTTYPE=image/jpeg:https://www.ig-oma.de/wordpress/wp-content/uploads/2024/09/imbahnhof_wochenmarkt_web-teaser_151005-625x417-1.jpg
END:VEVENT
BEGIN:VEVENT
DTSTART;TZID=Europe/Berlin:20280810T150000
DTEND;TZID=Europe/Berlin:20280810T180000
DTSTAMP:20260421T120731
CREATED:20240927T071516Z
LAST-MODIFIED:20251216T100853Z
UID:10000743-1849532400-1849543200@www.ig-oma.de
SUMMARY:Wochenmarkt „Am Bahnhof“
DESCRIPTION:Obst und Gemüse\, Backwaren\, Fisch\, Fleisch\, Wurst\, Käse und Eier\, Honig und Brotaufstriche — vieles bio\, alles regional! Du hast Ideen oder Vorschläge\, unser Sortiment zu erweitern? Schön! Melde Dich unter wochenmarkt@ig-oma.de
URL:https://www.ig-oma.de/event/wochenmarkt-am-bahnhof-2-2/2028-08-10/
LOCATION:Im Bahnhof\, Oberdorfer Bahnhofstraße 7\, Waltenhofen-Oberdorf\, Bayern\, 87448\, Deutschland
CATEGORIES:Regelmäßige Fahrten
ATTACH;FMTTYPE=image/jpeg:https://www.ig-oma.de/wordpress/wp-content/uploads/2024/09/imbahnhof_wochenmarkt_web-teaser_151005-625x417-1.jpg
END:VEVENT
BEGIN:VEVENT
DTSTART;TZID=Europe/Berlin:20280817T150000
DTEND;TZID=Europe/Berlin:20280817T180000
DTSTAMP:20260421T120731
CREATED:20240927T071516Z
LAST-MODIFIED:20251216T100853Z
UID:10000744-1850137200-1850148000@www.ig-oma.de
SUMMARY:Wochenmarkt „Am Bahnhof“
DESCRIPTION:Obst und Gemüse\, Backwaren\, Fisch\, Fleisch\, Wurst\, Käse und Eier\, Honig und Brotaufstriche — vieles bio\, alles regional! Du hast Ideen oder Vorschläge\, unser Sortiment zu erweitern? Schön! Melde Dich unter wochenmarkt@ig-oma.de
URL:https://www.ig-oma.de/event/wochenmarkt-am-bahnhof-2-2/2028-08-17/
LOCATION:Im Bahnhof\, Oberdorfer Bahnhofstraße 7\, Waltenhofen-Oberdorf\, Bayern\, 87448\, Deutschland
CATEGORIES:Regelmäßige Fahrten
ATTACH;FMTTYPE=image/jpeg:https://www.ig-oma.de/wordpress/wp-content/uploads/2024/09/imbahnhof_wochenmarkt_web-teaser_151005-625x417-1.jpg
END:VEVENT
BEGIN:VEVENT
DTSTART;TZID=Europe/Berlin:20280824T150000
DTEND;TZID=Europe/Berlin:20280824T180000
DTSTAMP:20260421T120731
CREATED:20240927T071516Z
LAST-MODIFIED:20251216T100853Z
UID:10000745-1850742000-1850752800@www.ig-oma.de
SUMMARY:Wochenmarkt „Am Bahnhof“
DESCRIPTION:Obst und Gemüse\, Backwaren\, Fisch\, Fleisch\, Wurst\, Käse und Eier\, Honig und Brotaufstriche — vieles bio\, alles regional! Du hast Ideen oder Vorschläge\, unser Sortiment zu erweitern? Schön! Melde Dich unter wochenmarkt@ig-oma.de
URL:https://www.ig-oma.de/event/wochenmarkt-am-bahnhof-2-2/2028-08-24/
LOCATION:Im Bahnhof\, Oberdorfer Bahnhofstraße 7\, Waltenhofen-Oberdorf\, Bayern\, 87448\, Deutschland
CATEGORIES:Regelmäßige Fahrten
ATTACH;FMTTYPE=image/jpeg:https://www.ig-oma.de/wordpress/wp-content/uploads/2024/09/imbahnhof_wochenmarkt_web-teaser_151005-625x417-1.jpg
END:VEVENT
BEGIN:VEVENT
DTSTART;TZID=Europe/Berlin:20280831T150000
DTEND;TZID=Europe/Berlin:20280831T180000
DTSTAMP:20260421T120731
CREATED:20240927T071516Z
LAST-MODIFIED:20251216T100853Z
UID:10000746-1851346800-1851357600@www.ig-oma.de
SUMMARY:Wochenmarkt „Am Bahnhof“
DESCRIPTION:Obst und Gemüse\, Backwaren\, Fisch\, Fleisch\, Wurst\, Käse und Eier\, Honig und Brotaufstriche — vieles bio\, alles regional! Du hast Ideen oder Vorschläge\, unser Sortiment zu erweitern? Schön! Melde Dich unter wochenmarkt@ig-oma.de
URL:https://www.ig-oma.de/event/wochenmarkt-am-bahnhof-2-2/2028-08-31/
LOCATION:Im Bahnhof\, Oberdorfer Bahnhofstraße 7\, Waltenhofen-Oberdorf\, Bayern\, 87448\, Deutschland
CATEGORIES:Regelmäßige Fahrten
ATTACH;FMTTYPE=image/jpeg:https://www.ig-oma.de/wordpress/wp-content/uploads/2024/09/imbahnhof_wochenmarkt_web-teaser_151005-625x417-1.jpg
END:VEVENT
BEGIN:VEVENT
DTSTART;TZID=Europe/Berlin:20280907T150000
DTEND;TZID=Europe/Berlin:20280907T180000
DTSTAMP:20260421T120731
CREATED:20240927T071516Z
LAST-MODIFIED:20251216T100853Z
UID:10000747-1851951600-1851962400@www.ig-oma.de
SUMMARY:Wochenmarkt „Am Bahnhof“
DESCRIPTION:Obst und Gemüse\, Backwaren\, Fisch\, Fleisch\, Wurst\, Käse und Eier\, Honig und Brotaufstriche — vieles bio\, alles regional! Du hast Ideen oder Vorschläge\, unser Sortiment zu erweitern? Schön! Melde Dich unter wochenmarkt@ig-oma.de
URL:https://www.ig-oma.de/event/wochenmarkt-am-bahnhof-2-2/2028-09-07/
LOCATION:Im Bahnhof\, Oberdorfer Bahnhofstraße 7\, Waltenhofen-Oberdorf\, Bayern\, 87448\, Deutschland
CATEGORIES:Regelmäßige Fahrten
ATTACH;FMTTYPE=image/jpeg:https://www.ig-oma.de/wordpress/wp-content/uploads/2024/09/imbahnhof_wochenmarkt_web-teaser_151005-625x417-1.jpg
END:VEVENT
BEGIN:VEVENT
DTSTART;TZID=Europe/Berlin:20280914T150000
DTEND;TZID=Europe/Berlin:20280914T180000
DTSTAMP:20260421T120731
CREATED:20240927T071516Z
LAST-MODIFIED:20251216T100853Z
UID:10000748-1852556400-1852567200@www.ig-oma.de
SUMMARY:Wochenmarkt „Am Bahnhof“
DESCRIPTION:Obst und Gemüse\, Backwaren\, Fisch\, Fleisch\, Wurst\, Käse und Eier\, Honig und Brotaufstriche — vieles bio\, alles regional! Du hast Ideen oder Vorschläge\, unser Sortiment zu erweitern? Schön! Melde Dich unter wochenmarkt@ig-oma.de
URL:https://www.ig-oma.de/event/wochenmarkt-am-bahnhof-2-2/2028-09-14/
LOCATION:Im Bahnhof\, Oberdorfer Bahnhofstraße 7\, Waltenhofen-Oberdorf\, Bayern\, 87448\, Deutschland
CATEGORIES:Regelmäßige Fahrten
ATTACH;FMTTYPE=image/jpeg:https://www.ig-oma.de/wordpress/wp-content/uploads/2024/09/imbahnhof_wochenmarkt_web-teaser_151005-625x417-1.jpg
END:VEVENT
BEGIN:VEVENT
DTSTART;TZID=Europe/Berlin:20280921T150000
DTEND;TZID=Europe/Berlin:20280921T180000
DTSTAMP:20260421T120731
CREATED:20240927T071516Z
LAST-MODIFIED:20251216T100853Z
UID:10000749-1853161200-1853172000@www.ig-oma.de
SUMMARY:Wochenmarkt „Am Bahnhof“
DESCRIPTION:Obst und Gemüse\, Backwaren\, Fisch\, Fleisch\, Wurst\, Käse und Eier\, Honig und Brotaufstriche — vieles bio\, alles regional! Du hast Ideen oder Vorschläge\, unser Sortiment zu erweitern? Schön! Melde Dich unter wochenmarkt@ig-oma.de
URL:https://www.ig-oma.de/event/wochenmarkt-am-bahnhof-2-2/2028-09-21/
LOCATION:Im Bahnhof\, Oberdorfer Bahnhofstraße 7\, Waltenhofen-Oberdorf\, Bayern\, 87448\, Deutschland
CATEGORIES:Regelmäßige Fahrten
ATTACH;FMTTYPE=image/jpeg:https://www.ig-oma.de/wordpress/wp-content/uploads/2024/09/imbahnhof_wochenmarkt_web-teaser_151005-625x417-1.jpg
END:VEVENT
BEGIN:VEVENT
DTSTART;TZID=Europe/Berlin:20280928T150000
DTEND;TZID=Europe/Berlin:20280928T180000
DTSTAMP:20260421T120731
CREATED:20240927T071516Z
LAST-MODIFIED:20251216T100853Z
UID:10000750-1853766000-1853776800@www.ig-oma.de
SUMMARY:Wochenmarkt „Am Bahnhof“
DESCRIPTION:Obst und Gemüse\, Backwaren\, Fisch\, Fleisch\, Wurst\, Käse und Eier\, Honig und Brotaufstriche — vieles bio\, alles regional! Du hast Ideen oder Vorschläge\, unser Sortiment zu erweitern? Schön! Melde Dich unter wochenmarkt@ig-oma.de
URL:https://www.ig-oma.de/event/wochenmarkt-am-bahnhof-2-2/2028-09-28/
LOCATION:Im Bahnhof\, Oberdorfer Bahnhofstraße 7\, Waltenhofen-Oberdorf\, Bayern\, 87448\, Deutschland
CATEGORIES:Regelmäßige Fahrten
ATTACH;FMTTYPE=image/jpeg:https://www.ig-oma.de/wordpress/wp-content/uploads/2024/09/imbahnhof_wochenmarkt_web-teaser_151005-625x417-1.jpg
END:VEVENT
BEGIN:VEVENT
DTSTART;TZID=Europe/Berlin:20281005T150000
DTEND;TZID=Europe/Berlin:20281005T180000
DTSTAMP:20260421T120731
CREATED:20240927T071516Z
LAST-MODIFIED:20251216T100853Z
UID:10000751-1854370800-1854381600@www.ig-oma.de
SUMMARY:Wochenmarkt „Am Bahnhof“
DESCRIPTION:Obst und Gemüse\, Backwaren\, Fisch\, Fleisch\, Wurst\, Käse und Eier\, Honig und Brotaufstriche — vieles bio\, alles regional! Du hast Ideen oder Vorschläge\, unser Sortiment zu erweitern? Schön! Melde Dich unter wochenmarkt@ig-oma.de
URL:https://www.ig-oma.de/event/wochenmarkt-am-bahnhof-2-2/2028-10-05/
LOCATION:Im Bahnhof\, Oberdorfer Bahnhofstraße 7\, Waltenhofen-Oberdorf\, Bayern\, 87448\, Deutschland
CATEGORIES:Regelmäßige Fahrten
ATTACH;FMTTYPE=image/jpeg:https://www.ig-oma.de/wordpress/wp-content/uploads/2024/09/imbahnhof_wochenmarkt_web-teaser_151005-625x417-1.jpg
END:VEVENT
BEGIN:VEVENT
DTSTART;TZID=Europe/Berlin:20281012T150000
DTEND;TZID=Europe/Berlin:20281012T180000
DTSTAMP:20260421T120731
CREATED:20240927T071516Z
LAST-MODIFIED:20251216T100853Z
UID:10000752-1854975600-1854986400@www.ig-oma.de
SUMMARY:Wochenmarkt „Am Bahnhof“
DESCRIPTION:Obst und Gemüse\, Backwaren\, Fisch\, Fleisch\, Wurst\, Käse und Eier\, Honig und Brotaufstriche — vieles bio\, alles regional! Du hast Ideen oder Vorschläge\, unser Sortiment zu erweitern? Schön! Melde Dich unter wochenmarkt@ig-oma.de
URL:https://www.ig-oma.de/event/wochenmarkt-am-bahnhof-2-2/2028-10-12/
LOCATION:Im Bahnhof\, Oberdorfer Bahnhofstraße 7\, Waltenhofen-Oberdorf\, Bayern\, 87448\, Deutschland
CATEGORIES:Regelmäßige Fahrten
ATTACH;FMTTYPE=image/jpeg:https://www.ig-oma.de/wordpress/wp-content/uploads/2024/09/imbahnhof_wochenmarkt_web-teaser_151005-625x417-1.jpg
END:VEVENT
END:VCALENDAR