BEGIN:VCALENDAR
VERSION:2.0
PRODID:-//IG OMa - ECPv6.15.20//NONSGML v1.0//EN
CALSCALE:GREGORIAN
METHOD:PUBLISH
X-ORIGINAL-URL:https://www.ig-oma.de
X-WR-CALDESC:Veranstaltungen für IG OMa
REFRESH-INTERVAL;VALUE=DURATION:PT1H
X-Robots-Tag:noindex
X-PUBLISHED-TTL:PT1H
BEGIN:VTIMEZONE
TZID:Europe/Berlin
BEGIN:DAYLIGHT
TZOFFSETFROM:+0100
TZOFFSETTO:+0200
TZNAME:CEST
DTSTART:20280326T010000
END:DAYLIGHT
BEGIN:STANDARD
TZOFFSETFROM:+0200
TZOFFSETTO:+0100
TZNAME:CET
DTSTART:20281029T010000
END:STANDARD
BEGIN:DAYLIGHT
TZOFFSETFROM:+0100
TZOFFSETTO:+0200
TZNAME:CEST
DTSTART:20290325T010000
END:DAYLIGHT
BEGIN:STANDARD
TZOFFSETFROM:+0200
TZOFFSETTO:+0100
TZNAME:CET
DTSTART:20291028T010000
END:STANDARD
BEGIN:DAYLIGHT
TZOFFSETFROM:+0100
TZOFFSETTO:+0200
TZNAME:CEST
DTSTART:20300331T010000
END:DAYLIGHT
BEGIN:STANDARD
TZOFFSETFROM:+0200
TZOFFSETTO:+0100
TZNAME:CET
DTSTART:20301027T010000
END:STANDARD
END:VTIMEZONE
BEGIN:VEVENT
DTSTART;TZID=Europe/Berlin:20290524T150000
DTEND;TZID=Europe/Berlin:20290524T180000
DTSTAMP:20260425T231757
CREATED:20240927T071516Z
LAST-MODIFIED:20251216T100853Z
UID:10000784-1874329200-1874340000@www.ig-oma.de
SUMMARY:Wochenmarkt „Am Bahnhof“
DESCRIPTION:Obst und Gemüse\, Backwaren\, Fisch\, Fleisch\, Wurst\, Käse und Eier\, Honig und Brotaufstriche — vieles bio\, alles regional! Du hast Ideen oder Vorschläge\, unser Sortiment zu erweitern? Schön! Melde Dich unter wochenmarkt@ig-oma.de
URL:https://www.ig-oma.de/event/wochenmarkt-am-bahnhof-2-2/2029-05-24/
LOCATION:Im Bahnhof\, Oberdorfer Bahnhofstraße 7\, Waltenhofen-Oberdorf\, Bayern\, 87448\, Deutschland
CATEGORIES:Regelmäßige Fahrten
ATTACH;FMTTYPE=image/jpeg:https://www.ig-oma.de/wordpress/wp-content/uploads/2024/09/imbahnhof_wochenmarkt_web-teaser_151005-625x417-1.jpg
END:VEVENT
BEGIN:VEVENT
DTSTART;TZID=Europe/Berlin:20290531T150000
DTEND;TZID=Europe/Berlin:20290531T180000
DTSTAMP:20260425T231757
CREATED:20240927T071516Z
LAST-MODIFIED:20251216T100853Z
UID:10000785-1874934000-1874944800@www.ig-oma.de
SUMMARY:Wochenmarkt „Am Bahnhof“
DESCRIPTION:Obst und Gemüse\, Backwaren\, Fisch\, Fleisch\, Wurst\, Käse und Eier\, Honig und Brotaufstriche — vieles bio\, alles regional! Du hast Ideen oder Vorschläge\, unser Sortiment zu erweitern? Schön! Melde Dich unter wochenmarkt@ig-oma.de
URL:https://www.ig-oma.de/event/wochenmarkt-am-bahnhof-2-2/2029-05-31/
LOCATION:Im Bahnhof\, Oberdorfer Bahnhofstraße 7\, Waltenhofen-Oberdorf\, Bayern\, 87448\, Deutschland
CATEGORIES:Regelmäßige Fahrten
ATTACH;FMTTYPE=image/jpeg:https://www.ig-oma.de/wordpress/wp-content/uploads/2024/09/imbahnhof_wochenmarkt_web-teaser_151005-625x417-1.jpg
END:VEVENT
BEGIN:VEVENT
DTSTART;TZID=Europe/Berlin:20290607T150000
DTEND;TZID=Europe/Berlin:20290607T180000
DTSTAMP:20260425T231757
CREATED:20240927T071516Z
LAST-MODIFIED:20251216T100853Z
UID:10000786-1875538800-1875549600@www.ig-oma.de
SUMMARY:Wochenmarkt „Am Bahnhof“
DESCRIPTION:Obst und Gemüse\, Backwaren\, Fisch\, Fleisch\, Wurst\, Käse und Eier\, Honig und Brotaufstriche — vieles bio\, alles regional! Du hast Ideen oder Vorschläge\, unser Sortiment zu erweitern? Schön! Melde Dich unter wochenmarkt@ig-oma.de
URL:https://www.ig-oma.de/event/wochenmarkt-am-bahnhof-2-2/2029-06-07/
LOCATION:Im Bahnhof\, Oberdorfer Bahnhofstraße 7\, Waltenhofen-Oberdorf\, Bayern\, 87448\, Deutschland
CATEGORIES:Regelmäßige Fahrten
ATTACH;FMTTYPE=image/jpeg:https://www.ig-oma.de/wordpress/wp-content/uploads/2024/09/imbahnhof_wochenmarkt_web-teaser_151005-625x417-1.jpg
END:VEVENT
BEGIN:VEVENT
DTSTART;TZID=Europe/Berlin:20290614T150000
DTEND;TZID=Europe/Berlin:20290614T180000
DTSTAMP:20260425T231757
CREATED:20240927T071516Z
LAST-MODIFIED:20251216T100853Z
UID:10000787-1876143600-1876154400@www.ig-oma.de
SUMMARY:Wochenmarkt „Am Bahnhof“
DESCRIPTION:Obst und Gemüse\, Backwaren\, Fisch\, Fleisch\, Wurst\, Käse und Eier\, Honig und Brotaufstriche — vieles bio\, alles regional! Du hast Ideen oder Vorschläge\, unser Sortiment zu erweitern? Schön! Melde Dich unter wochenmarkt@ig-oma.de
URL:https://www.ig-oma.de/event/wochenmarkt-am-bahnhof-2-2/2029-06-14/
LOCATION:Im Bahnhof\, Oberdorfer Bahnhofstraße 7\, Waltenhofen-Oberdorf\, Bayern\, 87448\, Deutschland
CATEGORIES:Regelmäßige Fahrten
ATTACH;FMTTYPE=image/jpeg:https://www.ig-oma.de/wordpress/wp-content/uploads/2024/09/imbahnhof_wochenmarkt_web-teaser_151005-625x417-1.jpg
END:VEVENT
BEGIN:VEVENT
DTSTART;TZID=Europe/Berlin:20290621T150000
DTEND;TZID=Europe/Berlin:20290621T180000
DTSTAMP:20260425T231757
CREATED:20240927T071516Z
LAST-MODIFIED:20251216T100853Z
UID:10002078-1876748400-1876759200@www.ig-oma.de
SUMMARY:Wochenmarkt „Am Bahnhof“
DESCRIPTION:Obst und Gemüse\, Backwaren\, Fisch\, Fleisch\, Wurst\, Käse und Eier\, Honig und Brotaufstriche — vieles bio\, alles regional! Du hast Ideen oder Vorschläge\, unser Sortiment zu erweitern? Schön! Melde Dich unter wochenmarkt@ig-oma.de
URL:https://www.ig-oma.de/event/wochenmarkt-am-bahnhof-2-2/2029-06-21/
LOCATION:Im Bahnhof\, Oberdorfer Bahnhofstraße 7\, Waltenhofen-Oberdorf\, Bayern\, 87448\, Deutschland
CATEGORIES:Regelmäßige Fahrten
ATTACH;FMTTYPE=image/jpeg:https://www.ig-oma.de/wordpress/wp-content/uploads/2024/09/imbahnhof_wochenmarkt_web-teaser_151005-625x417-1.jpg
END:VEVENT
BEGIN:VEVENT
DTSTART;TZID=Europe/Berlin:20290628T150000
DTEND;TZID=Europe/Berlin:20290628T180000
DTSTAMP:20260425T231757
CREATED:20240927T071516Z
LAST-MODIFIED:20251216T100853Z
UID:10003292-1877353200-1877364000@www.ig-oma.de
SUMMARY:Wochenmarkt „Am Bahnhof“
DESCRIPTION:Obst und Gemüse\, Backwaren\, Fisch\, Fleisch\, Wurst\, Käse und Eier\, Honig und Brotaufstriche — vieles bio\, alles regional! Du hast Ideen oder Vorschläge\, unser Sortiment zu erweitern? Schön! Melde Dich unter wochenmarkt@ig-oma.de
URL:https://www.ig-oma.de/event/wochenmarkt-am-bahnhof-2-2/2029-06-28/
LOCATION:Im Bahnhof\, Oberdorfer Bahnhofstraße 7\, Waltenhofen-Oberdorf\, Bayern\, 87448\, Deutschland
CATEGORIES:Regelmäßige Fahrten
ATTACH;FMTTYPE=image/jpeg:https://www.ig-oma.de/wordpress/wp-content/uploads/2024/09/imbahnhof_wochenmarkt_web-teaser_151005-625x417-1.jpg
END:VEVENT
BEGIN:VEVENT
DTSTART;TZID=Europe/Berlin:20290705T150000
DTEND;TZID=Europe/Berlin:20290705T180000
DTSTAMP:20260425T231757
CREATED:20240927T071516Z
LAST-MODIFIED:20251216T100853Z
UID:10003293-1877958000-1877968800@www.ig-oma.de
SUMMARY:Wochenmarkt „Am Bahnhof“
DESCRIPTION:Obst und Gemüse\, Backwaren\, Fisch\, Fleisch\, Wurst\, Käse und Eier\, Honig und Brotaufstriche — vieles bio\, alles regional! Du hast Ideen oder Vorschläge\, unser Sortiment zu erweitern? Schön! Melde Dich unter wochenmarkt@ig-oma.de
URL:https://www.ig-oma.de/event/wochenmarkt-am-bahnhof-2-2/2029-07-05/
LOCATION:Im Bahnhof\, Oberdorfer Bahnhofstraße 7\, Waltenhofen-Oberdorf\, Bayern\, 87448\, Deutschland
CATEGORIES:Regelmäßige Fahrten
ATTACH;FMTTYPE=image/jpeg:https://www.ig-oma.de/wordpress/wp-content/uploads/2024/09/imbahnhof_wochenmarkt_web-teaser_151005-625x417-1.jpg
END:VEVENT
BEGIN:VEVENT
DTSTART;TZID=Europe/Berlin:20290712T150000
DTEND;TZID=Europe/Berlin:20290712T180000
DTSTAMP:20260425T231757
CREATED:20240927T071516Z
LAST-MODIFIED:20251216T100853Z
UID:10003294-1878562800-1878573600@www.ig-oma.de
SUMMARY:Wochenmarkt „Am Bahnhof“
DESCRIPTION:Obst und Gemüse\, Backwaren\, Fisch\, Fleisch\, Wurst\, Käse und Eier\, Honig und Brotaufstriche — vieles bio\, alles regional! Du hast Ideen oder Vorschläge\, unser Sortiment zu erweitern? Schön! Melde Dich unter wochenmarkt@ig-oma.de
URL:https://www.ig-oma.de/event/wochenmarkt-am-bahnhof-2-2/2029-07-12/
LOCATION:Im Bahnhof\, Oberdorfer Bahnhofstraße 7\, Waltenhofen-Oberdorf\, Bayern\, 87448\, Deutschland
CATEGORIES:Regelmäßige Fahrten
ATTACH;FMTTYPE=image/jpeg:https://www.ig-oma.de/wordpress/wp-content/uploads/2024/09/imbahnhof_wochenmarkt_web-teaser_151005-625x417-1.jpg
END:VEVENT
BEGIN:VEVENT
DTSTART;TZID=Europe/Berlin:20290719T150000
DTEND;TZID=Europe/Berlin:20290719T180000
DTSTAMP:20260425T231757
CREATED:20240927T071516Z
LAST-MODIFIED:20251216T100853Z
UID:10003295-1879167600-1879178400@www.ig-oma.de
SUMMARY:Wochenmarkt „Am Bahnhof“
DESCRIPTION:Obst und Gemüse\, Backwaren\, Fisch\, Fleisch\, Wurst\, Käse und Eier\, Honig und Brotaufstriche — vieles bio\, alles regional! Du hast Ideen oder Vorschläge\, unser Sortiment zu erweitern? Schön! Melde Dich unter wochenmarkt@ig-oma.de
URL:https://www.ig-oma.de/event/wochenmarkt-am-bahnhof-2-2/2029-07-19/
LOCATION:Im Bahnhof\, Oberdorfer Bahnhofstraße 7\, Waltenhofen-Oberdorf\, Bayern\, 87448\, Deutschland
CATEGORIES:Regelmäßige Fahrten
ATTACH;FMTTYPE=image/jpeg:https://www.ig-oma.de/wordpress/wp-content/uploads/2024/09/imbahnhof_wochenmarkt_web-teaser_151005-625x417-1.jpg
END:VEVENT
BEGIN:VEVENT
DTSTART;TZID=Europe/Berlin:20290726T150000
DTEND;TZID=Europe/Berlin:20290726T180000
DTSTAMP:20260425T231757
CREATED:20240927T071516Z
LAST-MODIFIED:20251216T100853Z
UID:10003296-1879772400-1879783200@www.ig-oma.de
SUMMARY:Wochenmarkt „Am Bahnhof“
DESCRIPTION:Obst und Gemüse\, Backwaren\, Fisch\, Fleisch\, Wurst\, Käse und Eier\, Honig und Brotaufstriche — vieles bio\, alles regional! Du hast Ideen oder Vorschläge\, unser Sortiment zu erweitern? Schön! Melde Dich unter wochenmarkt@ig-oma.de
URL:https://www.ig-oma.de/event/wochenmarkt-am-bahnhof-2-2/2029-07-26/
LOCATION:Im Bahnhof\, Oberdorfer Bahnhofstraße 7\, Waltenhofen-Oberdorf\, Bayern\, 87448\, Deutschland
CATEGORIES:Regelmäßige Fahrten
ATTACH;FMTTYPE=image/jpeg:https://www.ig-oma.de/wordpress/wp-content/uploads/2024/09/imbahnhof_wochenmarkt_web-teaser_151005-625x417-1.jpg
END:VEVENT
BEGIN:VEVENT
DTSTART;TZID=Europe/Berlin:20290802T150000
DTEND;TZID=Europe/Berlin:20290802T180000
DTSTAMP:20260425T231757
CREATED:20240927T071516Z
LAST-MODIFIED:20251216T100853Z
UID:10003297-1880377200-1880388000@www.ig-oma.de
SUMMARY:Wochenmarkt „Am Bahnhof“
DESCRIPTION:Obst und Gemüse\, Backwaren\, Fisch\, Fleisch\, Wurst\, Käse und Eier\, Honig und Brotaufstriche — vieles bio\, alles regional! Du hast Ideen oder Vorschläge\, unser Sortiment zu erweitern? Schön! Melde Dich unter wochenmarkt@ig-oma.de
URL:https://www.ig-oma.de/event/wochenmarkt-am-bahnhof-2-2/2029-08-02/
LOCATION:Im Bahnhof\, Oberdorfer Bahnhofstraße 7\, Waltenhofen-Oberdorf\, Bayern\, 87448\, Deutschland
CATEGORIES:Regelmäßige Fahrten
ATTACH;FMTTYPE=image/jpeg:https://www.ig-oma.de/wordpress/wp-content/uploads/2024/09/imbahnhof_wochenmarkt_web-teaser_151005-625x417-1.jpg
END:VEVENT
BEGIN:VEVENT
DTSTART;TZID=Europe/Berlin:20290809T150000
DTEND;TZID=Europe/Berlin:20290809T180000
DTSTAMP:20260425T231757
CREATED:20240927T071516Z
LAST-MODIFIED:20251216T100853Z
UID:10003298-1880982000-1880992800@www.ig-oma.de
SUMMARY:Wochenmarkt „Am Bahnhof“
DESCRIPTION:Obst und Gemüse\, Backwaren\, Fisch\, Fleisch\, Wurst\, Käse und Eier\, Honig und Brotaufstriche — vieles bio\, alles regional! Du hast Ideen oder Vorschläge\, unser Sortiment zu erweitern? Schön! Melde Dich unter wochenmarkt@ig-oma.de
URL:https://www.ig-oma.de/event/wochenmarkt-am-bahnhof-2-2/2029-08-09/
LOCATION:Im Bahnhof\, Oberdorfer Bahnhofstraße 7\, Waltenhofen-Oberdorf\, Bayern\, 87448\, Deutschland
CATEGORIES:Regelmäßige Fahrten
ATTACH;FMTTYPE=image/jpeg:https://www.ig-oma.de/wordpress/wp-content/uploads/2024/09/imbahnhof_wochenmarkt_web-teaser_151005-625x417-1.jpg
END:VEVENT
BEGIN:VEVENT
DTSTART;TZID=Europe/Berlin:20290816T150000
DTEND;TZID=Europe/Berlin:20290816T180000
DTSTAMP:20260425T231757
CREATED:20240927T071516Z
LAST-MODIFIED:20251216T100853Z
UID:10003299-1881586800-1881597600@www.ig-oma.de
SUMMARY:Wochenmarkt „Am Bahnhof“
DESCRIPTION:Obst und Gemüse\, Backwaren\, Fisch\, Fleisch\, Wurst\, Käse und Eier\, Honig und Brotaufstriche — vieles bio\, alles regional! Du hast Ideen oder Vorschläge\, unser Sortiment zu erweitern? Schön! Melde Dich unter wochenmarkt@ig-oma.de
URL:https://www.ig-oma.de/event/wochenmarkt-am-bahnhof-2-2/2029-08-16/
LOCATION:Im Bahnhof\, Oberdorfer Bahnhofstraße 7\, Waltenhofen-Oberdorf\, Bayern\, 87448\, Deutschland
CATEGORIES:Regelmäßige Fahrten
ATTACH;FMTTYPE=image/jpeg:https://www.ig-oma.de/wordpress/wp-content/uploads/2024/09/imbahnhof_wochenmarkt_web-teaser_151005-625x417-1.jpg
END:VEVENT
BEGIN:VEVENT
DTSTART;TZID=Europe/Berlin:20290823T150000
DTEND;TZID=Europe/Berlin:20290823T180000
DTSTAMP:20260425T231757
CREATED:20240927T071516Z
LAST-MODIFIED:20251216T100853Z
UID:10003300-1882191600-1882202400@www.ig-oma.de
SUMMARY:Wochenmarkt „Am Bahnhof“
DESCRIPTION:Obst und Gemüse\, Backwaren\, Fisch\, Fleisch\, Wurst\, Käse und Eier\, Honig und Brotaufstriche — vieles bio\, alles regional! Du hast Ideen oder Vorschläge\, unser Sortiment zu erweitern? Schön! Melde Dich unter wochenmarkt@ig-oma.de
URL:https://www.ig-oma.de/event/wochenmarkt-am-bahnhof-2-2/2029-08-23/
LOCATION:Im Bahnhof\, Oberdorfer Bahnhofstraße 7\, Waltenhofen-Oberdorf\, Bayern\, 87448\, Deutschland
CATEGORIES:Regelmäßige Fahrten
ATTACH;FMTTYPE=image/jpeg:https://www.ig-oma.de/wordpress/wp-content/uploads/2024/09/imbahnhof_wochenmarkt_web-teaser_151005-625x417-1.jpg
END:VEVENT
BEGIN:VEVENT
DTSTART;TZID=Europe/Berlin:20290830T150000
DTEND;TZID=Europe/Berlin:20290830T180000
DTSTAMP:20260425T231757
CREATED:20240927T071516Z
LAST-MODIFIED:20251216T100853Z
UID:10003301-1882796400-1882807200@www.ig-oma.de
SUMMARY:Wochenmarkt „Am Bahnhof“
DESCRIPTION:Obst und Gemüse\, Backwaren\, Fisch\, Fleisch\, Wurst\, Käse und Eier\, Honig und Brotaufstriche — vieles bio\, alles regional! Du hast Ideen oder Vorschläge\, unser Sortiment zu erweitern? Schön! Melde Dich unter wochenmarkt@ig-oma.de
URL:https://www.ig-oma.de/event/wochenmarkt-am-bahnhof-2-2/2029-08-30/
LOCATION:Im Bahnhof\, Oberdorfer Bahnhofstraße 7\, Waltenhofen-Oberdorf\, Bayern\, 87448\, Deutschland
CATEGORIES:Regelmäßige Fahrten
ATTACH;FMTTYPE=image/jpeg:https://www.ig-oma.de/wordpress/wp-content/uploads/2024/09/imbahnhof_wochenmarkt_web-teaser_151005-625x417-1.jpg
END:VEVENT
BEGIN:VEVENT
DTSTART;TZID=Europe/Berlin:20290906T150000
DTEND;TZID=Europe/Berlin:20290906T180000
DTSTAMP:20260425T231757
CREATED:20240927T071516Z
LAST-MODIFIED:20251216T100853Z
UID:10003302-1883401200-1883412000@www.ig-oma.de
SUMMARY:Wochenmarkt „Am Bahnhof“
DESCRIPTION:Obst und Gemüse\, Backwaren\, Fisch\, Fleisch\, Wurst\, Käse und Eier\, Honig und Brotaufstriche — vieles bio\, alles regional! Du hast Ideen oder Vorschläge\, unser Sortiment zu erweitern? Schön! Melde Dich unter wochenmarkt@ig-oma.de
URL:https://www.ig-oma.de/event/wochenmarkt-am-bahnhof-2-2/2029-09-06/
LOCATION:Im Bahnhof\, Oberdorfer Bahnhofstraße 7\, Waltenhofen-Oberdorf\, Bayern\, 87448\, Deutschland
CATEGORIES:Regelmäßige Fahrten
ATTACH;FMTTYPE=image/jpeg:https://www.ig-oma.de/wordpress/wp-content/uploads/2024/09/imbahnhof_wochenmarkt_web-teaser_151005-625x417-1.jpg
END:VEVENT
BEGIN:VEVENT
DTSTART;TZID=Europe/Berlin:20290913T150000
DTEND;TZID=Europe/Berlin:20290913T180000
DTSTAMP:20260425T231757
CREATED:20240927T071516Z
LAST-MODIFIED:20251216T100853Z
UID:10003303-1884006000-1884016800@www.ig-oma.de
SUMMARY:Wochenmarkt „Am Bahnhof“
DESCRIPTION:Obst und Gemüse\, Backwaren\, Fisch\, Fleisch\, Wurst\, Käse und Eier\, Honig und Brotaufstriche — vieles bio\, alles regional! Du hast Ideen oder Vorschläge\, unser Sortiment zu erweitern? Schön! Melde Dich unter wochenmarkt@ig-oma.de
URL:https://www.ig-oma.de/event/wochenmarkt-am-bahnhof-2-2/2029-09-13/
LOCATION:Im Bahnhof\, Oberdorfer Bahnhofstraße 7\, Waltenhofen-Oberdorf\, Bayern\, 87448\, Deutschland
CATEGORIES:Regelmäßige Fahrten
ATTACH;FMTTYPE=image/jpeg:https://www.ig-oma.de/wordpress/wp-content/uploads/2024/09/imbahnhof_wochenmarkt_web-teaser_151005-625x417-1.jpg
END:VEVENT
BEGIN:VEVENT
DTSTART;TZID=Europe/Berlin:20290920T150000
DTEND;TZID=Europe/Berlin:20290920T180000
DTSTAMP:20260425T231757
CREATED:20240927T071516Z
LAST-MODIFIED:20251216T100853Z
UID:10003304-1884610800-1884621600@www.ig-oma.de
SUMMARY:Wochenmarkt „Am Bahnhof“
DESCRIPTION:Obst und Gemüse\, Backwaren\, Fisch\, Fleisch\, Wurst\, Käse und Eier\, Honig und Brotaufstriche — vieles bio\, alles regional! Du hast Ideen oder Vorschläge\, unser Sortiment zu erweitern? Schön! Melde Dich unter wochenmarkt@ig-oma.de
URL:https://www.ig-oma.de/event/wochenmarkt-am-bahnhof-2-2/2029-09-20/
LOCATION:Im Bahnhof\, Oberdorfer Bahnhofstraße 7\, Waltenhofen-Oberdorf\, Bayern\, 87448\, Deutschland
CATEGORIES:Regelmäßige Fahrten
ATTACH;FMTTYPE=image/jpeg:https://www.ig-oma.de/wordpress/wp-content/uploads/2024/09/imbahnhof_wochenmarkt_web-teaser_151005-625x417-1.jpg
END:VEVENT
BEGIN:VEVENT
DTSTART;TZID=Europe/Berlin:20290927T150000
DTEND;TZID=Europe/Berlin:20290927T180000
DTSTAMP:20260425T231757
CREATED:20240927T071516Z
LAST-MODIFIED:20251216T100853Z
UID:10003338-1885215600-1885226400@www.ig-oma.de
SUMMARY:Wochenmarkt „Am Bahnhof“
DESCRIPTION:Obst und Gemüse\, Backwaren\, Fisch\, Fleisch\, Wurst\, Käse und Eier\, Honig und Brotaufstriche — vieles bio\, alles regional! Du hast Ideen oder Vorschläge\, unser Sortiment zu erweitern? Schön! Melde Dich unter wochenmarkt@ig-oma.de
URL:https://www.ig-oma.de/event/wochenmarkt-am-bahnhof-2-2/2029-09-27/
LOCATION:Im Bahnhof\, Oberdorfer Bahnhofstraße 7\, Waltenhofen-Oberdorf\, Bayern\, 87448\, Deutschland
CATEGORIES:Regelmäßige Fahrten
ATTACH;FMTTYPE=image/jpeg:https://www.ig-oma.de/wordpress/wp-content/uploads/2024/09/imbahnhof_wochenmarkt_web-teaser_151005-625x417-1.jpg
END:VEVENT
BEGIN:VEVENT
DTSTART;TZID=Europe/Berlin:20291004T150000
DTEND;TZID=Europe/Berlin:20291004T180000
DTSTAMP:20260425T231757
CREATED:20240927T071516Z
LAST-MODIFIED:20251216T100853Z
UID:10003386-1885820400-1885831200@www.ig-oma.de
SUMMARY:Wochenmarkt „Am Bahnhof“
DESCRIPTION:Obst und Gemüse\, Backwaren\, Fisch\, Fleisch\, Wurst\, Käse und Eier\, Honig und Brotaufstriche — vieles bio\, alles regional! Du hast Ideen oder Vorschläge\, unser Sortiment zu erweitern? Schön! Melde Dich unter wochenmarkt@ig-oma.de
URL:https://www.ig-oma.de/event/wochenmarkt-am-bahnhof-2-2/2029-10-04/
LOCATION:Im Bahnhof\, Oberdorfer Bahnhofstraße 7\, Waltenhofen-Oberdorf\, Bayern\, 87448\, Deutschland
CATEGORIES:Regelmäßige Fahrten
ATTACH;FMTTYPE=image/jpeg:https://www.ig-oma.de/wordpress/wp-content/uploads/2024/09/imbahnhof_wochenmarkt_web-teaser_151005-625x417-1.jpg
END:VEVENT
BEGIN:VEVENT
DTSTART;TZID=Europe/Berlin:20291011T150000
DTEND;TZID=Europe/Berlin:20291011T180000
DTSTAMP:20260425T231757
CREATED:20240927T071516Z
LAST-MODIFIED:20251216T100853Z
UID:10003387-1886425200-1886436000@www.ig-oma.de
SUMMARY:Wochenmarkt „Am Bahnhof“
DESCRIPTION:Obst und Gemüse\, Backwaren\, Fisch\, Fleisch\, Wurst\, Käse und Eier\, Honig und Brotaufstriche — vieles bio\, alles regional! Du hast Ideen oder Vorschläge\, unser Sortiment zu erweitern? Schön! Melde Dich unter wochenmarkt@ig-oma.de
URL:https://www.ig-oma.de/event/wochenmarkt-am-bahnhof-2-2/2029-10-11/
LOCATION:Im Bahnhof\, Oberdorfer Bahnhofstraße 7\, Waltenhofen-Oberdorf\, Bayern\, 87448\, Deutschland
CATEGORIES:Regelmäßige Fahrten
ATTACH;FMTTYPE=image/jpeg:https://www.ig-oma.de/wordpress/wp-content/uploads/2024/09/imbahnhof_wochenmarkt_web-teaser_151005-625x417-1.jpg
END:VEVENT
BEGIN:VEVENT
DTSTART;TZID=Europe/Berlin:20291018T150000
DTEND;TZID=Europe/Berlin:20291018T180000
DTSTAMP:20260425T231757
CREATED:20240927T071516Z
LAST-MODIFIED:20251216T100853Z
UID:10003388-1887030000-1887040800@www.ig-oma.de
SUMMARY:Wochenmarkt „Am Bahnhof“
DESCRIPTION:Obst und Gemüse\, Backwaren\, Fisch\, Fleisch\, Wurst\, Käse und Eier\, Honig und Brotaufstriche — vieles bio\, alles regional! Du hast Ideen oder Vorschläge\, unser Sortiment zu erweitern? Schön! Melde Dich unter wochenmarkt@ig-oma.de
URL:https://www.ig-oma.de/event/wochenmarkt-am-bahnhof-2-2/2029-10-18/
LOCATION:Im Bahnhof\, Oberdorfer Bahnhofstraße 7\, Waltenhofen-Oberdorf\, Bayern\, 87448\, Deutschland
CATEGORIES:Regelmäßige Fahrten
ATTACH;FMTTYPE=image/jpeg:https://www.ig-oma.de/wordpress/wp-content/uploads/2024/09/imbahnhof_wochenmarkt_web-teaser_151005-625x417-1.jpg
END:VEVENT
BEGIN:VEVENT
DTSTART;TZID=Europe/Berlin:20291025T150000
DTEND;TZID=Europe/Berlin:20291025T180000
DTSTAMP:20260425T231757
CREATED:20240927T071516Z
LAST-MODIFIED:20251216T100853Z
UID:10003389-1887634800-1887645600@www.ig-oma.de
SUMMARY:Wochenmarkt „Am Bahnhof“
DESCRIPTION:Obst und Gemüse\, Backwaren\, Fisch\, Fleisch\, Wurst\, Käse und Eier\, Honig und Brotaufstriche — vieles bio\, alles regional! Du hast Ideen oder Vorschläge\, unser Sortiment zu erweitern? Schön! Melde Dich unter wochenmarkt@ig-oma.de
URL:https://www.ig-oma.de/event/wochenmarkt-am-bahnhof-2-2/2029-10-25/
LOCATION:Im Bahnhof\, Oberdorfer Bahnhofstraße 7\, Waltenhofen-Oberdorf\, Bayern\, 87448\, Deutschland
CATEGORIES:Regelmäßige Fahrten
ATTACH;FMTTYPE=image/jpeg:https://www.ig-oma.de/wordpress/wp-content/uploads/2024/09/imbahnhof_wochenmarkt_web-teaser_151005-625x417-1.jpg
END:VEVENT
BEGIN:VEVENT
DTSTART;TZID=Europe/Berlin:20291101T150000
DTEND;TZID=Europe/Berlin:20291101T180000
DTSTAMP:20260425T231757
CREATED:20240927T071516Z
LAST-MODIFIED:20251216T100853Z
UID:10003488-1888239600-1888250400@www.ig-oma.de
SUMMARY:Wochenmarkt „Am Bahnhof“
DESCRIPTION:Obst und Gemüse\, Backwaren\, Fisch\, Fleisch\, Wurst\, Käse und Eier\, Honig und Brotaufstriche — vieles bio\, alles regional! Du hast Ideen oder Vorschläge\, unser Sortiment zu erweitern? Schön! Melde Dich unter wochenmarkt@ig-oma.de
URL:https://www.ig-oma.de/event/wochenmarkt-am-bahnhof-2-2/2029-11-01/
LOCATION:Im Bahnhof\, Oberdorfer Bahnhofstraße 7\, Waltenhofen-Oberdorf\, Bayern\, 87448\, Deutschland
CATEGORIES:Regelmäßige Fahrten
ATTACH;FMTTYPE=image/jpeg:https://www.ig-oma.de/wordpress/wp-content/uploads/2024/09/imbahnhof_wochenmarkt_web-teaser_151005-625x417-1.jpg
END:VEVENT
BEGIN:VEVENT
DTSTART;TZID=Europe/Berlin:20291108T150000
DTEND;TZID=Europe/Berlin:20291108T180000
DTSTAMP:20260425T231757
CREATED:20240927T071516Z
LAST-MODIFIED:20251216T100853Z
UID:10003489-1888844400-1888855200@www.ig-oma.de
SUMMARY:Wochenmarkt „Am Bahnhof“
DESCRIPTION:Obst und Gemüse\, Backwaren\, Fisch\, Fleisch\, Wurst\, Käse und Eier\, Honig und Brotaufstriche — vieles bio\, alles regional! Du hast Ideen oder Vorschläge\, unser Sortiment zu erweitern? Schön! Melde Dich unter wochenmarkt@ig-oma.de
URL:https://www.ig-oma.de/event/wochenmarkt-am-bahnhof-2-2/2029-11-08/
LOCATION:Im Bahnhof\, Oberdorfer Bahnhofstraße 7\, Waltenhofen-Oberdorf\, Bayern\, 87448\, Deutschland
CATEGORIES:Regelmäßige Fahrten
ATTACH;FMTTYPE=image/jpeg:https://www.ig-oma.de/wordpress/wp-content/uploads/2024/09/imbahnhof_wochenmarkt_web-teaser_151005-625x417-1.jpg
END:VEVENT
BEGIN:VEVENT
DTSTART;TZID=Europe/Berlin:20291115T150000
DTEND;TZID=Europe/Berlin:20291115T180000
DTSTAMP:20260425T231757
CREATED:20240927T071516Z
LAST-MODIFIED:20251216T100853Z
UID:10003490-1889449200-1889460000@www.ig-oma.de
SUMMARY:Wochenmarkt „Am Bahnhof“
DESCRIPTION:Obst und Gemüse\, Backwaren\, Fisch\, Fleisch\, Wurst\, Käse und Eier\, Honig und Brotaufstriche — vieles bio\, alles regional! Du hast Ideen oder Vorschläge\, unser Sortiment zu erweitern? Schön! Melde Dich unter wochenmarkt@ig-oma.de
URL:https://www.ig-oma.de/event/wochenmarkt-am-bahnhof-2-2/2029-11-15/
LOCATION:Im Bahnhof\, Oberdorfer Bahnhofstraße 7\, Waltenhofen-Oberdorf\, Bayern\, 87448\, Deutschland
CATEGORIES:Regelmäßige Fahrten
ATTACH;FMTTYPE=image/jpeg:https://www.ig-oma.de/wordpress/wp-content/uploads/2024/09/imbahnhof_wochenmarkt_web-teaser_151005-625x417-1.jpg
END:VEVENT
BEGIN:VEVENT
DTSTART;TZID=Europe/Berlin:20291122T150000
DTEND;TZID=Europe/Berlin:20291122T180000
DTSTAMP:20260425T231757
CREATED:20240927T071516Z
LAST-MODIFIED:20251216T100853Z
UID:10003491-1890054000-1890064800@www.ig-oma.de
SUMMARY:Wochenmarkt „Am Bahnhof“
DESCRIPTION:Obst und Gemüse\, Backwaren\, Fisch\, Fleisch\, Wurst\, Käse und Eier\, Honig und Brotaufstriche — vieles bio\, alles regional! Du hast Ideen oder Vorschläge\, unser Sortiment zu erweitern? Schön! Melde Dich unter wochenmarkt@ig-oma.de
URL:https://www.ig-oma.de/event/wochenmarkt-am-bahnhof-2-2/2029-11-22/
LOCATION:Im Bahnhof\, Oberdorfer Bahnhofstraße 7\, Waltenhofen-Oberdorf\, Bayern\, 87448\, Deutschland
CATEGORIES:Regelmäßige Fahrten
ATTACH;FMTTYPE=image/jpeg:https://www.ig-oma.de/wordpress/wp-content/uploads/2024/09/imbahnhof_wochenmarkt_web-teaser_151005-625x417-1.jpg
END:VEVENT
BEGIN:VEVENT
DTSTART;TZID=Europe/Berlin:20291129T150000
DTEND;TZID=Europe/Berlin:20291129T180000
DTSTAMP:20260425T231757
CREATED:20240927T071516Z
LAST-MODIFIED:20251216T100853Z
UID:10003492-1890658800-1890669600@www.ig-oma.de
SUMMARY:Wochenmarkt „Am Bahnhof“
DESCRIPTION:Obst und Gemüse\, Backwaren\, Fisch\, Fleisch\, Wurst\, Käse und Eier\, Honig und Brotaufstriche — vieles bio\, alles regional! Du hast Ideen oder Vorschläge\, unser Sortiment zu erweitern? Schön! Melde Dich unter wochenmarkt@ig-oma.de
URL:https://www.ig-oma.de/event/wochenmarkt-am-bahnhof-2-2/2029-11-29/
LOCATION:Im Bahnhof\, Oberdorfer Bahnhofstraße 7\, Waltenhofen-Oberdorf\, Bayern\, 87448\, Deutschland
CATEGORIES:Regelmäßige Fahrten
ATTACH;FMTTYPE=image/jpeg:https://www.ig-oma.de/wordpress/wp-content/uploads/2024/09/imbahnhof_wochenmarkt_web-teaser_151005-625x417-1.jpg
END:VEVENT
BEGIN:VEVENT
DTSTART;TZID=Europe/Berlin:20291206T150000
DTEND;TZID=Europe/Berlin:20291206T180000
DTSTAMP:20260425T231758
CREATED:20240927T071516Z
LAST-MODIFIED:20251216T100853Z
UID:10003958-1891263600-1891274400@www.ig-oma.de
SUMMARY:Wochenmarkt „Am Bahnhof“
DESCRIPTION:Obst und Gemüse\, Backwaren\, Fisch\, Fleisch\, Wurst\, Käse und Eier\, Honig und Brotaufstriche — vieles bio\, alles regional! Du hast Ideen oder Vorschläge\, unser Sortiment zu erweitern? Schön! Melde Dich unter wochenmarkt@ig-oma.de
URL:https://www.ig-oma.de/event/wochenmarkt-am-bahnhof-2-2/2029-12-06/
LOCATION:Im Bahnhof\, Oberdorfer Bahnhofstraße 7\, Waltenhofen-Oberdorf\, Bayern\, 87448\, Deutschland
CATEGORIES:Regelmäßige Fahrten
ATTACH;FMTTYPE=image/jpeg:https://www.ig-oma.de/wordpress/wp-content/uploads/2024/09/imbahnhof_wochenmarkt_web-teaser_151005-625x417-1.jpg
END:VEVENT
BEGIN:VEVENT
DTSTART;TZID=Europe/Berlin:20291213T150000
DTEND;TZID=Europe/Berlin:20291213T180000
DTSTAMP:20260425T231758
CREATED:20240927T071516Z
LAST-MODIFIED:20251216T100853Z
UID:10003959-1891868400-1891879200@www.ig-oma.de
SUMMARY:Wochenmarkt „Am Bahnhof“
DESCRIPTION:Obst und Gemüse\, Backwaren\, Fisch\, Fleisch\, Wurst\, Käse und Eier\, Honig und Brotaufstriche — vieles bio\, alles regional! Du hast Ideen oder Vorschläge\, unser Sortiment zu erweitern? Schön! Melde Dich unter wochenmarkt@ig-oma.de
URL:https://www.ig-oma.de/event/wochenmarkt-am-bahnhof-2-2/2029-12-13/
LOCATION:Im Bahnhof\, Oberdorfer Bahnhofstraße 7\, Waltenhofen-Oberdorf\, Bayern\, 87448\, Deutschland
CATEGORIES:Regelmäßige Fahrten
ATTACH;FMTTYPE=image/jpeg:https://www.ig-oma.de/wordpress/wp-content/uploads/2024/09/imbahnhof_wochenmarkt_web-teaser_151005-625x417-1.jpg
END:VEVENT
END:VCALENDAR